Workbook
Name _ftn1: 'Szakmajegyzék 2021.09.01-től'!$A$186
Name _ftn10: 'Szakmajegyzék 2021.09.01-től'!$A$195
Name _ftn11: 'Szakmajegyzék 2021.09.01-től'!$A$196
Name _ftn12: 'Szakmajegyzék 2021.09.01-től'!$A$197
Name _ftn13: 'Szakmajegyzék 2021.09.01-től'!$A$198
Name _ftn14: 'Szakmajegyzék 2021.09.01-től'!$A$199
Name _ftn15: 'Szakmajegyzék 2021.09.01-től'!$A$200
Name _ftn16: 'Szakmajegyzék 2021.09.01-től'!$A$201
Name _ftn17: 'Szakmajegyzék 2021.09.01-től'!$A$202
Name _ftn18: 'Szakmajegyzék 2021.09.01-től'!$A$203
Name _ftn19: 'Szakmajegyzék 2021.09.01-től'!$A$204
Name _ftn2: 'Szakmajegyzék 2021.09.01-től'!$A$187
Name _ftn20: 'Szakmajegyzék 2021.09.01-től'!$A$205
Name _ftn21: 'Szakmajegyzék 2021.09.01-től'!$A$206
Name _ftn22: 'Szakmajegyzék 2021.09.01-től'!$A$207
Name _ftn23: 'Szakmajegyzék 2021.09.01-től'!$A$208
Name _ftn24: 'Szakmajegyzék 2021.09.01-től'!$A$209
Name _ftn25: 'Szakmajegyzék 2021.09.01-től'!$A$210
Name _ftn26: 'Szakmajegyzék 2021.09.01-től'!$A$211
Name _ftn27: 'Szakmajegyzék 2021.09.01-től'!$A$212
Name _ftn28: 'Szakmajegyzék 2021.09.01-től'!$A$213
Name _ftn29: 'Szakmajegyzék 2021.09.01-től'!$A$214
Name _ftn3: 'Szakmajegyzék 2021.09.01-től'!$A$188
Name _ftn30: 'Szakmajegyzék 2021.09.01-től'!$A$215
Name _ftn31: 'Szakmajegyzék 2021.09.01-től'!$A$216
Name _ftn32: 'Szakmajegyzék 2021.09.01-től'!$A$217
Name _ftn33: 'Szakmajegyzék 2021.09.01-től'!$A$218
Name _ftn4: 'Szakmajegyzék 2021.09.01-től'!$A$189
Name _ftn5: 'Szakmajegyzék 2021.09.01-től'!$A$190
Name _ftn6: 'Szakmajegyzék 2021.09.01-től'!$A$191
Name _ftn7: 'Szakmajegyzék 2021.09.01-től'!$A$192
Name _ftn8: 'Szakmajegyzék 2021.09.01-től'!$A$193
Name _ftn9: 'Szakmajegyzék 2021.09.01-től'!$A$194
Name _ftnref1: 'Szakmajegyzék 2021.09.01-től'!$A$17
Name _ftnref10: 'Szakmajegyzék 2021.09.01-től'!$A$107
Name _ftnref11: 'Szakmajegyzék 2021.09.01-től'!$A$108
Name _ftnref12: 'Szakmajegyzék 2021.09.01-től'!$A$109
Name _ftnref13: 'Szakmajegyzék 2021.09.01-től'!$A$110
Name _ftnref14: 'Szakmajegyzék 2021.09.01-től'!$A$111
Name _ftnref15: 'Szakmajegyzék 2021.09.01-től'!$A$112
Name _ftnref16: 'Szakmajegyzék 2021.09.01-től'!$A$113
Name _ftnref17: 'Szakmajegyzék 2021.09.01-től'!$A$114
Name _ftnref18: 'Szakmajegyzék 2021.09.01-től'!$A$115
Name _ftnref19: 'Szakmajegyzék 2021.09.01-től'!$A$116
Name _ftnref2: 'Szakmajegyzék 2021.09.01-től'!$A$18
Name _ftnref20: 'Szakmajegyzék 2021.09.01-től'!$A$117
Name _ftnref21: 'Szakmajegyzék 2021.09.01-től'!$A$118
Name _ftnref22: 'Szakmajegyzék 2021.09.01-től'!$A$119
Name _ftnref23: 'Szakmajegyzék 2021.09.01-től'!$A$120
Name _ftnref24: 'Szakmajegyzék 2021.09.01-től'!$A$121
Name _ftnref25: 'Szakmajegyzék 2021.09.01-től'!$A$122
Name _ftnref26: 'Szakmajegyzék 2021.09.01-től'!$A$123
Name _ftnref27: 'Szakmajegyzék 2021.09.01-től'!$A$124
Name _ftnref28: 'Szakmajegyzék 2021.09.01-től'!$A$125
Name _ftnref29: 'Szakmajegyzék 2021.09.01-től'!$A$126
Name _ftnref3: 'Szakmajegyzék 2021.09.01-től'!$A$20
Name _ftnref30: 'Szakmajegyzék 2021.09.01-től'!$A$127
Name _ftnref31: 'Szakmajegyzék 2021.09.01-től'!$A$128
Name _ftnref32: 'Szakmajegyzék 2021.09.01-től'!$A$138
Name _ftnref33: 'Szakmajegyzék 2021.09.01-től'!$A$148

Sheet Nyitó kérelem összesítő
B2: Kérelem normatív támogatás biztosítására, szakképző intézmények szakképzésről szóló törvény szerinti ingyenes képzéseinek - a fejezeti kezelésű előirányzatok és központi kezelésű előirányzatok kezeléséről és felhasználásáról szóló 14/2019. (VI. 12.) ITM rendelet szerinti - kiegészítő finanszírozása érdekében
A3: 2021. évi nyitó támogatási időszak
B5: A kérelmet benyújtó szervezet
B6: megnevezése: | C6: =IFERROR(VLOOKUP(INDIRECT("Szakmai_oktatás_1!B4"),'Kedvezményezettek adatai'!$C$2:$D$51,2,0),"")
B7: székhelye: | C7: =IFERROR(VLOOKUP(C6,'Kedvezményezettek adatai'!D2:G51,4,0),"")
B8: adószáma: | C8: =IFERROR(VLOOKUP(C6,'Kedvezményezettek adatai'!$D$2:$E$51,2,0),"")
B9: képviselője, beosztása: | C9: =B32&" "&B33
B10: számlavezetője: | C10: Magyar Államkincstár
B11: fizetési számlaszáma: | C11: =IFERROR(VLOOKUP(C6,'Kedvezményezettek adatai'!D2:AM51,36,0),"")
B12: kapcsolattartója, beosztása: | C12: =IFERROR(VLOOKUP(C6,'Kedvezményezettek adatai'!D2:M51,10,0),"")
B13: kapcsolattartójának elérhetősége (telefon, e-mail cím): | C13: =IFERROR(VLOOKUP(C6,'Kedvezményezettek adatai'!D2:N51,11,0),"")
B15: Adatok | C15: Képzésben tervezetten részt vevő személyek száma | D15: Támogatási előleg összege (ezer forintra kerekítve)
B16: Szakmai oktatás | C16: =Szakmai_oktatás_1!F2+Szakmai_oktatás_1!G2 -> 0 | D16: =ROUND(Szakmai_oktatás_1!M2,-3) -> 0
B17: Szakmai képzés | C17: =IFERROR(Szakmai_képzés_1!J2+Szakmai_képzés_1!K2,0) -> 0 | D17: =IFERROR(ROUND(Szakmai_képzés_1!Q2,-3),0) -> 0
B18: Egyéb képzés | C18: =IFERROR(Egyéb_képzés_1!F2,0) -> 0 | D18: =IFERROR(ROUND(Egyéb_képzés_1!I2,-3),0) -> 0
B19: Felnőttoktatás - szakképzés és egyéb képzés | C19: ='Felnőttokt._Szakk.+Egyéb_képz_1'!G2 -> 0 | D19: =ROUND('Felnőttokt._Szakk.+Egyéb_képz_1'!O2,-3) -> 0
B20: Összesen | C20: =SUM(C16:C19) -> 0 | D20: =SUM(D16:D19) -> 0
B22: =VLOOKUP(C6,'Kedvezményezettek adatai'!$D$2:$T$51,17,0)&", 2021. január" -> #N/A
B24: Mellékletek:
B25: 1. Szakmai oktatás részletes adatai
B26: ="2. "&IF(C17>0,"Szakmai képzés részletes adatai",IF(C18>0,"Egyéb képzés részletes adatai",IF(AND(C17=0,C18=0),"Felnőttoktatás részletes adatai"))) -> 2. Felnőttoktatás részletes adatai
B27: =IF(AND(C17>0,C18>0),"3. Egyéb képzés részletes adatai",IF(OR(AND(C17=0,C18>0),AND(C17>0,C18=0)),"3. Felnőttoktatás részletes adatai",""))
B28: =IF(AND(C17>0,C18>0),"4. Felnőttoktatás részletes adatai","")
B30: P.H.
B31: …………………………….
B32: =IFERROR(VLOOKUP(B34,'Kedvezményezettek adatai'!$D$2:$H$51,5,0),"")
B33: =IFERROR(VLOOKUP(B34,'Kedvezményezettek adatai'!$D$2:$I$51,6,0),"")
B34: =IFERROR(IF(C6="","",C6),"")

Sheet Nyitó elszámolás összesítő
B2: Rész-elszámolás normatív támogatásról, a szakképző intézmények szakképzésről szóló törvény szerinti ingyenes képzéseinek - a fejezeti kezelésű előirányzatok és központi kezelésű előirányzatok kezeléséről és felhasználásáról szóló 14/2019. (VI. 12.) ITM rendelet szerinti - kiegészítő finanszírozása tekintetében
A3: 2021. évi nyitó támogatási időszak
B5: Az elszámolást benyújtó szervezet
B6: megnevezése: | C6: =IFERROR(VLOOKUP(INDIRECT("Szakmai_oktatás_1!B4"),'Kedvezményezettek adatai'!$C$2:$D$51,2,0),"")
B7: székhelye: | C7: =IFERROR(VLOOKUP(C6,'Kedvezményezettek adatai'!D2:G51,4,0),"")
B8: adószáma: | C8: =IFERROR(VLOOKUP(C6,'Kedvezményezettek adatai'!$D$2:$E$51,2,0),"")
B9: képviselője, beosztása: | C9: =E33&" "&E34
B10: számlavezetője: | C10: =IFERROR(VLOOKUP(C6,'Kedvezményezettek adatai'!D2:AN51,37,0),"")
B11: fizetési számlaszáma: | C11: =IFERROR(VLOOKUP(C6,'Kedvezményezettek adatai'!D2:AM51,36,0),"")
B12: kapcsolattartója, beosztása: | C12: =IFERROR(VLOOKUP(C6,'Kedvezményezettek adatai'!D2:M51,10,0),"")
B13: kapcsolattartójának elérhetősége (telefon, e-mail cím): | C13: =IFERROR(VLOOKUP(C6,'Kedvezményezettek adatai'!D2:N51,11,0),"")
B15: Adatok | C15: Képzésben tervezetten részt vevő személyek száma a kérelem alapján (fő) | D15: Támogatási előleg összege a kérelem alapján (ezer forintra kerekítve) (Ft) | E15: Képzésben ténylegesen részt vevő személyek száma az elszámolás alapján (fő) | F15: Összesen elszámolt támogatási összeg (ezer forintra kerekítve) (Ft)
B16: Szakmai oktatás | C16: =Szakmai_oktatás_1!F2+Szakmai_oktatás_1!G2 -> 0 | D16: =ROUND(Szakmai_oktatás_1!M2,-3) -> 0 | E16: =Szakmai_oktatás_1!N2 -> 0 | F16: =Szakmai_oktatás_1!S2 -> 0
B17: Szakmai képzés | C17: =Szakmai_képzés_1!J2+Szakmai_képzés_1!K2 -> 0 | D17: =ROUND(Szakmai_képzés_1!Q2,-3) -> 0 | E17: =Szakmai_képzés_1!R2 -> 0 | F17: =Szakmai_képzés_1!Y2 -> 0
B18: Egyéb képzés | C18: =Egyéb_képzés_1!F2 -> 0 | D18: =Egyéb_képzés_1!I2 -> 0 | E18: =Egyéb_képzés_1!J2 -> 0 | F18: =Egyéb_képzés_1!K2 -> 0
B19: Továbbfutó felnőttoktatás - szakképzés és egyéb képzés | C19: ='Felnőttokt._Szakk.+Egyéb_képz_1'!G2 -> 0 | D19: =ROUND('Felnőttokt._Szakk.+Egyéb_képz_1'!O2,-3) -> 0 | E19: ='Felnőttokt._Szakk.+Egyéb_képz_1'!P2 -> 0 | F19: ='Felnőttokt._Szakk.+Egyéb_képz_1'!Q2 -> 0
B20: Összesen (Ft) | C20: =SUM(C16:C19) -> 0 | D20: =SUM(D16:D19) -> 0 | E20: =SUM(E16:E19) -> 0 | F20: =SUM(F16:F19) -> 0
B21: A támogatás rész-elszámolás szerinti egyenlege (Ft) / amennyiben ez az összeg a záró elszámolás alapján pozitív összeg lesz, az visszafizetési kötelezettséget, ha negatív összeg, az kiegészítő támogatást jelent / A rész-elszámolás alapján nem történik egyenlegrendezés. | F21: =ROUND(D20-F20,-3) -> 0
B23: =VLOOKUP(C6,'Kedvezményezettek adatai'!$D$2:$T$51,17,0)&", 2021. szeptember" -> #N/A
B25: Mellékletek:
B26: 1. Szakmai oktatás részletes adatai
B27: 2. Szakmai képzés részletes adatai
B28: 3. Egyéb képzés részletes adatai
B29: 4. Felnőttoktatás részletes adatai
D31: P.H.
E32: …………………………….
E33: =IFERROR(VLOOKUP(E35,'Kedvezményezettek adatai'!$D$2:$H$51,5,0),"")
E34: =IFERROR(VLOOKUP(E35,'Kedvezményezettek adatai'!$D$2:$I$51,6,0),"")
E35: =IFERROR(IF(C6="","",C6),"")

Sheet Szakmai_oktatás_1
A1: 2021. nyitó támogatási időszak | E1: ALAPADATOK | L1: TÁMOGATÁS SZÁMÍTÁS | P1: ELSZÁMOLÁS | U1: KITÖLTÉS UTÁNI LOGIKAI ELLENŐRZÉSEK
A2: ÖSSZESÍTŐK SORA | C2: MÉG KITÖLTENDŐ CELLÁK SZÁMA ÖSSZESEN: | D2: =COUNTBLANK(A4:G53) -> 350 | F2: =SUM(F4:F53) -> 0 | G2: =SUM(G4:G53) -> 0 | L2: =SUM(L4:L53) -> 0 | M2: =SUM(M4:M53) -> 0 | N2: =SUM(N4:N53) -> 0 | O2: =SUM(O4:O53) -> 0 | P2: =SUM(P4:P53) -> 0 | Q2: =SUM(Q4:Q53) -> 0 | R2: =SUM(R4:R53) -> 0 | S2: =SUM(S4:S53) -> 0 | U2: ="LOGIKAI HIBÁK SZÁMA: "&V2 -> LOGIKAI HIBÁK SZÁMA: 0 | V2: =COUNTIF(T4:T53,"Az ''F'' és/vagy az ''N'' oszlop értéke hibás! Kérjük balról jobbra haladva adja meg a helyes értékeket.")+COUNTIF(U4:U53,"Az ''N'' és/vagy az ''O'' oszlop értéke hibás! Kérjük balról jobbra haladva adja meg a helyes értékeket.")+COUNTIF(V4:V53,"Az ''O'' és/vagy a ''P'' oszlop értéke hibás! Kérjük balról jobbra haladva adja meg a helyes értékeket.") -> 0
A3: Szakképzési centrum vagy szakképző intézmény fenntartójának neve (lenyíló menü) | B3: Kedvezményezett neve (lenyíló menü) | C3: Szakképző intézmény neve (lenyíló menü) | D3: Szakmai oktatás kezdete (lenyíló menü) | E3: Szakma megnevezése (lenyíló menü) | F3: Felnőttképzési szerződéssel rendelkező, képzésben részt vevő személyek száma (fő) | G3: Tervezett szakmai oktatás esetén a felnőttképzési szerződéssel még nem rendelkező, képzésben részt vevő személyek tervezett száma (fő) | H3: Ágazat megnevezése | I3: Szakma száma | J3: Egy főre eső elvi normatíva a szakmai oktatás teljes időszakára (Ft) | K3: Egy főre eső elvi normatíva a támogatási időszakra (Ft) | L3: Elvi támogatási összeg a támogatási időszakra (létszám * egy főre eső elvi normatíva) (Ft) | M3: Számított támogatási előleg a támogatási időszakra (Ft) | N3: A szakmai oktatásban felnőttképzési szerződéssel ténylegesen részt vett személyek összlétszáma (fő) | O3: A szakmai oktatásban felnőttképzési szerződéssel ténylegesen részt vett személyek támogatási időszak végi záró létszáma (fő) | P3: A szakmai oktatást sikeres vizsgával zárók létszáma (fő) | Q3: Elszámolt támogatási összeg a szakmai oktatásban részt vettek létszáma alapján (az éves elszámolás során kerül érvényesítésre) (Ft) | R3: Elszámolt támogatási összeg a sikeres vizsgázók létszáma alapján (az éves elszámolás során kerül érvényesítésre) (Ft) | S3: Elszámolt támogatási összeg összesen (Ft) | T3: Kitöltés utáni logikai ellenőrzés 1 | U3: Kitöltés utáni logikai ellenőrzés 2 | V3: Kitöltés utáni logikai ellenőrzés 3
H4: =IFERROR(VLOOKUP(E4,'Szakmajegyzék 2021.I.1-'!$B$7:$C$181,2,0),"") | I4: =IFERROR(VLOOKUP(E4,'Szakmajegyzék 2021.I.1-'!$B$7:$K$181,10,0),"") | J4: =IFERROR(VLOOKUP(E4,'Szakmajegyzék 2021.I.1-'!$L$7:$R$181,6,0),"") | K4: =IFERROR(VLOOKUP(E4,'Szakmajegyzék 2021.I.1-'!$L$7:$R$181,7,0)*('Támogatás szorzat tényezői'!$C$15/'Támogatás szorzat tényezői'!$C$14),"") | L4: =IFERROR((F4+G4)*K4,"") | M4: =IFERROR((F4*K4*'Támogatás szorzat tényezői'!$C$7)+(G4*K4*'Támogatás szorzat tényezői'!$C$7*'Támogatás szorzat tényezői'!$C$8),"") | Q4: =IF(N4="","",K4*'Támogatás szorzat tényezői'!$C$7*N4) | R4: =IF(P4="","",J4*(1-'Támogatás szorzat tényezői'!$C$7)*P4) | S4: =IFERROR(Q4+R4,"") | T4: =IF(OR(F4="",N4=""),"",IF(N4<F4,"Az ''F'' és/vagy az ''N'' oszlop értéke hibás! Kérjük balról jobbra haladva adja meg a helyes értékeket.","")) | U4: =IF(OR(N4="",O4=""),"",IF(O4>N4,"Az ''N'' és/vagy az ''O'' oszlop értéke hibás! Kérjük balról jobbra haladva adja meg a helyes értékeket.","")) | V4: =IF(OR(O4="",P4=""),"",IF(P4>O4,"Az ''O'' és/vagy a ''P'' oszlop értéke hibás! Kérjük balról jobbra haladva adja meg a helyes értékeket.",""))
H5: =IFERROR(VLOOKUP(E5,'Szakmajegyzék 2021.I.1-'!$B$7:$C$181,2,0),"") | I5: =IFERROR(VLOOKUP(E5,'Szakmajegyzék 2021.I.1-'!$B$7:$K$181,10,0),"") | J5: =IFERROR(VLOOKUP(E5,'Szakmajegyzék 2021.I.1-'!$L$7:$R$181,6,0),"") | K5: =IFERROR(VLOOKUP(E5,'Szakmajegyzék 2021.I.1-'!$L$7:$R$181,7,0)*('Támogatás szorzat tényezői'!$C$15/'Támogatás szorzat tényezői'!$C$14),"") | L5: =IFERROR((F5+G5)*K5,"") | M5: =IFERROR((F5*K5*'Támogatás szorzat tényezői'!$C$7)+(G5*K5*'Támogatás szorzat tényezői'!$C$7*'Támogatás szorzat tényezői'!$C$8),"") | Q5: =IF(N5="","",K5*'Támogatás szorzat tényezői'!$C$7*N5) | R5: =IF(P5="","",J5*(1-'Támogatás szorzat tényezői'!$C$7)*P5) | S5: =IFERROR(Q5+R5,"") | T5: =IF(OR(F5="",N5=""),"",IF(N5<F5,"Az ''F'' és/vagy az ''N'' oszlop értéke hibás! Kérjük balról jobbra haladva adja meg a helyes értékeket.","")) | U5: =IF(OR(N5="",O5=""),"",IF(O5>N5,"Az ''N'' és/vagy az ''O'' oszlop értéke hibás! Kérjük balról jobbra haladva adja meg a helyes értékeket.","")) | V5: =IF(OR(O5="",P5=""),"",IF(P5>O5,"Az ''O'' és/vagy a ''P'' oszlop értéke hibás! Kérjük balról jobbra haladva adja meg a helyes értékeket.",""))
H6: =IFERROR(VLOOKUP(E6,'Szakmajegyzék 2021.I.1-'!$B$7:$C$181,2,0),"") | I6: =IFERROR(VLOOKUP(E6,'Szakmajegyzék 2021.I.1-'!$B$7:$K$181,10,0),"") | J6: =IFERROR(VLOOKUP(E6,'Szakmajegyzék 2021.I.1-'!$L$7:$R$181,6,0),"") | K6: =IFERROR(VLOOKUP(E6,'Szakmajegyzék 2021.I.1-'!$L$7:$R$181,7,0)*('Támogatás szorzat tényezői'!$C$15/'Támogatás szorzat tényezői'!$C$14),"") | L6: =IFERROR((F6+G6)*K6,"") | M6: =IFERROR((F6*K6*'Támogatás szorzat tényezői'!$C$7)+(G6*K6*'Támogatás szorzat tényezői'!$C$7*'Támogatás szorzat tényezői'!$C$8),"") | Q6: =IF(N6="","",K6*'Támogatás szorzat tényezői'!$C$7*N6) | R6: =IF(P6="","",J6*(1-'Támogatás szorzat tényezői'!$C$7)*P6) | S6: =IFERROR(Q6+R6,"") | T6: =IF(OR(F6="",N6=""),"",IF(N6<F6,"Az ''F'' és/vagy az ''N'' oszlop értéke hibás! Kérjük balról jobbra haladva adja meg a helyes értékeket.","")) | U6: =IF(OR(N6="",O6=""),"",IF(O6>N6,"Az ''N'' és/vagy az ''O'' oszlop értéke hibás! Kérjük balról jobbra haladva adja meg a helyes értékeket.","")) | V6: =IF(OR(O6="",P6=""),"",IF(P6>O6,"Az ''O'' és/vagy a ''P'' oszlop értéke hibás! Kérjük balról jobbra haladva adja meg a helyes értékeket.",""))
H7: =IFERROR(VLOOKUP(E7,'Szakmajegyzék 2021.I.1-'!$B$7:$C$181,2,0),"") | I7: =IFERROR(VLOOKUP(E7,'Szakmajegyzék 2021.I.1-'!$B$7:$K$181,10,0),"") | J7: =IFERROR(VLOOKUP(E7,'Szakmajegyzék 2021.I.1-'!$L$7:$R$181,6,0),"") | K7: =IFERROR(VLOOKUP(E7,'Szakmajegyzék 2021.I.1-'!$L$7:$R$181,7,0)*('Támogatás szorzat tényezői'!$C$15/'Támogatás szorzat tényezői'!$C$14),"") | L7: =IFERROR((F7+G7)*K7,"") | M7: =IFERROR((F7*K7*'Támogatás szorzat tényezői'!$C$7)+(G7*K7*'Támogatás szorzat tényezői'!$C$7*'Támogatás szorzat tényezői'!$C$8),"") | Q7: =IF(N7="","",K7*'Támogatás szorzat tényezői'!$C$7*N7) | R7: =IF(P7="","",J7*(1-'Támogatás szorzat tényezői'!$C$7)*P7) | S7: =IFERROR(Q7+R7,"") | T7: =IF(OR(F7="",N7=""),"",IF(N7<F7,"Az ''F'' és/vagy az ''N'' oszlop értéke hibás! Kérjük balról jobbra haladva adja meg a helyes értékeket.","")) | U7: =IF(OR(N7="",O7=""),"",IF(O7>N7,"Az ''N'' és/vagy az ''O'' oszlop értéke hibás! Kérjük balról jobbra haladva adja meg a helyes értékeket.","")) | V7: =IF(OR(O7="",P7=""),"",IF(P7>O7,"Az ''O'' és/vagy a ''P'' oszlop értéke hibás! Kérjük balról jobbra haladva adja meg a helyes értékeket.",""))
H8: =IFERROR(VLOOKUP(E8,'Szakmajegyzék 2021.I.1-'!$B$7:$C$181,2,0),"") | I8: =IFERROR(VLOOKUP(E8,'Szakmajegyzék 2021.I.1-'!$B$7:$K$181,10,0),"") | J8: =IFERROR(VLOOKUP(E8,'Szakmajegyzék 2021.I.1-'!$L$7:$R$181,6,0),"") | K8: =IFERROR(VLOOKUP(E8,'Szakmajegyzék 2021.I.1-'!$L$7:$R$181,7,0)*('Támogatás szorzat tényezői'!$C$15/'Támogatás szorzat tényezői'!$C$14),"") | L8: =IFERROR((F8+G8)*K8,"") | M8: =IFERROR((F8*K8*'Támogatás szorzat tényezői'!$C$7)+(G8*K8*'Támogatás szorzat tényezői'!$C$7*'Támogatás szorzat tényezői'!$C$8),"") | Q8: =IF(N8="","",K8*'Támogatás szorzat tényezői'!$C$7*N8) | R8: =IF(P8="","",J8*(1-'Támogatás szorzat tényezői'!$C$7)*P8) | S8: =IFERROR(Q8+R8,"") | T8: =IF(OR(F8="",N8=""),"",IF(N8<F8,"Az ''F'' és/vagy az ''N'' oszlop értéke hibás! Kérjük balról jobbra haladva adja meg a helyes értékeket.","")) | U8: =IF(OR(N8="",O8=""),"",IF(O8>N8,"Az ''N'' és/vagy az ''O'' oszlop értéke hibás! Kérjük balról jobbra haladva adja meg a helyes értékeket.","")) | V8: =IF(OR(O8="",P8=""),"",IF(P8>O8,"Az ''O'' és/vagy a ''P'' oszlop értéke hibás! Kérjük balról jobbra haladva adja meg a helyes értékeket.",""))
H9: =IFERROR(VLOOKUP(E9,'Szakmajegyzék 2021.I.1-'!$B$7:$C$181,2,0),"") | I9: =IFERROR(VLOOKUP(E9,'Szakmajegyzék 2021.I.1-'!$B$7:$K$181,10,0),"") | J9: =IFERROR(VLOOKUP(E9,'Szakmajegyzék 2021.I.1-'!$L$7:$R$181,6,0),"") | K9: =IFERROR(VLOOKUP(E9,'Szakmajegyzék 2021.I.1-'!$L$7:$R$181,7,0)*('Támogatás szorzat tényezői'!$C$15/'Támogatás szorzat tényezői'!$C$14),"") | L9: =IFERROR((F9+G9)*K9,"") | M9: =IFERROR((F9*K9*'Támogatás szorzat tényezői'!$C$7)+(G9*K9*'Támogatás szorzat tényezői'!$C$7*'Támogatás szorzat tényezői'!$C$8),"") | Q9: =IF(N9="","",K9*'Támogatás szorzat tényezői'!$C$7*N9) | R9: =IF(P9="","",J9*(1-'Támogatás szorzat tényezői'!$C$7)*P9) | S9: =IFERROR(Q9+R9,"") | T9: =IF(OR(F9="",N9=""),"",IF(N9<F9,"Az ''F'' és/vagy az ''N'' oszlop értéke hibás! Kérjük balról jobbra haladva adja meg a helyes értékeket.","")) | U9: =IF(OR(N9="",O9=""),"",IF(O9>N9,"Az ''N'' és/vagy az ''O'' oszlop értéke hibás! Kérjük balról jobbra haladva adja meg a helyes értékeket.","")) | V9: =IF(OR(O9="",P9=""),"",IF(P9>O9,"Az ''O'' és/vagy a ''P'' oszlop értéke hibás! Kérjük balról jobbra haladva adja meg a helyes értékeket.",""))
H10: =IFERROR(VLOOKUP(E10,'Szakmajegyzék 2021.I.1-'!$B$7:$C$181,2,0),"") | I10: =IFERROR(VLOOKUP(E10,'Szakmajegyzék 2021.I.1-'!$B$7:$K$181,10,0),"") | J10: =IFERROR(VLOOKUP(E10,'Szakmajegyzék 2021.I.1-'!$L$7:$R$181,6,0),"") | K10: =IFERROR(VLOOKUP(E10,'Szakmajegyzék 2021.I.1-'!$L$7:$R$181,7,0)*('Támogatás szorzat tényezői'!$C$15/'Támogatás szorzat tényezői'!$C$14),"") | L10: =IFERROR((F10+G10)*K10,"") | M10: =IFERROR((F10*K10*'Támogatás szorzat tényezői'!$C$7)+(G10*K10*'Támogatás szorzat tényezői'!$C$7*'Támogatás szorzat tényezői'!$C$8),"") | Q10: =IF(N10="","",K10*'Támogatás szorzat tényezői'!$C$7*N10) | R10: =IF(P10="","",J10*(1-'Támogatás szorzat tényezői'!$C$7)*P10) | S10: =IFERROR(Q10+R10,"") | T10: =IF(OR(F10="",N10=""),"",IF(N10<F10,"Az ''F'' és/vagy az ''N'' oszlop értéke hibás! Kérjük balról jobbra haladva adja meg a helyes értékeket.","")) | U10: =IF(OR(N10="",O10=""),"",IF(O10>N10,"Az ''N'' és/vagy az ''O'' oszlop értéke hibás! Kérjük balról jobbra haladva adja meg a helyes értékeket.","")) | V10: =IF(OR(O10="",P10=""),"",IF(P10>O10,"Az ''O'' és/vagy a ''P'' oszlop értéke hibás! Kérjük balról jobbra haladva adja meg a helyes értékeket.",""))
H11: =IFERROR(VLOOKUP(E11,'Szakmajegyzék 2021.I.1-'!$B$7:$C$181,2,0),"") | I11: =IFERROR(VLOOKUP(E11,'Szakmajegyzék 2021.I.1-'!$B$7:$K$181,10,0),"") | J11: =IFERROR(VLOOKUP(E11,'Szakmajegyzék 2021.I.1-'!$L$7:$R$181,6,0),"") | K11: =IFERROR(VLOOKUP(E11,'Szakmajegyzék 2021.I.1-'!$L$7:$R$181,7,0)*('Támogatás szorzat tényezői'!$C$15/'Támogatás szorzat tényezői'!$C$14),"") | L11: =IFERROR((F11+G11)*K11,"") | M11: =IFERROR((F11*K11*'Támogatás szorzat tényezői'!$C$7)+(G11*K11*'Támogatás szorzat tényezői'!$C$7*'Támogatás szorzat tényezői'!$C$8),"") | Q11: =IF(N11="","",K11*'Támogatás szorzat tényezői'!$C$7*N11) | R11: =IF(P11="","",J11*(1-'Támogatás szorzat tényezői'!$C$7)*P11) | S11: =IFERROR(Q11+R11,"") | T11: =IF(OR(F11="",N11=""),"",IF(N11<F11,"Az ''F'' és/vagy az ''N'' oszlop értéke hibás! Kérjük balról jobbra haladva adja meg a helyes értékeket.","")) | U11: =IF(OR(N11="",O11=""),"",IF(O11>N11,"Az ''N'' és/vagy az ''O'' oszlop értéke hibás! Kérjük balról jobbra haladva adja meg a helyes értékeket.","")) | V11: =IF(OR(O11="",P11=""),"",IF(P11>O11,"Az ''O'' és/vagy a ''P'' oszlop értéke hibás! Kérjük balról jobbra haladva adja meg a helyes értékeket.",""))
H12: =IFERROR(VLOOKUP(E12,'Szakmajegyzék 2021.I.1-'!$B$7:$C$181,2,0),"") | I12: =IFERROR(VLOOKUP(E12,'Szakmajegyzék 2021.I.1-'!$B$7:$K$181,10,0),"") | J12: =IFERROR(VLOOKUP(E12,'Szakmajegyzék 2021.I.1-'!$L$7:$R$181,6,0),"") | K12: =IFERROR(VLOOKUP(E12,'Szakmajegyzék 2021.I.1-'!$L$7:$R$181,7,0)*('Támogatás szorzat tényezői'!$C$15/'Támogatás szorzat tényezői'!$C$14),"") | L12: =IFERROR((F12+G12)*K12,"") | M12: =IFERROR((F12*K12*'Támogatás szorzat tényezői'!$C$7)+(G12*K12*'Támogatás szorzat tényezői'!$C$7*'Támogatás szorzat tényezői'!$C$8),"") | Q12: =IF(N12="","",K12*'Támogatás szorzat tényezői'!$C$7*N12) | R12: =IF(P12="","",J12*(1-'Támogatás szorzat tényezői'!$C$7)*P12) | S12: =IFERROR(Q12+R12,"") | T12: =IF(OR(F12="",N12=""),"",IF(N12<F12,"Az ''F'' és/vagy az ''N'' oszlop értéke hibás! Kérjük balról jobbra haladva adja meg a helyes értékeket.","")) | U12: =IF(OR(N12="",O12=""),"",IF(O12>N12,"Az ''N'' és/vagy az ''O'' oszlop értéke hibás! Kérjük balról jobbra haladva adja meg a helyes értékeket.","")) | V12: =IF(OR(O12="",P12=""),"",IF(P12>O12,"Az ''O'' és/vagy a ''P'' oszlop értéke hibás! Kérjük balról jobbra haladva adja meg a helyes értékeket.",""))
H13: =IFERROR(VLOOKUP(E13,'Szakmajegyzék 2021.I.1-'!$B$7:$C$181,2,0),"") | I13: =IFERROR(VLOOKUP(E13,'Szakmajegyzék 2021.I.1-'!$B$7:$K$181,10,0),"") | J13: =IFERROR(VLOOKUP(E13,'Szakmajegyzék 2021.I.1-'!$L$7:$R$181,6,0),"") | K13: =IFERROR(VLOOKUP(E13,'Szakmajegyzék 2021.I.1-'!$L$7:$R$181,7,0)*('Támogatás szorzat tényezői'!$C$15/'Támogatás szorzat tényezői'!$C$14),"") | L13: =IFERROR((F13+G13)*K13,"") | M13: =IFERROR((F13*K13*'Támogatás szorzat tényezői'!$C$7)+(G13*K13*'Támogatás szorzat tényezői'!$C$7*'Támogatás szorzat tényezői'!$C$8),"") | Q13: =IF(N13="","",K13*'Támogatás szorzat tényezői'!$C$7*N13) | R13: =IF(P13="","",J13*(1-'Támogatás szorzat tényezői'!$C$7)*P13) | S13: =IFERROR(Q13+R13,"") | T13: =IF(OR(F13="",N13=""),"",IF(N13<F13,"Az ''F'' és/vagy az ''N'' oszlop értéke hibás! Kérjük balról jobbra haladva adja meg a helyes értékeket.","")) | U13: =IF(OR(N13="",O13=""),"",IF(O13>N13,"Az ''N'' és/vagy az ''O'' oszlop értéke hibás! Kérjük balról jobbra haladva adja meg a helyes értékeket.","")) | V13: =IF(OR(O13="",P13=""),"",IF(P13>O13,"Az ''O'' és/vagy a ''P'' oszlop értéke hibás! Kérjük balról jobbra haladva adja meg a helyes értékeket.",""))
H14: =IFERROR(VLOOKUP(E14,'Szakmajegyzék 2021.I.1-'!$B$7:$C$181,2,0),"") | I14: =IFERROR(VLOOKUP(E14,'Szakmajegyzék 2021.I.1-'!$B$7:$K$181,10,0),"") | J14: =IFERROR(VLOOKUP(E14,'Szakmajegyzék 2021.I.1-'!$L$7:$R$181,6,0),"") | K14: =IFERROR(VLOOKUP(E14,'Szakmajegyzék 2021.I.1-'!$L$7:$R$181,7,0)*('Támogatás szorzat tényezői'!$C$15/'Támogatás szorzat tényezői'!$C$14),"") | L14: =IFERROR((F14+G14)*K14,"") | M14: =IFERROR((F14*K14*'Támogatás szorzat tényezői'!$C$7)+(G14*K14*'Támogatás szorzat tényezői'!$C$7*'Támogatás szorzat tényezői'!$C$8),"") | Q14: =IF(N14="","",K14*'Támogatás szorzat tényezői'!$C$7*N14) | R14: =IF(P14="","",J14*(1-'Támogatás szorzat tényezői'!$C$7)*P14) | S14: =IFERROR(Q14+R14,"") | T14: =IF(OR(F14="",N14=""),"",IF(N14<F14,"Az ''F'' és/vagy az ''N'' oszlop értéke hibás! Kérjük balról jobbra haladva adja meg a helyes értékeket.","")) | U14: =IF(OR(N14="",O14=""),"",IF(O14>N14,"Az ''N'' és/vagy az ''O'' oszlop értéke hibás! Kérjük balról jobbra haladva adja meg a helyes értékeket.","")) | V14: =IF(OR(O14="",P14=""),"",IF(P14>O14,"Az ''O'' és/vagy a ''P'' oszlop értéke hibás! Kérjük balról jobbra haladva adja meg a helyes értékeket.",""))
H15: =IFERROR(VLOOKUP(E15,'Szakmajegyzék 2021.I.1-'!$B$7:$C$181,2,0),"") | I15: =IFERROR(VLOOKUP(E15,'Szakmajegyzék 2021.I.1-'!$B$7:$K$181,10,0),"") | J15: =IFERROR(VLOOKUP(E15,'Szakmajegyzék 2021.I.1-'!$L$7:$R$181,6,0),"") | K15: =IFERROR(VLOOKUP(E15,'Szakmajegyzék 2021.I.1-'!$L$7:$R$181,7,0)*('Támogatás szorzat tényezői'!$C$15/'Támogatás szorzat tényezői'!$C$14),"") | L15: =IFERROR((F15+G15)*K15,"") | M15: =IFERROR((F15*K15*'Támogatás szorzat tényezői'!$C$7)+(G15*K15*'Támogatás szorzat tényezői'!$C$7*'Támogatás szorzat tényezői'!$C$8),"") | Q15: =IF(N15="","",K15*'Támogatás szorzat tényezői'!$C$7*N15) | R15: =IF(P15="","",J15*(1-'Támogatás szorzat tényezői'!$C$7)*P15) | S15: =IFERROR(Q15+R15,"") | T15: =IF(OR(F15="",N15=""),"",IF(N15<F15,"Az ''F'' és/vagy az ''N'' oszlop értéke hibás! Kérjük balról jobbra haladva adja meg a helyes értékeket.","")) | U15: =IF(OR(N15="",O15=""),"",IF(O15>N15,"Az ''N'' és/vagy az ''O'' oszlop értéke hibás! Kérjük balról jobbra haladva adja meg a helyes értékeket.","")) | V15: =IF(OR(O15="",P15=""),"",IF(P15>O15,"Az ''O'' és/vagy a ''P'' oszlop értéke hibás! Kérjük balról jobbra haladva adja meg a helyes értékeket.",""))
... H53: =IFERROR(VLOOKUP(E53,'Szakmajegyzék 2021.I.1-'!$B$7:$C$181,2,0),"") | I53: =IFERROR(VLOOKUP(E53,'Szakmajegyzék 2021.I.1-'!$B$7:$K$181,10,0),"") | J53: =IFERROR(VLOOKUP(E53,'Szakmajegyzék 2021.I.1-'!$L$7:$R$181,6,0),"") | K53: =IFERROR(VLOOKUP(E53,'Szakmajegyzék 2021.I.1-'!$L$7:$R$181,7,0)*('Támogatás szorzat tényezői'!$C$15/'Támogatás szorzat tényezői'!$C$14),"") | L53: =IFERROR((F53+G53)*K53,"") | M53: =IFERROR((F53*K53*'Támogatás szorzat tényezői'!$C$7)+(G53*K53*'Támogatás szorzat tényezői'!$C$7*'Támogatás szorzat tényezői'!$C$8),"") | Q53: =IF(N53="","",K53*'Támogatás szorzat tényezői'!$C$7*N53) | R53: =IF(P53="","",J53*(1-'Támogatás szorzat tényezői'!$C$7)*P53) | S53: =IFERROR(Q53+R53,"") | T53: =IF(OR(F53="",N53=""),"",IF(N53<F53,"Az ''F'' és/vagy az ''N'' oszlop értéke hibás! Kérjük balról jobbra haladva adja meg a helyes értékeket.","")) | U53: =IF(OR(N53="",O53=""),"",IF(O53>N53,"Az ''N'' és/vagy az ''O'' oszlop értéke hibás! Kérjük balról jobbra haladva adja meg a helyes értékeket.","")) | V53: =IF(OR(O53="",P53=""),"",IF(P53>O53,"Az ''O'' és/vagy a ''P'' oszlop értéke hibás! Kérjük balról jobbra haladva adja meg a helyes értékeket.",""))

Sheet Szakmai_képzés_1
A1: 2021. nyitó támogatási időszak | E1: ALAPADATOK | P1: TÁMOGATÁS SZÁMÍTÁS | T1: ELSZÁMOLÁS | AA1: KITÖLTÉS UTÁNI LOGIKAI ELLENŐRZÉSEK
A2: ÖSSZESÍTŐK SORA | C2: MÉG KITÖLTENDŐ CELLÁK SZÁMA ÖSSZESEN: | D2: =COUNTBLANK(A4:E53)+COUNTBLANK(H4:K53) -> 400 | J2: =SUM(J4:J53) -> 0 | K2: =SUM(K4:K53) -> 0 | P2: =SUM(P4:P53) -> 0 | Q2: =SUM(Q4:Q53) -> 0 | R2: =SUM(R4:R53) -> 0 | S2: =SUM(S4:S53) -> 0 | T2: =SUM(T4:T53) -> 0 | U2: =SUM(U4:U53) -> 0 | W2: =SUM(W4:W53) -> 0 | X2: =SUM(X4:X53) -> 0 | Y2: =SUM(Y4:Y53) -> 0 | AA2: ="LOGIKAI HIBÁK SZÁMA: "&AB2 -> LOGIKAI HIBÁK SZÁMA: 0 | AB2: =COUNTIF(Z4:Z53,"Az ''I'' és/vagy a ''H'' oszlop értéke hibás! Kérjük balról jobbra haladva adja meg a helyes értékeket.")+COUNTIF(AA4:AA53,"A ''J'' és/vagy az ''R'' oszlop értéke hibás! Kérjük balról jobbra haladva adja meg a helyes értékeket.")+COUNTIF(AB4:AB53,"Az ''R'' és/vagy az ''S'' oszlop értéke hibás! Kérjük balról jobbra haladva adja meg a helyes értékeket.")+COUNTIF(AC4:AC53,"Az ''S'' és/vagy a ''T'' oszlop értéke hibás! Kérjük balról jobbra haladva adja meg a helyes értékeket.")+COUNTIF(AD4:AD53,"Az ''S'' és/vagy a ''T'' és/vagy az ''U'' oszlop értéke hibás! Kérjük balról jobbra haladva adja meg a helyes értékeket.")+COUNTIF(AE4:AE53,"Az ''I'' és/vagy a ''V'' oszlop értéke hibás! Kérjük balról jobbra haladva adja meg a helyes értékeket.") -> 0
A3: Szakképzési centrum vagy szakképző intézmény fenntartójának neve (lenyíló menü) | B3: Kedvezményezett neve (lenyíló menü) | C3: Szakképző intézmény neve (lenyíló menü) | D3: Képzés kezdete (lenyíló menü) | E3: Szakképesítés megnevezése (lenyíló menü) | F3: Minimális óraszám (program-követelmény szerint) | G3: Maximális óraszám (program-követelmény szerint) | H3: Tervezett összes óraszám | I3: Tervezett óraszám a támogatási időszakban (2021.01.01 - 2021.08.31.) | J3: Felnőttképzési szerződéssel rendelkező, képzésben részt vevő személyek száma (fő) | K3: Tervezett képzés esetén a felnőttképzési szerződéssel még nem rendelkező, képzésben részt vevő személyek tervezett száma (fő) | L3: Ágazat megnevezése (programkövetelmény szerint) | M3: Szakképesítés száma | N3: Egy főre eső elvi normatíva a szakmai képzés teljes időszakára (Ft) | O3: Egy főre eső elvi normatíva a támogatási időszakra (Ft) | P3: Elvi támogatási összeg a támogatási időszakra (létszám * egy főre eső elvi normatíva) (Ft) | Q3: Számított támogatási előleg a támogatási időszakra (Ft) | R3: A szakmai képzésben felnőttképzési szerződéssel ténylegesen részt vett személyek összlétszáma (fő) | S3: A szakmai képzésben felnőttképzési szerződéssel ténylegesen részt vett személyek támogatási időszak végi záró létszáma (fő) | T3: A szakmai képzést sikeres vizsgával zárók létszáma (fő) | U3: A szakmai képzést csak tanúsítvánnyal zárók létszáma (fő) | V3: A tervezett óraszámból a támogatási időszakban (2021.01.01 - 2021.08.31.) ténylegesen mevalósult órák száma | W3: Elszámolt támogatási összeg a sikeres vizsgázók létszáma alapján (az éves elszámolás során kerül érvényesítésre) (Ft) | X3: Elszámolt támogatási összeg a csak tanúsítványt szerzők létszáma alapján (az éves elszámolás során kerül érvényesítésre) (Ft) | Y3: Elszámolt támogatási összeg összesen (Ft) | Z3: Kitöltés utáni logikai ellenőrzés 1 | AA3: Kitöltés utáni logikai ellenőrzés 2 | AB3: Kitöltés utáni logikai ellenőrzés 3 | AC3: Kitöltés utáni logikai ellenőrzés 4 | AD3: Kitöltés utáni logikai ellenőrzés 5 | AE3: Kitöltés utáni logikai ellenőrzés 6
D4: _2020_09_2021_08_hó_között | F4: =IFERROR(VLOOKUP(E4,'Szakképesítések 21.01.08. PK-k'!$B$2:$I$364,7,0),"") | G4: =IFERROR(VLOOKUP(E4,'Szakképesítések 21.01.08. PK-k'!$B$2:$I$364,8,0),"") | L4: =IFERROR(VLOOKUP(E4,'Szakképesítések 21.01.08. PK-k'!$B$2:$G$364,6,0),"") | M4: =IFERROR(VLOOKUP(E4,'Szakképesítések 21.01.08. PK-k'!$B$2:$C$364,2,0),"") | N4: =IFERROR(VLOOKUP(E4,'Szakképesítések 21.01.08. PK-k'!$B$2:$K$364,10,0),"") | O4: =IF(I4="","",(N4*I4/H4)) | P4: =IFERROR((J4+K4)*O4,"") | Q4: =IFERROR((J4*O4*'Támogatás szorzat tényezői'!$C$7)+(K4*O4*'Támogatás szorzat tényezői'!$C$7*'Támogatás szorzat tényezői'!$C$8),"") | W4: =IF(T4="","",N4*T4) | X4: =IF(T4="","",N4*('Támogatás szorzat tényezői'!$C$6/'Támogatás szorzat tényezői'!$C$4)*U4) | Y4: =IFERROR(W4+X4,"") | Z4: =IF(OR(H4="",I4=""),"",IF(I4>H4,"Az ''I'' és/vagy a ''H'' oszlop értéke hibás! Kérjük balról jobbra haladva adja meg a helyes értékeket.","")) | AA4: =IF(OR(J4="",R4=""),"",IF(J4>R4,"A ''J'' és/vagy az ''R'' oszlop értéke hibás! Kérjük balról jobbra haladva adja meg a helyes értékeket.","")) | AB4: =IF(OR(S4="",R4=""),"",IF(S4>R4,"Az ''R'' és/vagy az ''S'' oszlop értéke hibás! Kérjük balról jobbra haladva adja meg a helyes értékeket.","")) | AC4: =IF(OR(S4="",T4=""),"",IF(T4>S4,"Az ''S'' és/vagy a ''T'' oszlop értéke hibás! Kérjük balról jobbra haladva adja meg a helyes értékeket.","")) | AD4: =IF(OR(S4="",T4="",U4=""),"",IF(U4>S4-T4,"Az ''S'' és/vagy a ''T'' és/vagy az ''U'' oszlop értéke hibás! Kérjük balról jobbra haladva adja meg a helyes értékeket.","")) | AE4: =IF(OR(I4="",V4=""),"",IF(V4>I4,"Az ''I'' és/vagy a ''V'' oszlop értéke hibás! Kérjük balról jobbra haladva adja meg a helyes értékeket.",""))
D5: _2020_09_2021_08_hó_között | F5: =IFERROR(VLOOKUP(E5,'Szakképesítések 21.01.08. PK-k'!$B$2:$I$364,7,0),"") | G5: =IFERROR(VLOOKUP(E5,'Szakképesítések 21.01.08. PK-k'!$B$2:$I$364,8,0),"") | L5: =IFERROR(VLOOKUP(E5,'Szakképesítések 21.01.08. PK-k'!$B$2:$G$364,6,0),"") | M5: =IFERROR(VLOOKUP(E5,'Szakképesítések 21.01.08. PK-k'!$B$2:$C$364,2,0),"") | N5: =IFERROR(VLOOKUP(E5,'Szakképesítések 21.01.08. PK-k'!$B$2:$K$364,10,0),"") | O5: =IF(I5="","",(N5*I5/H5)) | P5: =IFERROR((J5+K5)*N5,"") | Q5: =IFERROR((J5*N5)+(K5*0.5*N5),"") | W5: =IF(T5="","",N5*T5) | X5: =IF(T5="","",N5*('Támogatás szorzat tényezői'!$C$6/'Támogatás szorzat tényezői'!$C$4)*U5) | Y5: =IFERROR(W5+X5,"")
D6: _2020_09_2021_08_hó_között | F6: =IFERROR(VLOOKUP(E6,'Szakképesítések 21.01.08. PK-k'!$B$2:$I$364,7,0),"") | G6: =IFERROR(VLOOKUP(E6,'Szakképesítések 21.01.08. PK-k'!$B$2:$I$364,8,0),"") | L6: =IFERROR(VLOOKUP(E6,'Szakképesítések 21.01.08. PK-k'!$B$2:$G$364,6,0),"") | M6: =IFERROR(VLOOKUP(E6,'Szakképesítések 21.01.08. PK-k'!$B$2:$C$364,2,0),"") | N6: =IFERROR(VLOOKUP(E6,'Szakképesítések 21.01.08. PK-k'!$B$2:$K$364,10,0),"") | O6: =IF(I6="","",(N6*I6/H6)) | P6: =IFERROR((J6+K6)*N6,"") | Q6: =IFERROR((J6*N6)+(K6*0.5*N6),"") | W6: =IF(T6="","",N6*T6) | X6: =IF(T6="","",N6*('Támogatás szorzat tényezői'!$C$6/'Támogatás szorzat tényezői'!$C$4)*U6) | Y6: =IFERROR(W6+X6,"")
D7: _2020_09_2021_08_hó_között | F7: =IFERROR(VLOOKUP(E7,'Szakképesítések 21.01.08. PK-k'!$B$2:$I$364,7,0),"") | G7: =IFERROR(VLOOKUP(E7,'Szakképesítések 21.01.08. PK-k'!$B$2:$I$364,8,0),"") | L7: =IFERROR(VLOOKUP(E7,'Szakképesítések 21.01.08. PK-k'!$B$2:$G$364,6,0),"") | M7: =IFERROR(VLOOKUP(E7,'Szakképesítések 21.01.08. PK-k'!$B$2:$C$364,2,0),"") | N7: =IFERROR(VLOOKUP(E7,'Szakképesítések 21.01.08. PK-k'!$B$2:$K$364,10,0),"") | O7: =IF(I7="","",(N7*I7/H7)) | P7: =IFERROR((J7+K7)*N7,"") | Q7: =IFERROR((J7*N7)+(K7*0.5*N7),"") | W7: =IF(T7="","",N7*T7) | X7: =IF(T7="","",N7*('Támogatás szorzat tényezői'!$C$6/'Támogatás szorzat tényezői'!$C$4)*U7) | Y7: =IFERROR(W7+X7,"")
D8: _2020_09_2021_08_hó_között | F8: =IFERROR(VLOOKUP(E8,'Szakképesítések 21.01.08. PK-k'!$B$2:$I$364,7,0),"") | G8: =IFERROR(VLOOKUP(E8,'Szakképesítések 21.01.08. PK-k'!$B$2:$I$364,8,0),"") | L8: =IFERROR(VLOOKUP(E8,'Szakképesítések 21.01.08. PK-k'!$B$2:$G$364,6,0),"") | M8: =IFERROR(VLOOKUP(E8,'Szakképesítések 21.01.08. PK-k'!$B$2:$C$364,2,0),"") | N8: =IFERROR(VLOOKUP(E8,'Szakképesítések 21.01.08. PK-k'!$B$2:$K$364,10,0),"") | O8: =IF(I8="","",(N8*I8/H8)) | P8: =IFERROR((J8+K8)*N8,"") | Q8: =IFERROR((J8*N8)+(K8*0.5*N8),"") | W8: =IF(T8="","",N8*T8) | X8: =IF(T8="","",N8*('Támogatás szorzat tényezői'!$C$6/'Támogatás szorzat tényezői'!$C$4)*U8) | Y8: =IFERROR(W8+X8,"")
D9: _2020_09_2021_08_hó_között | F9: =IFERROR(VLOOKUP(E9,'Szakképesítések 21.01.08. PK-k'!$B$2:$I$364,7,0),"") | G9: =IFERROR(VLOOKUP(E9,'Szakképesítések 21.01.08. PK-k'!$B$2:$I$364,8,0),"") | L9: =IFERROR(VLOOKUP(E9,'Szakképesítések 21.01.08. PK-k'!$B$2:$G$364,6,0),"") | M9: =IFERROR(VLOOKUP(E9,'Szakképesítések 21.01.08. PK-k'!$B$2:$C$364,2,0),"") | N9: =IFERROR(VLOOKUP(E9,'Szakképesítések 21.01.08. PK-k'!$B$2:$K$364,10,0),"") | O9: =IF(I9="","",(N9*I9/H9)) | P9: =IFERROR((J9+K9)*N9,"") | Q9: =IFERROR((J9*N9)+(K9*0.5*N9),"") | W9: =IF(T9="","",N9*T9) | X9: =IF(T9="","",N9*('Támogatás szorzat tényezői'!$C$6/'Támogatás szorzat tényezői'!$C$4)*U9) | Y9: =IFERROR(W9+X9,"")
D10: _2020_09_2021_08_hó_között | F10: =IFERROR(VLOOKUP(E10,'Szakképesítések 21.01.08. PK-k'!$B$2:$I$364,7,0),"") | G10: =IFERROR(VLOOKUP(E10,'Szakképesítések 21.01.08. PK-k'!$B$2:$I$364,8,0),"") | L10: =IFERROR(VLOOKUP(E10,'Szakképesítések 21.01.08. PK-k'!$B$2:$G$364,6,0),"") | M10: =IFERROR(VLOOKUP(E10,'Szakképesítések 21.01.08. PK-k'!$B$2:$C$364,2,0),"") | N10: =IFERROR(VLOOKUP(E10,'Szakképesítések 21.01.08. PK-k'!$B$2:$K$364,10,0),"") | O10: =IF(I10="","",(N10*I10/H10)) | P10: =IFERROR((J10+K10)*N10,"") | Q10: =IFERROR((J10*N10)+(K10*0.5*N10),"") | W10: =IF(T10="","",N10*T10) | X10: =IF(T10="","",N10*('Támogatás szorzat tényezői'!$C$6/'Támogatás szorzat tényezői'!$C$4)*U10) | Y10: =IFERROR(W10+X10,"")
D11: _2020_09_2021_08_hó_között | F11: =IFERROR(VLOOKUP(E11,'Szakképesítések 21.01.08. PK-k'!$B$2:$I$364,7,0),"") | G11: =IFERROR(VLOOKUP(E11,'Szakképesítések 21.01.08. PK-k'!$B$2:$I$364,8,0),"") | L11: =IFERROR(VLOOKUP(E11,'Szakképesítések 21.01.08. PK-k'!$B$2:$G$364,6,0),"") | M11: =IFERROR(VLOOKUP(E11,'Szakképesítések 21.01.08. PK-k'!$B$2:$C$364,2,0),"") | N11: =IFERROR(VLOOKUP(E11,'Szakképesítések 21.01.08. PK-k'!$B$2:$K$364,10,0),"") | O11: =IF(I11="","",(N11*I11/H11)) | P11: =IFERROR((J11+K11)*N11,"") | Q11: =IFERROR((J11*N11)+(K11*0.5*N11),"") | W11: =IF(T11="","",N11*T11) | X11: =IF(T11="","",N11*('Támogatás szorzat tényezői'!$C$6/'Támogatás szorzat tényezői'!$C$4)*U11) | Y11: =IFERROR(W11+X11,"")
D12: _2020_09_2021_08_hó_között | F12: =IFERROR(VLOOKUP(E12,'Szakképesítések 21.01.08. PK-k'!$B$2:$I$364,7,0),"") | G12: =IFERROR(VLOOKUP(E12,'Szakképesítések 21.01.08. PK-k'!$B$2:$I$364,8,0),"") | L12: =IFERROR(VLOOKUP(E12,'Szakképesítések 21.01.08. PK-k'!$B$2:$G$364,6,0),"") | M12: =IFERROR(VLOOKUP(E12,'Szakképesítések 21.01.08. PK-k'!$B$2:$C$364,2,0),"") | N12: =IFERROR(VLOOKUP(E12,'Szakképesítések 21.01.08. PK-k'!$B$2:$K$364,10,0),"") | O12: =IF(I12="","",(N12*I12/H12)) | P12: =IFERROR((J12+K12)*N12,"") | Q12: =IFERROR((J12*N12)+(K12*0.5*N12),"") | W12: =IF(T12="","",N12*T12) | X12: =IF(T12="","",N12*('Támogatás szorzat tényezői'!$C$6/'Támogatás szorzat tényezői'!$C$4)*U12) | Y12: =IFERROR(W12+X12,"")
D13: _2020_09_2021_08_hó_között | F13: =IFERROR(VLOOKUP(E13,'Szakképesítések 21.01.08. PK-k'!$B$2:$I$364,7,0),"") | G13: =IFERROR(VLOOKUP(E13,'Szakképesítések 21.01.08. PK-k'!$B$2:$I$364,8,0),"") | L13: =IFERROR(VLOOKUP(E13,'Szakképesítések 21.01.08. PK-k'!$B$2:$G$364,6,0),"") | M13: =IFERROR(VLOOKUP(E13,'Szakképesítések 21.01.08. PK-k'!$B$2:$C$364,2,0),"") | N13: =IFERROR(VLOOKUP(E13,'Szakképesítések 21.01.08. PK-k'!$B$2:$K$364,10,0),"") | O13: =IF(I13="","",(N13*I13/H13)) | P13: =IFERROR((J13+K13)*N13,"") | Q13: =IFERROR((J13*N13)+(K13*0.5*N13),"") | W13: =IF(T13="","",N13*T13) | X13: =IF(T13="","",N13*('Támogatás szorzat tényezői'!$C$6/'Támogatás szorzat tényezői'!$C$4)*U13) | Y13: =IFERROR(W13+X13,"")
D14: _2020_09_2021_08_hó_között | F14: =IFERROR(VLOOKUP(E14,'Szakképesítések 21.01.08. PK-k'!$B$2:$I$364,7,0),"") | G14: =IFERROR(VLOOKUP(E14,'Szakképesítések 21.01.08. PK-k'!$B$2:$I$364,8,0),"") | L14: =IFERROR(VLOOKUP(E14,'Szakképesítések 21.01.08. PK-k'!$B$2:$G$364,6,0),"") | M14: =IFERROR(VLOOKUP(E14,'Szakképesítések 21.01.08. PK-k'!$B$2:$C$364,2,0),"") | N14: =IFERROR(VLOOKUP(E14,'Szakképesítések 21.01.08. PK-k'!$B$2:$K$364,10,0),"") | O14: =IF(I14="","",(N14*I14/H14)) | P14: =IFERROR((J14+K14)*N14,"") | Q14: =IFERROR((J14*N14)+(K14*0.5*N14),"") | W14: =IF(T14="","",N14*T14) | X14: =IF(T14="","",N14*('Támogatás szorzat tényezői'!$C$6/'Támogatás szorzat tényezői'!$C$4)*U14) | Y14: =IFERROR(W14+X14,"")
D15: _2020_09_2021_08_hó_között | F15: =IFERROR(VLOOKUP(E15,'Szakképesítések 21.01.08. PK-k'!$B$2:$I$364,7,0),"") | G15: =IFERROR(VLOOKUP(E15,'Szakképesítések 21.01.08. PK-k'!$B$2:$I$364,8,0),"") | L15: =IFERROR(VLOOKUP(E15,'Szakképesítések 21.01.08. PK-k'!$B$2:$G$364,6,0),"") | M15: =IFERROR(VLOOKUP(E15,'Szakképesítések 21.01.08. PK-k'!$B$2:$C$364,2,0),"") | N15: =IFERROR(VLOOKUP(E15,'Szakképesítések 21.01.08. PK-k'!$B$2:$K$364,10,0),"") | O15: =IF(I15="","",(N15*I15/H15)) | P15: =IFERROR((J15+K15)*N15,"") | Q15: =IFERROR((J15*N15)+(K15*0.5*N15),"") | W15: =IF(T15="","",N15*T15) | X15: =IF(T15="","",N15*('Támogatás szorzat tényezői'!$C$6/'Támogatás szorzat tényezői'!$C$4)*U15) | Y15: =IFERROR(W15+X15,"")
D16: _2020_09_2021_08_hó_között | F16: =IFERROR(VLOOKUP(E16,'Szakképesítések 21.01.08. PK-k'!$B$2:$I$364,7,0),"") | G16: =IFERROR(VLOOKUP(E16,'Szakképesítések 21.01.08. PK-k'!$B$2:$I$364,8,0),"") | L16: =IFERROR(VLOOKUP(E16,'Szakképesítések 21.01.08. PK-k'!$B$2:$G$364,6,0),"") | M16: =IFERROR(VLOOKUP(E16,'Szakképesítések 21.01.08. PK-k'!$B$2:$C$364,2,0),"") | N16: =IFERROR(VLOOKUP(E16,'Szakképesítések 21.01.08. PK-k'!$B$2:$K$364,10,0),"") | O16: =IF(I16="","",(N16*I16/H16)) | P16: =IFERROR((J16+K16)*N16,"") | Q16: =IFERROR((J16*N16)+(K16*0.5*N16),"") | W16: =IF(T16="","",N16*T16) | X16: =IF(T16="","",N16*('Támogatás szorzat tényezői'!$C$6/'Támogatás szorzat tényezői'!$C$4)*U16) | Y16: =IFERROR(W16+X16,"")
... D53: _2020_09_2021_08_hó_között | F53: =IFERROR(VLOOKUP(E53,'Szakképesítések 21.01.08. PK-k'!$B$2:$I$364,7,0),"") | G53: =IFERROR(VLOOKUP(E53,'Szakképesítések 21.01.08. PK-k'!$B$2:$I$364,8,0),"") | L53: =IFERROR(VLOOKUP(E53,'Szakképesítések 21.01.08. PK-k'!$B$2:$G$364,6,0),"") | M53: =IFERROR(VLOOKUP(E53,'Szakképesítések 21.01.08. PK-k'!$B$2:$C$364,2,0),"") | N53: =IFERROR(VLOOKUP(E53,'Szakképesítések 21.01.08. PK-k'!$B$2:$K$364,10,0),"") | O53: =IF(I53="","",(N53*I53/H53)) | P53: =IFERROR((J53+K53)*N53,"") | Q53: =IFERROR((J53*N53)+(K53*0.5*N53),"") | W53: =IF(T53="","",N53*T53) | X53: =IF(T53="","",N53*('Támogatás szorzat tényezői'!$C$6/'Támogatás szorzat tényezői'!$C$4)*U53) | Y53: =IFERROR(W53+X53,"")

Sheet Egyéb_képzés_1
A1: 2021. nyitó támogatási időszak | E1: ALAPADATOK | H1: TÁMOGATÁS SZÁMÍTÁS | J1: ELSZÁMOLÁS | L1: KITÖLTÉS UTÁNI LOGIKAI ELLENŐRZÉS
A2: ÖSSZESÍTŐK SORA | C2: MÉG KITÖLTENDŐ CELLÁK SZÁMA ÖSSZESEN: | D2: =COUNTBLANK(A4:C23)+COUNTBLANK(F4:F23) -> 80 | F2: =SUM(F4:F23) -> 0 | H2: =SUM(H4:H23) -> 0 | I2: =SUM(I4:I23) -> 0 | J2: =SUM(J4:J23) -> 0 | K2: =SUM(K4:K23) -> 0 | L2: ="LOGIKAI HIBÁK SZÁMA: "&M2 -> LOGIKAI HIBÁK SZÁMA: 0 | M2: =COUNTIF(L4:L23,"Az ''F'' és/vagy a ''J'' oszlop értéke hibás! Kérjük balról jobbra haladva adja meg a helyes értékeket.") -> 0
A3: Szakképzési centrum vagy szakképző intézmény fenntartójának neve (lenyíló menü) | B3: Kedvezményezett neve (lenyíló menü) | C3: Szakképző intézmény neve (lenyíló menü) | D3: Képzés kezdete (lenyíló menü) | E3: Képzés típusa (lenyíló menü) | F3: Felnőttképzési szerződéssel rendelkező, képzésben részt vevő személyek száma (fő) | G3: Egy főre eső normatíva a támogatási időszakra (Ft) | H3: Elvi támogatási összeg a támogatási időszakra (létszám * egy főre eső normatíva) (Ft) | I3: Számított támogatási előleg a támogatási időszakra (Ft) | J3: Az egyéb képzésben felnőttképzési szerződéssel ténylegesen részt vett személyek száma (fő) | K3: Elszámolt támogatási összeg (az éves elszámolás során kerül érvényesítésre) (Ft) | L3: Kitöltés utáni logikai ellenőrzés
D4: _2020_2021_ősz | E4: Két éves, érettségi vizsgára felkészítő képzés technikumban | G4: ='Támogatás szorzat tényezői'!$C$10*('Támogatás szorzat tényezői'!$C$15/'Támogatás szorzat tényezői'!$C$14) -> 240000 | H4: =F4*G4 -> 0 | I4: =H4 -> 0 | K4: =G4*J4 -> 0 | L4: =IF(OR(F4="",J4=""),"",IF(J4<F4,"Az ''F'' és/vagy a ''J'' oszlop értéke hibás! Kérjük balról jobbra haladva adja meg a helyes értékeket.",""))
D5: _2020_2021_ősz | E5: Két éves, érettségi vizsgára felkészítő képzés technikumban | G5: ='Támogatás szorzat tényezői'!$C$10*('Támogatás szorzat tényezői'!$C$15/'Támogatás szorzat tényezői'!$C$14) -> 240000 | H5: =F5*G5 -> 0 | I5: =H5 -> 0 | K5: =G5*J5 -> 0 | L5: =IF(OR(F5="",J5=""),"",IF(J5<F5,"Az ''F'' és/vagy a ''J'' oszlop értéke hibás! Kérjük balról jobbra haladva adja meg a helyes értékeket.",""))
D6: _2020_2021_ősz | E6: Két éves, érettségi vizsgára felkészítő képzés technikumban | G6: ='Támogatás szorzat tényezői'!$C$10*('Támogatás szorzat tényezői'!$C$15/'Támogatás szorzat tényezői'!$C$14) -> 240000 | H6: =F6*G6 -> 0 | I6: =H6 -> 0 | K6: =G6*J6 -> 0 | L6: =IF(OR(F6="",J6=""),"",IF(J6<F6,"Az ''F'' és/vagy a ''J'' oszlop értéke hibás! Kérjük balról jobbra haladva adja meg a helyes értékeket.",""))
D7: _2020_2021_ősz | E7: Két éves, érettségi vizsgára felkészítő képzés technikumban | G7: ='Támogatás szorzat tényezői'!$C$10*('Támogatás szorzat tényezői'!$C$15/'Támogatás szorzat tényezői'!$C$14) -> 240000 | H7: =F7*G7 -> 0 | I7: =H7 -> 0 | K7: =G7*J7 -> 0 | L7: =IF(OR(F7="",J7=""),"",IF(J7<F7,"Az ''F'' és/vagy a ''J'' oszlop értéke hibás! Kérjük balról jobbra haladva adja meg a helyes értékeket.",""))
D8: _2020_2021_ősz | E8: Két éves, érettségi vizsgára felkészítő képzés technikumban | G8: ='Támogatás szorzat tényezői'!$C$10*('Támogatás szorzat tényezői'!$C$15/'Támogatás szorzat tényezői'!$C$14) -> 240000 | H8: =F8*G8 -> 0 | I8: =H8 -> 0 | K8: =G8*J8 -> 0 | L8: =IF(OR(F8="",J8=""),"",IF(J8<F8,"Az ''F'' és/vagy a ''J'' oszlop értéke hibás! Kérjük balról jobbra haladva adja meg a helyes értékeket.",""))
D9: _2020_2021_ősz | E9: Két éves, érettségi vizsgára felkészítő képzés technikumban | G9: ='Támogatás szorzat tényezői'!$C$10*('Támogatás szorzat tényezői'!$C$15/'Támogatás szorzat tényezői'!$C$14) -> 240000 | H9: =F9*G9 -> 0 | I9: =H9 -> 0 | K9: =G9*J9 -> 0 | L9: =IF(OR(F9="",J9=""),"",IF(J9<F9,"Az ''F'' és/vagy a ''J'' oszlop értéke hibás! Kérjük balról jobbra haladva adja meg a helyes értékeket.",""))
D10: _2020_2021_ősz | E10: Két éves, érettségi vizsgára felkészítő képzés technikumban | G10: ='Támogatás szorzat tényezői'!$C$10*('Támogatás szorzat tényezői'!$C$15/'Támogatás szorzat tényezői'!$C$14) -> 240000 | H10: =F10*G10 -> 0 | I10: =H10 -> 0 | K10: =G10*J10 -> 0 | L10: =IF(OR(F10="",J10=""),"",IF(J10<F10,"Az ''F'' és/vagy a ''J'' oszlop értéke hibás! Kérjük balról jobbra haladva adja meg a helyes értékeket.",""))
D11: _2020_2021_ősz | E11: Két éves, érettségi vizsgára felkészítő képzés technikumban | G11: ='Támogatás szorzat tényezői'!$C$10*('Támogatás szorzat tényezői'!$C$15/'Támogatás szorzat tényezői'!$C$14) -> 240000 | H11: =F11*G11 -> 0 | I11: =H11 -> 0 | K11: =G11*J11 -> 0 | L11: =IF(OR(F11="",J11=""),"",IF(J11<F11,"Az ''F'' és/vagy a ''J'' oszlop értéke hibás! Kérjük balról jobbra haladva adja meg a helyes értékeket.",""))
D12: _2020_2021_ősz | E12: Két éves, érettségi vizsgára felkészítő képzés technikumban | G12: ='Támogatás szorzat tényezői'!$C$10*('Támogatás szorzat tényezői'!$C$15/'Támogatás szorzat tényezői'!$C$14) -> 240000 | H12: =F12*G12 -> 0 | I12: =H12 -> 0 | K12: =G12*J12 -> 0 | L12: =IF(OR(F12="",J12=""),"",IF(J12<F12,"Az ''F'' és/vagy a ''J'' oszlop értéke hibás! Kérjük balról jobbra haladva adja meg a helyes értékeket.",""))
D13: _2020_2021_ősz | E13: Két éves, érettségi vizsgára felkészítő képzés technikumban | G13: ='Támogatás szorzat tényezői'!$C$10*('Támogatás szorzat tényezői'!$C$15/'Támogatás szorzat tényezői'!$C$14) -> 240000 | H13: =F13*G13 -> 0 | I13: =H13 -> 0 | K13: =G13*J13 -> 0 | L13: =IF(OR(F13="",J13=""),"",IF(J13<F13,"Az ''F'' és/vagy a ''J'' oszlop értéke hibás! Kérjük balról jobbra haladva adja meg a helyes értékeket.",""))
D14: _2020_2021_ősz | E14: Két éves, érettségi vizsgára felkészítő képzés technikumban | G14: ='Támogatás szorzat tényezői'!$C$10*('Támogatás szorzat tényezői'!$C$15/'Támogatás szorzat tényezői'!$C$14) -> 240000 | H14: =F14*G14 -> 0 | I14: =H14 -> 0 | K14: =G14*J14 -> 0 | L14: =IF(OR(F14="",J14=""),"",IF(J14<F14,"Az ''F'' és/vagy a ''J'' oszlop értéke hibás! Kérjük balról jobbra haladva adja meg a helyes értékeket.",""))
D15: _2020_2021_ősz | E15: Két éves, érettségi vizsgára felkészítő képzés technikumban | G15: ='Támogatás szorzat tényezői'!$C$10*('Támogatás szorzat tényezői'!$C$15/'Támogatás szorzat tényezői'!$C$14) -> 240000 | H15: =F15*G15 -> 0 | I15: =H15 -> 0 | K15: =G15*J15 -> 0 | L15: =IF(OR(F15="",J15=""),"",IF(J15<F15,"Az ''F'' és/vagy a ''J'' oszlop értéke hibás! Kérjük balról jobbra haladva adja meg a helyes értékeket.",""))
... D23: _2020_2021_ősz | E23: Két éves, érettségi vizsgára felkészítő képzés technikumban | G23: ='Támogatás szorzat tényezői'!$C$10*('Támogatás szorzat tényezői'!$C$15/'Támogatás szorzat tényezői'!$C$14) -> 240000 | H23: =F23*G23 -> 0 | I23: =H23 -> 0 | K23: =G23*J23 -> 0 | L23: =IF(OR(F23="",J23=""),"",IF(J23<F23,"Az ''F'' és/vagy a ''J'' oszlop értéke hibás! Kérjük balról jobbra haladva adja meg a helyes értékeket.",""))

Sheet Felnőttokt._Szakk.+Egyéb_képz_1
B1: 2021. nyitó támogatási időszak | E1: ALAPADATOK (TOVÁBBFUTÓ KÉPZÉSEK) | N1: TÁMOGATÁS SZÁMÍTÁS | P1: ELSZÁMOLÁS | R1: KITÖLTÉS UTÁNI LOGIKAI ELLENŐRZÉS
B2: ÖSSZESÍTŐK SORA | D2: MÉG KITÖLTENDŐ CELLÁK SZÁMA ÖSSZESEN: | E2: =COUNTBLANK(B4:G103) -> 600 | G2: =SUM(G4:G103) -> 0 | N2: =SUM(N4:N103) -> 0 | O2: =SUM(O4:O103) -> 0 | P2: =SUM(P4:P103) -> 0 | Q2: =SUM(Q4:Q103) -> 0 | R2: ="LOGIKAI HIBÁK SZÁMA: "&S2 -> LOGIKAI HIBÁK SZÁMA: 0 | S2: =COUNTIF(R4:R103,"A ''G'' és/vagy a ''P'' oszlop értéke hibás! Kérjük balról jobbra haladva adja meg a helyes értékeket.") -> 0
A3: Egyedi sor azonosító | B3: Szakképzési centrum vagy szakképző intézmény fenntartójának neve (lenyíló menü) | C3: Kedvezményezett neve (lenyíló menü) | D3: Szakképző intézmény neve (lenyíló menü) | E3: Képzés kezdete (lenyíló menü) | F3: Szakképesítés / képzés megnevezése (lenyíló menü) | G3: Tanulók létszáma (Továbbfutó képzések előző időszak felülvizsgált záró létszáma) (fő) | H3: OKJ szám | I3: OKJ szint (technikai oszlop) | J3: képzés kezdete + képzés hossza (technikai oszlop) | K3: A képzés lehetséges munkarendje (E = esti, L= levelező, S = egyéb sajátos munkarend, T = távoktatás) | L3: OKJ szám + munkarend (technikai oszlop) | M3: Egy főre eső normatíva a támogatási időszakra (Ft) | N3: Elvi támogatási összeg a támogatási időszakra (létszám * egy főre eső normatíva) (Ft) | O3: Számított támogatási előleg a támogatási időszakra (Ft) | P3: A felnőttoktatásban tanulói jogviszonyban ténylegesen részt vett személyek száma (fő) | Q3: Elszámolt támogatási összeg (az éves elszámolás során kerül érvényesítésre) (Ft) | R3: Kitöltés utáni logikai ellenőrzés
H4: =IFERROR(IF(E4="_2017_2018_ősz",VLOOKUP(F4,Háttértáblák!$L$2:$M$331,2,0),IF(E4="_2017_2018_keresztfélév",VLOOKUP(F4,Háttértáblák!$N$2:$O$326,2,0),IF(OR(E4="_2018_2019_ősz",E4="_2019_2020_ősz"),VLOOKUP(F4,Háttértáblák!$S$2:$T$334,2,0),VLOOKUP(F4,Háttértáblák!$U$2:$V$330,2,0)))),"") | I4: ="_"&LEFT(H4,2) -> _ | J4: =IF(#REF!="","",E4&"_"&IF(#REF!=0.5,"fél_év",#REF!)) -> #REF! | K4: =IF(E4="_2019_2020_ősz",VLOOKUP(F4,#REF!,4,0),IF(OR(E4="_2018_2019_ősz",E4="_2018_2019_keresztfélév"),VLOOKUP(F4,#REF!,4,0),IF(E4="_2017_2018_keresztfélév",VLOOKUP(F4,#REF!,4,0),IF(E4="_2017_2018_ősz",VLOOKUP(F4,#REF!,4,0),IF(OR(E4="_2016_2017_ősz",E4="_2016_2017_keresztfélév"),VLOOKUP(F4,#REF!,4,0),"HIBA!"))))) -> HIBA! | L4: =H4&" "&#REF! -> #REF! | M4: ='Támogatás szorzat tényezői'!$C$19*('Támogatás szorzat tényezői'!$C$15/'Támogatás szorzat tényezői'!$C$14) -> 240000 | N4: =G4*M4 -> 0 | O4: =N4 -> 0 | Q4: =M4*P4 -> 0 | R4: =IF(OR(G4="",P4=""),"",IF(P4<G4,"A ''G'' és/vagy a ''P'' oszlop értéke hibás! Kérjük balról jobbra haladva adja meg a helyes értékeket.",""))
H5: =IFERROR(IF(E5="_2017_2018_ősz",VLOOKUP(F5,Háttértáblák!$L$2:$M$331,2,0),IF(E5="_2017_2018_keresztfélév",VLOOKUP(F5,Háttértáblák!$N$2:$O$326,2,0),IF(OR(E5="_2018_2019_ősz",E5="_2019_2020_ősz"),VLOOKUP(F5,Háttértáblák!$S$2:$T$334,2,0),VLOOKUP(F5,Háttértáblák!$U$2:$V$330,2,0)))),"") | I5: ="_"&LEFT(H5,2) -> _ | J5: =IF(#REF!="","",E5&"_"&IF(#REF!=0.5,"fél_év",#REF!)) -> #REF! | K5: =IF(E5="_2019_2020_ősz",VLOOKUP(F5,#REF!,4,0),IF(OR(E5="_2018_2019_ősz",E5="_2018_2019_keresztfélév"),VLOOKUP(F5,#REF!,4,0),IF(E5="_2017_2018_keresztfélév",VLOOKUP(F5,#REF!,4,0),IF(E5="_2017_2018_ősz",VLOOKUP(F5,#REF!,4,0),IF(OR(E5="_2016_2017_ősz",E5="_2016_2017_keresztfélév"),VLOOKUP(F5,#REF!,4,0),"HIBA!"))))) -> HIBA! | L5: =H5&" "&#REF! -> #REF! | M5: ='Támogatás szorzat tényezői'!$C$19*('Támogatás szorzat tényezői'!$C$15/'Támogatás szorzat tényezői'!$C$14) -> 240000 | N5: =G5*M5 -> 0 | O5: =N5 -> 0 | Q5: =M5*P5 -> 0 | R5: =IF(OR(G5="",P5=""),"",IF(P5<G5,"A ''G'' és/vagy a ''P'' oszlop értéke hibás! Kérjük balról jobbra haladva adja meg a helyes értékeket.",""))
H6: =IFERROR(IF(E6="_2017_2018_ősz",VLOOKUP(F6,Háttértáblák!$L$2:$M$331,2,0),IF(E6="_2017_2018_keresztfélév",VLOOKUP(F6,Háttértáblák!$N$2:$O$326,2,0),IF(OR(E6="_2018_2019_ősz",E6="_2019_2020_ősz"),VLOOKUP(F6,Háttértáblák!$S$2:$T$334,2,0),VLOOKUP(F6,Háttértáblák!$U$2:$V$330,2,0)))),"") | I6: ="_"&LEFT(H6,2) -> _ | J6: =IF(#REF!="","",E6&"_"&IF(#REF!=0.5,"fél_év",#REF!)) -> #REF! | K6: =IF(E6="_2019_2020_ősz",VLOOKUP(F6,#REF!,4,0),IF(OR(E6="_2018_2019_ősz",E6="_2018_2019_keresztfélév"),VLOOKUP(F6,#REF!,4,0),IF(E6="_2017_2018_keresztfélév",VLOOKUP(F6,#REF!,4,0),IF(E6="_2017_2018_ősz",VLOOKUP(F6,#REF!,4,0),IF(OR(E6="_2016_2017_ősz",E6="_2016_2017_keresztfélév"),VLOOKUP(F6,#REF!,4,0),"HIBA!"))))) -> HIBA! | L6: =H6&" "&#REF! -> #REF! | M6: ='Támogatás szorzat tényezői'!$C$19*('Támogatás szorzat tényezői'!$C$15/'Támogatás szorzat tényezői'!$C$14) -> 240000 | N6: =G6*M6 -> 0 | O6: =N6 -> 0 | Q6: =M6*P6 -> 0 | R6: =IF(OR(G6="",P6=""),"",IF(P6<G6,"A ''G'' és/vagy a ''P'' oszlop értéke hibás! Kérjük balról jobbra haladva adja meg a helyes értékeket.",""))
H7: =IFERROR(IF(E7="_2017_2018_ősz",VLOOKUP(F7,Háttértáblák!$L$2:$M$331,2,0),IF(E7="_2017_2018_keresztfélév",VLOOKUP(F7,Háttértáblák!$N$2:$O$326,2,0),IF(OR(E7="_2018_2019_ősz",E7="_2019_2020_ősz"),VLOOKUP(F7,Háttértáblák!$S$2:$T$334,2,0),VLOOKUP(F7,Háttértáblák!$U$2:$V$330,2,0)))),"") | I7: ="_"&LEFT(H7,2) -> _ | J7: =IF(#REF!="","",E7&"_"&IF(#REF!=0.5,"fél_év",#REF!)) -> #REF! | K7: =IF(E7="_2019_2020_ősz",VLOOKUP(F7,#REF!,4,0),IF(OR(E7="_2018_2019_ősz",E7="_2018_2019_keresztfélév"),VLOOKUP(F7,#REF!,4,0),IF(E7="_2017_2018_keresztfélév",VLOOKUP(F7,#REF!,4,0),IF(E7="_2017_2018_ősz",VLOOKUP(F7,#REF!,4,0),IF(OR(E7="_2016_2017_ősz",E7="_2016_2017_keresztfélév"),VLOOKUP(F7,#REF!,4,0),"HIBA!"))))) -> HIBA! | L7: =H7&" "&#REF! -> #REF! | M7: ='Támogatás szorzat tényezői'!$C$19*('Támogatás szorzat tényezői'!$C$15/'Támogatás szorzat tényezői'!$C$14) -> 240000 | N7: =G7*M7 -> 0 | O7: =N7 -> 0 | Q7: =M7*P7 -> 0 | R7: =IF(OR(G7="",P7=""),"",IF(P7<G7,"A ''G'' és/vagy a ''P'' oszlop értéke hibás! Kérjük balról jobbra haladva adja meg a helyes értékeket.",""))
H8: =IFERROR(IF(E8="_2017_2018_ősz",VLOOKUP(F8,Háttértáblák!$L$2:$M$331,2,0),IF(E8="_2017_2018_keresztfélév",VLOOKUP(F8,Háttértáblák!$N$2:$O$326,2,0),IF(OR(E8="_2018_2019_ősz",E8="_2019_2020_ősz"),VLOOKUP(F8,Háttértáblák!$S$2:$T$334,2,0),VLOOKUP(F8,Háttértáblák!$U$2:$V$330,2,0)))),"") | I8: ="_"&LEFT(H8,2) -> _ | J8: =IF(#REF!="","",E8&"_"&IF(#REF!=0.5,"fél_év",#REF!)) -> #REF! | K8: =IF(E8="_2019_2020_ősz",VLOOKUP(F8,#REF!,4,0),IF(OR(E8="_2018_2019_ősz",E8="_2018_2019_keresztfélév"),VLOOKUP(F8,#REF!,4,0),IF(E8="_2017_2018_keresztfélév",VLOOKUP(F8,#REF!,4,0),IF(E8="_2017_2018_ősz",VLOOKUP(F8,#REF!,4,0),IF(OR(E8="_2016_2017_ősz",E8="_2016_2017_keresztfélév"),VLOOKUP(F8,#REF!,4,0),"HIBA!"))))) -> HIBA! | L8: =H8&" "&#REF! -> #REF! | M8: ='Támogatás szorzat tényezői'!$C$19*('Támogatás szorzat tényezői'!$C$15/'Támogatás szorzat tényezői'!$C$14) -> 240000 | N8: =G8*M8 -> 0 | O8: =N8 -> 0 | Q8: =M8*P8 -> 0 | R8: =IF(OR(G8="",P8=""),"",IF(P8<G8,"A ''G'' és/vagy a ''P'' oszlop értéke hibás! Kérjük balról jobbra haladva adja meg a helyes értékeket.",""))
H9: =IFERROR(IF(E9="_2017_2018_ősz",VLOOKUP(F9,Háttértáblák!$L$2:$M$331,2,0),IF(E9="_2017_2018_keresztfélév",VLOOKUP(F9,Háttértáblák!$N$2:$O$326,2,0),IF(OR(E9="_2018_2019_ősz",E9="_2019_2020_ősz"),VLOOKUP(F9,Háttértáblák!$S$2:$T$334,2,0),VLOOKUP(F9,Háttértáblák!$U$2:$V$330,2,0)))),"") | I9: ="_"&LEFT(H9,2) -> _ | J9: =IF(#REF!="","",E9&"_"&IF(#REF!=0.5,"fél_év",#REF!)) -> #REF! | K9: =IF(E9="_2019_2020_ősz",VLOOKUP(F9,#REF!,4,0),IF(OR(E9="_2018_2019_ősz",E9="_2018_2019_keresztfélév"),VLOOKUP(F9,#REF!,4,0),IF(E9="_2017_2018_keresztfélév",VLOOKUP(F9,#REF!,4,0),IF(E9="_2017_2018_ősz",VLOOKUP(F9,#REF!,4,0),IF(OR(E9="_2016_2017_ősz",E9="_2016_2017_keresztfélév"),VLOOKUP(F9,#REF!,4,0),"HIBA!"))))) -> HIBA! | L9: =H9&" "&#REF! -> #REF! | M9: ='Támogatás szorzat tényezői'!$C$19*('Támogatás szorzat tényezői'!$C$15/'Támogatás szorzat tényezői'!$C$14) -> 240000 | N9: =G9*M9 -> 0 | O9: =N9 -> 0 | Q9: =M9*P9 -> 0 | R9: =IF(OR(G9="",P9=""),"",IF(P9<G9,"A ''G'' és/vagy a ''P'' oszlop értéke hibás! Kérjük balról jobbra haladva adja meg a helyes értékeket.",""))
H10: =IFERROR(IF(E10="_2017_2018_ősz",VLOOKUP(F10,Háttértáblák!$L$2:$M$331,2,0),IF(E10="_2017_2018_keresztfélév",VLOOKUP(F10,Háttértáblák!$N$2:$O$326,2,0),IF(OR(E10="_2018_2019_ősz",E10="_2019_2020_ősz"),VLOOKUP(F10,Háttértáblák!$S$2:$T$334,2,0),VLOOKUP(F10,Háttértáblák!$U$2:$V$330,2,0)))),"") | I10: ="_"&LEFT(H10,2) -> _ | J10: =IF(#REF!="","",E10&"_"&IF(#REF!=0.5,"fél_év",#REF!)) -> #REF! | K10: =IF(E10="_2019_2020_ősz",VLOOKUP(F10,#REF!,4,0),IF(OR(E10="_2018_2019_ősz",E10="_2018_2019_keresztfélév"),VLOOKUP(F10,#REF!,4,0),IF(E10="_2017_2018_keresztfélév",VLOOKUP(F10,#REF!,4,0),IF(E10="_2017_2018_ősz",VLOOKUP(F10,#REF!,4,0),IF(OR(E10="_2016_2017_ősz",E10="_2016_2017_keresztfélév"),VLOOKUP(F10,#REF!,4,0),"HIBA!"))))) -> HIBA! | L10: =H10&" "&#REF! -> #REF! | M10: ='Támogatás szorzat tényezői'!$C$19*('Támogatás szorzat tényezői'!$C$15/'Támogatás szorzat tényezői'!$C$14) -> 240000 | N10: =G10*M10 -> 0 | O10: =N10 -> 0 | Q10: =M10*P10 -> 0 | R10: =IF(OR(G10="",P10=""),"",IF(P10<G10,"A ''G'' és/vagy a ''P'' oszlop értéke hibás! Kérjük balról jobbra haladva adja meg a helyes értékeket.",""))
H11: =IFERROR(IF(E11="_2017_2018_ősz",VLOOKUP(F11,Háttértáblák!$L$2:$M$331,2,0),IF(E11="_2017_2018_keresztfélév",VLOOKUP(F11,Háttértáblák!$N$2:$O$326,2,0),IF(OR(E11="_2018_2019_ősz",E11="_2019_2020_ősz"),VLOOKUP(F11,Háttértáblák!$S$2:$T$334,2,0),VLOOKUP(F11,Háttértáblák!$U$2:$V$330,2,0)))),"") | I11: ="_"&LEFT(H11,2) -> _ | J11: =IF(#REF!="","",E11&"_"&IF(#REF!=0.5,"fél_év",#REF!)) -> #REF! | K11: =IF(E11="_2019_2020_ősz",VLOOKUP(F11,#REF!,4,0),IF(OR(E11="_2018_2019_ősz",E11="_2018_2019_keresztfélév"),VLOOKUP(F11,#REF!,4,0),IF(E11="_2017_2018_keresztfélév",VLOOKUP(F11,#REF!,4,0),IF(E11="_2017_2018_ősz",VLOOKUP(F11,#REF!,4,0),IF(OR(E11="_2016_2017_ősz",E11="_2016_2017_keresztfélév"),VLOOKUP(F11,#REF!,4,0),"HIBA!"))))) -> HIBA! | L11: =H11&" "&#REF! -> #REF! | M11: ='Támogatás szorzat tényezői'!$C$19*('Támogatás szorzat tényezői'!$C$15/'Támogatás szorzat tényezői'!$C$14) -> 240000 | N11: =G11*M11 -> 0 | O11: =N11 -> 0 | Q11: =M11*P11 -> 0 | R11: =IF(OR(G11="",P11=""),"",IF(P11<G11,"A ''G'' és/vagy a ''P'' oszlop értéke hibás! Kérjük balról jobbra haladva adja meg a helyes értékeket.",""))
H12: =IFERROR(IF(E12="_2017_2018_ősz",VLOOKUP(F12,Háttértáblák!$L$2:$M$331,2,0),IF(E12="_2017_2018_keresztfélév",VLOOKUP(F12,Háttértáblák!$N$2:$O$326,2,0),IF(OR(E12="_2018_2019_ősz",E12="_2019_2020_ősz"),VLOOKUP(F12,Háttértáblák!$S$2:$T$334,2,0),VLOOKUP(F12,Háttértáblák!$U$2:$V$330,2,0)))),"") | I12: ="_"&LEFT(H12,2) -> _ | J12: =IF(#REF!="","",E12&"_"&IF(#REF!=0.5,"fél_év",#REF!)) -> #REF! | K12: =IF(E12="_2019_2020_ősz",VLOOKUP(F12,#REF!,4,0),IF(OR(E12="_2018_2019_ősz",E12="_2018_2019_keresztfélév"),VLOOKUP(F12,#REF!,4,0),IF(E12="_2017_2018_keresztfélév",VLOOKUP(F12,#REF!,4,0),IF(E12="_2017_2018_ősz",VLOOKUP(F12,#REF!,4,0),IF(OR(E12="_2016_2017_ősz",E12="_2016_2017_keresztfélév"),VLOOKUP(F12,#REF!,4,0),"HIBA!"))))) -> HIBA! | L12: =H12&" "&#REF! -> #REF! | M12: ='Támogatás szorzat tényezői'!$C$19*('Támogatás szorzat tényezői'!$C$15/'Támogatás szorzat tényezői'!$C$14) -> 240000 | N12: =G12*M12 -> 0 | O12: =N12 -> 0 | Q12: =M12*P12 -> 0 | R12: =IF(OR(G12="",P12=""),"",IF(P12<G12,"A ''G'' és/vagy a ''P'' oszlop értéke hibás! Kérjük balról jobbra haladva adja meg a helyes értékeket.",""))
H13: =IFERROR(IF(E13="_2017_2018_ősz",VLOOKUP(F13,Háttértáblák!$L$2:$M$331,2,0),IF(E13="_2017_2018_keresztfélév",VLOOKUP(F13,Háttértáblák!$N$2:$O$326,2,0),IF(OR(E13="_2018_2019_ősz",E13="_2019_2020_ősz"),VLOOKUP(F13,Háttértáblák!$S$2:$T$334,2,0),VLOOKUP(F13,Háttértáblák!$U$2:$V$330,2,0)))),"") | I13: ="_"&LEFT(H13,2) -> _ | J13: =IF(#REF!="","",E13&"_"&IF(#REF!=0.5,"fél_év",#REF!)) -> #REF! | K13: =IF(E13="_2019_2020_ősz",VLOOKUP(F13,#REF!,4,0),IF(OR(E13="_2018_2019_ősz",E13="_2018_2019_keresztfélév"),VLOOKUP(F13,#REF!,4,0),IF(E13="_2017_2018_keresztfélév",VLOOKUP(F13,#REF!,4,0),IF(E13="_2017_2018_ősz",VLOOKUP(F13,#REF!,4,0),IF(OR(E13="_2016_2017_ősz",E13="_2016_2017_keresztfélév"),VLOOKUP(F13,#REF!,4,0),"HIBA!"))))) -> HIBA! | L13: =H13&" "&#REF! -> #REF! | M13: ='Támogatás szorzat tényezői'!$C$19*('Támogatás szorzat tényezői'!$C$15/'Támogatás szorzat tényezői'!$C$14) -> 240000 | N13: =G13*M13 -> 0 | O13: =N13 -> 0 | Q13: =M13*P13 -> 0 | R13: =IF(OR(G13="",P13=""),"",IF(P13<G13,"A ''G'' és/vagy a ''P'' oszlop értéke hibás! Kérjük balról jobbra haladva adja meg a helyes értékeket.",""))
