Workbook
Name _ftn1: 'Szakmajegyzék 2021.09.01-től'!$A$186
Name _ftn10: 'Szakmajegyzék 2021.09.01-től'!$A$195
Name _ftn11: 'Szakmajegyzék 2021.09.01-től'!$A$196
Name _ftn12: 'Szakmajegyzék 2021.09.01-től'!$A$197
Name _ftn13: 'Szakmajegyzék 2021.09.01-től'!$A$198
Name _ftn14: 'Szakmajegyzék 2021.09.01-től'!$A$199
Name _ftn15: 'Szakmajegyzék 2021.09.01-től'!$A$200
Name _ftn16: 'Szakmajegyzék 2021.09.01-től'!$A$201
Name _ftn17: 'Szakmajegyzék 2021.09.01-től'!$A$202
Name _ftn18: 'Szakmajegyzék 2021.09.01-től'!$A$203
Name _ftn19: 'Szakmajegyzék 2021.09.01-től'!$A$204
Name _ftn2: 'Szakmajegyzék 2021.09.01-től'!$A$187
Name _ftn20: 'Szakmajegyzék 2021.09.01-től'!$A$205
Name _ftn21: 'Szakmajegyzék 2021.09.01-től'!$A$206
Name _ftn22: 'Szakmajegyzék 2021.09.01-től'!$A$207
Name _ftn23: 'Szakmajegyzék 2021.09.01-től'!$A$208
Name _ftn24: 'Szakmajegyzék 2021.09.01-től'!$A$209
Name _ftn25: 'Szakmajegyzék 2021.09.01-től'!$A$210
Name _ftn26: 'Szakmajegyzék 2021.09.01-től'!$A$211
Name _ftn27: 'Szakmajegyzék 2021.09.01-től'!$A$212
Name _ftn28: 'Szakmajegyzék 2021.09.01-től'!$A$213
Name _ftn29: 'Szakmajegyzék 2021.09.01-től'!$A$214
Name _ftn3: 'Szakmajegyzék 2021.09.01-től'!$A$188
Name _ftn30: 'Szakmajegyzék 2021.09.01-től'!$A$215
Name _ftn31: 'Szakmajegyzék 2021.09.01-től'!$A$216
Name _ftn32: 'Szakmajegyzék 2021.09.01-től'!$A$217
Name _ftn33: 'Szakmajegyzék 2021.09.01-től'!$A$218
Name _ftn4: 'Szakmajegyzék 2021.09.01-től'!$A$189
Name _ftn5: 'Szakmajegyzék 2021.09.01-től'!$A$190
Name _ftn6: 'Szakmajegyzék 2021.09.01-től'!$A$191
Name _ftn7: 'Szakmajegyzék 2021.09.01-től'!$A$192
Name _ftn8: 'Szakmajegyzék 2021.09.01-től'!$A$193
Name _ftn9: 'Szakmajegyzék 2021.09.01-től'!$A$194
Name _ftnref1: 'Szakmajegyzék 2021.09.01-től'!$A$17
Name _ftnref10: 'Szakmajegyzék 2021.09.01-től'!$A$107
Name _ftnref11: 'Szakmajegyzék 2021.09.01-től'!$A$108
Name _ftnref12: 'Szakmajegyzék 2021.09.01-től'!$A$109
Name _ftnref13: 'Szakmajegyzék 2021.09.01-től'!$A$110
Name _ftnref14: 'Szakmajegyzék 2021.09.01-től'!$A$111
Name _ftnref15: 'Szakmajegyzék 2021.09.01-től'!$A$112
Name _ftnref16: 'Szakmajegyzék 2021.09.01-től'!$A$113
Name _ftnref17: 'Szakmajegyzék 2021.09.01-től'!$A$114
Name _ftnref18: 'Szakmajegyzék 2021.09.01-től'!$A$115
Name _ftnref19: 'Szakmajegyzék 2021.09.01-től'!$A$116
Name _ftnref2: 'Szakmajegyzék 2021.09.01-től'!$A$18
Name _ftnref20: 'Szakmajegyzék 2021.09.01-től'!$A$117
Name _ftnref21: 'Szakmajegyzék 2021.09.01-től'!$A$118
Name _ftnref22: 'Szakmajegyzék 2021.09.01-től'!$A$119
Name _ftnref23: 'Szakmajegyzék 2021.09.01-től'!$A$120
Name _ftnref24: 'Szakmajegyzék 2021.09.01-től'!$A$121
Name _ftnref25: 'Szakmajegyzék 2021.09.01-től'!$A$122
Name _ftnref26: 'Szakmajegyzék 2021.09.01-től'!$A$123
Name _ftnref27: 'Szakmajegyzék 2021.09.01-től'!$A$124
Name _ftnref28: 'Szakmajegyzék 2021.09.01-től'!$A$125
Name _ftnref29: 'Szakmajegyzék 2021.09.01-től'!$A$126
Name _ftnref3: 'Szakmajegyzék 2021.09.01-től'!$A$20
Name _ftnref30: 'Szakmajegyzék 2021.09.01-től'!$A$127
Name _ftnref31: 'Szakmajegyzék 2021.09.01-től'!$A$128
Name _ftnref32: 'Szakmajegyzék 2021.09.01-től'!$A$138
Name _ftnref33: 'Szakmajegyzék 2021.09.01-től'!$A$148

Sheet Nyitó kérelem összesítő
B2: Kérelem normatív támogatás biztosítására, szakképző intézmények szakképzésről szóló törvény szerinti ingyenes képzéseinek - a fejezeti kezelésű előirányzatok és központi kezelésű előirányzatok kezeléséről és felhasználásáról szóló 14/2019. (VI. 12.) ITM rendelet szerinti - kiegészítő finanszírozása érdekében
A3: 2021. évi nyitó támogatási időszak
B5: A kérelmet benyújtó szervezet
B6: megnevezése: | C6: =IFERROR(VLOOKUP(INDIRECT("Szakmai_oktatás_1!B4"),'Kedvezményezettek adatai'!$C$2:$D$51,2,0),"")
B7: székhelye: | C7: =IFERROR(VLOOKUP(C6,'Kedvezményezettek adatai'!D2:G51,4,0),"")
B8: adószáma: | C8: =IFERROR(VLOOKUP(C6,'Kedvezményezettek adatai'!$D$2:$E$51,2,0),"")
B9: képviselője, beosztása: | C9: =B32&" "&B33
B10: számlavezetője: | C10: Magyar Államkincstár
B11: fizetési számlaszáma: | C11: =IFERROR(VLOOKUP(C6,'Kedvezményezettek adatai'!D2:AM51,36,0),"")
B12: kapcsolattartója, beosztása: | C12: =IFERROR(VLOOKUP(C6,'Kedvezményezettek adatai'!D2:M51,10,0),"")
B13: kapcsolattartójának elérhetősége (telefon, e-mail cím): | C13: =IFERROR(VLOOKUP(C6,'Kedvezményezettek adatai'!D2:N51,11,0),"")
B15: Adatok | C15: Képzésben tervezetten részt vevő személyek száma | D15: Támogatási előleg összege (ezer forintra kerekítve)
B16: Szakmai oktatás | C16: =Szakmai_oktatás_1!F2+Szakmai_oktatás_1!G2 -> 0 | D16: =ROUND(Szakmai_oktatás_1!M2,-3) -> 0
B17: Szakmai képzés | C17: =IFERROR(Szakmai_képzés_1!J2+Szakmai_képzés_1!K2,0) -> 0 | D17: =IFERROR(ROUND(Szakmai_képzés_1!Q2,-3),0) -> 0
B18: Egyéb képzés | C18: =IFERROR(Egyéb_képzés_1!F2,0) -> 0 | D18: =IFERROR(ROUND(Egyéb_képzés_1!I2,-3),0) -> 0
B19: Felnőttoktatás - szakképzés és egyéb képzés | C19: ='Felnőttokt._Szakk.+Egyéb_képz_1'!G2 -> 0 | D19: =ROUND('Felnőttokt._Szakk.+Egyéb_képz_1'!O2,-3) -> 0
B20: Összesen | C20: =SUM(C16:C19) -> 0 | D20: =SUM(D16:D19) -> 0
B22: =VLOOKUP(C6,'Kedvezményezettek adatai'!$D$2:$T$51,17,0)&", 2021. január" -> #N/A
B24: Mellékletek:
B25: 1. Szakmai oktatás részletes adatai
B26: ="2. "&IF(C17>0,"Szakmai képzés részletes adatai",IF(C18>0,"Egyéb képzés részletes adatai",IF(AND(C17=0,C18=0),"Felnőttoktatás részletes adatai"))) -> 2. Felnőttoktatás részletes adatai
B27: =IF(AND(C17>0,C18>0),"3. Egyéb képzés részletes adatai",IF(OR(AND(C17=0,C18>0),AND(C17>0,C18=0)),"3. Felnőttoktatás részletes adatai",""))
B28: =IF(AND(C17>0,C18>0),"4. Felnőttoktatás részletes adatai","")
B30: P.H.
B31: …………………………….
B32: =IFERROR(VLOOKUP(B34,'Kedvezményezettek adatai'!$D$2:$H$51,5,0),"")
B33: =IFERROR(VLOOKUP(B34,'Kedvezményezettek adatai'!$D$2:$I$51,6,0),"")
B34: =IFERROR(IF(C6="","",C6),"")

Sheet Nyitó elszámolás összesítő
B2: Rész-elszámolás normatív támogatásról, a szakképző intézmények szakképzésről szóló törvény szerinti ingyenes képzéseinek - a fejezeti kezelésű előirányzatok és központi kezelésű előirányzatok kezeléséről és felhasználásáról szóló 14/2019. (VI. 12.) ITM rendelet szerinti - kiegészítő finanszírozása tekintetében
A3: 2021. évi nyitó támogatási időszak
B5: Az elszámolást benyújtó szervezet
B6: megnevezése: | C6: =IFERROR(VLOOKUP(INDIRECT("Szakmai_oktatás_1!B4"),'Kedvezményezettek adatai'!$C$2:$D$51,2,0),"")
B7: székhelye: | C7: =IFERROR(VLOOKUP(C6,'Kedvezményezettek adatai'!D2:G51,4,0),"")
B8: adószáma: | C8: =IFERROR(VLOOKUP(C6,'Kedvezményezettek adatai'!$D$2:$E$51,2,0),"")
B9: képviselője, beosztása: | C9: =E33&" "&E34
B10: számlavezetője: | C10: =IFERROR(VLOOKUP(C6,'Kedvezményezettek adatai'!D2:AN51,37,0),"")
B11: fizetési számlaszáma: | C11: =IFERROR(VLOOKUP(C6,'Kedvezményezettek adatai'!D2:AM51,36,0),"")
B12: kapcsolattartója, beosztása: | C12: =IFERROR(VLOOKUP(C6,'Kedvezményezettek adatai'!D2:M51,10,0),"")
B13: kapcsolattartójának elérhetősége (telefon, e-mail cím): | C13: =IFERROR(VLOOKUP(C6,'Kedvezményezettek adatai'!D2:N51,11,0),"")
B15: Adatok | C15: Képzésben tervezetten részt vevő személyek száma a kérelem alapján (fő) | D15: Támogatási előleg összege a kérelem alapján (ezer forintra kerekítve) (Ft) | E15: Képzésben ténylegesen részt vevő személyek száma az elszámolás alapján (fő) | F15: Összesen elszámolt támogatási összeg (ezer forintra kerekítve) (Ft)
B16: Szakmai oktatás | C16: =Szakmai_oktatás_1!F2+Szakmai_oktatás_1!G2 -> 0 | D16: =ROUND(Szakmai_oktatás_1!M2,-3) -> 0 | E16: =Szakmai_oktatás_1!N2 -> 0 | F16: =Szakmai_oktatás_1!S2 -> 0
B17: Szakmai képzés | C17: =Szakmai_képzés_1!J2+Szakmai_képzés_1!K2 -> 0 | D17: =ROUND(Szakmai_képzés_1!Q2,-3) -> 0 | E17: =Szakmai_képzés_1!R2 -> 0 | F17: =Szakmai_képzés_1!Y2 -> 0
B18: Egyéb képzés | C18: =Egyéb_képzés_1!F2 -> 0 | D18: =Egyéb_képzés_1!I2 -> 0 | E18: =Egyéb_képzés_1!J2 -> 0 | F18: =Egyéb_képzés_1!K2 -> 0
B19: Továbbfutó felnőttoktatás - szakképzés és egyéb képzés | C19: ='Felnőttokt._Szakk.+Egyéb_képz_1'!G2 -> 0 | D19: =ROUND('Felnőttokt._Szakk.+Egyéb_képz_1'!O2,-3) -> 0 | E19: ='Felnőttokt._Szakk.+Egyéb_képz_1'!P2 -> 0 | F19: ='Felnőttokt._Szakk.+Egyéb_képz_1'!Q2 -> 0
B20: Összesen (Ft) | C20: =SUM(C16:C19) -> 0 | D20: =SUM(D16:D19) -> 0 | E20: =SUM(E16:E19) -> 0 | F20: =SUM(F16:F19) -> 0
B21: A támogatás rész-elszámolás szerinti egyenlege (Ft) / amennyiben ez az összeg a záró elszámolás alapján pozitív összeg lesz, az visszafizetési kötelezettséget, ha negatív összeg, az kiegészítő támogatást jelent / A rész-elszámolás alapján nem történik egyenlegrendezés. | F21: =ROUND(D20-F20,-3) -> 0
B23: =VLOOKUP(C6,'Kedvezményezettek adatai'!$D$2:$T$51,17,0)&", 2021. szeptember" -> #N/A
B25: Mellékletek:
B26: 1. Szakmai oktatás részletes adatai
B27: 2. Szakmai képzés részletes adatai
B28: 3. Egyéb képzés részletes adatai
B29: 4. Felnőttoktatás részletes adatai
D31: P.H.
E32: …………………………….
E33: =IFERROR(VLOOKUP(E35,'Kedvezményezettek adatai'!$D$2:$H$51,5,0),"")
E34: =IFERROR(VLOOKUP(E35,'Kedvezményezettek adatai'!$D$2:$I$51,6,0),"")
E35: =IFERROR(IF(C6="","",C6),"")

Sheet Szakmai_oktatás_1
A1: 2021. nyitó támogatási időszak | E1: ALAPADATOK | L1: TÁMOGATÁS SZÁMÍTÁS | P1: ELSZÁMOLÁS | U1: KITÖLTÉS UTÁNI LOGIKAI ELLENŐRZÉSEK
A2: ÖSSZESÍTŐK SORA | C2: MÉG KITÖLTENDŐ CELLÁK SZÁMA ÖSSZESEN: | D2: =COUNTBLANK(A4:G53) -> 350 | F2: =SUM(F4:F53) -> 0 | G2: =SUM(G4:G53) -> 0 | L2: =SUM(L4:L53) -> 0 | M2: =SUM(M4:M53) -> 0 | N2: =SUM(N4:N53) -> 0 | O2: =SUM(O4:O53) -> 0 | P2: =SUM(P4:P53) -> 0 | Q2: =SUM(Q4:Q53) -> 0 | R2: =SUM(R4:R53) -> 0 | S2: =SUM(S4:S53) -> 0 | U2: ="LOGIKAI HIBÁK SZÁMA: "&V2 -> LOGIKAI HIBÁK SZÁMA: 0 | V2: =COUNTIF(T4:T53,"Az ''F'' és/vagy az ''N'' oszlop értéke hibás! Kérjük balról jobbra haladva adja meg a helyes értékeket.")+COUNTIF(U4:U53,"Az ''N'' és/vagy az ''O'' oszlop értéke hibás! Kérjük balról jobbra haladva adja meg a helyes értékeket.")+COUNTIF(V4:V53,"Az ''O'' és/vagy a ''P'' oszlop értéke hibás! Kérjük balról jobbra haladva adja meg a helyes értékeket.") -> 0
A3: Szakképzési centrum vagy szakképző intézmény fenntartójának neve (lenyíló menü) | B3: Kedvezményezett neve (lenyíló menü) | C3: Szakképző intézmény neve (lenyíló menü) | D3: Szakmai oktatás kezdete (lenyíló menü) | E3: Szakma megnevezése (lenyíló menü) | F3: Felnőttképzési szerződéssel rendelkező, képzésben részt vevő személyek száma (fő) | G3: Tervezett szakmai oktatás esetén a felnőttképzési szerződéssel még nem rendelkező, képzésben részt vevő személyek tervezett száma (fő) | H3: Ágazat megnevezése | I3: Szakma száma | J3: Egy főre eső elvi normatíva a szakmai oktatás teljes időszakára (Ft) | K3: Egy főre eső elvi normatíva a támogatási időszakra (Ft) | L3: Elvi támogatási összeg a támogatási időszakra (létszám * egy főre eső elvi normatíva) (Ft) | M3: Számított támogatási előleg a támogatási időszakra (Ft) | N3: A szakmai oktatásban felnőttképzési szerződéssel ténylegesen részt vett személyek összlétszáma (fő) | O3: A szakmai oktatásban felnőttképzési szerződéssel ténylegesen részt vett személyek támogatási időszak végi záró létszáma (fő) | P3: A szakmai oktatást sikeres vizsgával zárók létszáma (fő) | Q3: Elszámolt támogatási összeg a szakmai oktatásban részt vettek létszáma alapján (az éves elszámolás során kerül érvényesítésre) (Ft) | R3: Elszámolt támogatási összeg a sikeres vizsgázók létszáma alapján (az éves elszámolás során kerül érvényesítésre) (Ft) | S3: Elszámolt támogatási összeg összesen (Ft) | T3: Kitöltés utáni logikai ellenőrzés 1 | U3: Kitöltés utáni logikai ellenőrzés 2 | V3: Kitöltés utáni logikai ellenőrzés 3
H4: =IFERROR(VLOOKUP(E4,'Szakmajegyzék 2021.I.1-'!$B$7:$C$181,2,0),"") | I4: =IFERROR(VLOOKUP(E4,'Szakmajegyzék 2021.I.1-'!$B$7:$K$181,10,0),"") | J4: =IFERROR(VLOOKUP(E4,'Szakmajegyzék 2021.I.1-'!$L$7:$R$181,6,0),"") | K4: =IFERROR(VLOOKUP(E4,'Szakmajegyzék 2021.I.1-'!$L$7:$R$181,7,0)*('Támogatás szorzat tényezői'!$C$15/'Támogatás szorzat tényezői'!$C$14),"") | L4: =IFERROR((F4+G4)*K4,"") | M4: =IFERROR((F4*K4*'Támogatás szorzat tényezői'!$C$7)+(G4*K4*'Támogatás szorzat tényezői'!$C$7*'Támogatás szorzat tényezői'!$C$8),"") | Q4: =IF(N4="","",K4*'Támogatás szorzat tényezői'!$C$7*N4) | R4: =IF(P4="","",J4*(1-'Támogatás szorzat tényezői'!$C$7)*P4) | S4: =IFERROR(Q4+R4,"") | T4: =IF(OR(F4="",N4=""),"",IF(N4<F4,"Az ''F'' és/vagy az ''N'' oszlop értéke hibás! Kérjük balról jobbra haladva adja meg a helyes értékeket.","")) | U4: =IF(OR(N4="",O4=""),"",IF(O4>N4,"Az ''N'' és/vagy az ''O'' oszlop értéke hibás! Kérjük balról jobbra haladva adja meg a helyes értékeket.","")) | V4: =IF(OR(O4="",P4=""),"",IF(P4>O4,"Az ''O'' és/vagy a ''P'' oszlop értéke hibás! Kérjük balról jobbra haladva adja meg a helyes értékeket.",""))
H5: =IFERROR(VLOOKUP(E5,'Szakmajegyzék 2021.I.1-'!$B$7:$C$181,2,0),"") | I5: =IFERROR(VLOOKUP(E5,'Szakmajegyzék 2021.I.1-'!$B$7:$K$181,10,0),"") | J5: =IFERROR(VLOOKUP(E5,'Szakmajegyzék 2021.I.1-'!$L$7:$R$181,6,0),"") | K5: =IFERROR(VLOOKUP(E5,'Szakmajegyzék 2021.I.1-'!$L$7:$R$181,7,0)*('Támogatás szorzat tényezői'!$C$15/'Támogatás szorzat tényezői'!$C$14),"") | L5: =IFERROR((F5+G5)*K5,"") | M5: =IFERROR((F5*K5*'Támogatás szorzat tényezői'!$C$7)+(G5*K5*'Támogatás szorzat tényezői'!$C$7*'Támogatás szorzat tényezői'!$C$8),"") | Q5: =IF(N5="","",K5*'Támogatás szorzat tényezői'!$C$7*N5) | R5: =IF(P5="","",J5*(1-'Támogatás szorzat tényezői'!$C$7)*P5) | S5: =IFERROR(Q5+R5,"") | T5: =IF(OR(F5="",N5=""),"",IF(N5<F5,"Az ''F'' és/vagy az ''N'' oszlop értéke hibás! Kérjük balról jobbra haladva adja meg a helyes értékeket.","")) | U5: =IF(OR(N5="",O5=""),"",IF(O5>N5,"Az ''N'' és/vagy az ''O'' oszlop értéke hibás! Kérjük balról jobbra haladva adja meg a helyes értékeket.","")) | V5: =IF(OR(O5="",P5=""),"",IF(P5>O5,"Az ''O'' és/vagy a ''P'' oszlop értéke hibás! Kérjük balról jobbra haladva adja meg a helyes értékeket.",""))
H6: =IFERROR(VLOOKUP(E6,'Szakmajegyzék 2021.I.1-'!$B$7:$C$181,2,0),"") | I6: =IFERROR(VLOOKUP(E6,'Szakmajegyzék 2021.I.1-'!$B$7:$K$181,10,0),"") | J6: =IFERROR(VLOOKUP(E6,'Szakmajegyzék 2021.I.1-'!$L$7:$R$181,6,0),"") | K6: =IFERROR(VLOOKUP(E6,'Szakmajegyzék 2021.I.1-'!$L$7:$R$181,7,0)*('Támogatás szorzat tényezői'!$C$15/'Támogatás szorzat tényezői'!$C$14),"") | L6: =IFERROR((F6+G6)*K6,"") | M6: =IFERROR((F6*K6*'Támogatás szorzat tényezői'!$C$7)+(G6*K6*'Támogatás szorzat tényezői'!$C$7*'Támogatás szorzat tényezői'!$C$8),"") | Q6: =IF(N6="","",K6*'Támogatás szorzat tényezői'!$C$7*N6) | R6: =IF(P6="","",J6*(1-'Támogatás szorzat tényezői'!$C$7)*P6) | S6: =IFERROR(Q6+R6,"") | T6: =IF(OR(F6="",N6=""),"",IF(N6<F6,"Az ''F'' és/vagy az ''N'' oszlop értéke hibás! Kérjük balról jobbra haladva adja meg a helyes értékeket.","")) | U6: =IF(OR(N6="",O6=""),"",IF(O6>N6,"Az ''N'' és/vagy az ''O'' oszlop értéke hibás! Kérjük balról jobbra haladva adja meg a helyes értékeket.","")) | V6: =IF(OR(O6="",P6=""),"",IF(P6>O6,"Az ''O'' és/vagy a ''P'' oszlop értéke hibás! Kérjük balról jobbra haladva adja meg a helyes értékeket.",""))
H7: =IFERROR(VLOOKUP(E7,'Szakmajegyzék 2021.I.1-'!$B$7:$C$181,2,0),"") | I7: =IFERROR(VLOOKUP(E7,'Szakmajegyzék 2021.I.1-'!$B$7:$K$181,10,0),"") | J7: =IFERROR(VLOOKUP(E7,'Szakmajegyzék 2021.I.1-'!$L$7:$R$181,6,0),"") | K7: =IFERROR(VLOOKUP(E7,'Szakmajegyzék 2021.I.1-'!$L$7:$R$181,7,0)*('Támogatás szorzat tényezői'!$C$15/'Támogatás szorzat tényezői'!$C$14),"") | L7: =IFERROR((F7+G7)*K7,"") | M7: =IFERROR((F7*K7*'Támogatás szorzat tényezői'!$C$7)+(G7*K7*'Támogatás szorzat tényezői'!$C$7*'Támogatás szorzat tényezői'!$C$8),"") | Q7: =IF(N7="","",K7*'Támogatás szorzat tényezői'!$C$7*N7) | R7: =IF(P7="","",J7*(1-'Támogatás szorzat tényezői'!$C$7)*P7) | S7: =IFERROR(Q7+R7,"") | T7: =IF(OR(F7="",N7=""),"",IF(N7<F7,"Az ''F'' és/vagy az ''N'' oszlop értéke hibás! Kérjük balról jobbra haladva adja meg a helyes értékeket.","")) | U7: =IF(OR(N7="",O7=""),"",IF(O7>N7,"Az ''N'' és/vagy az ''O'' oszlop értéke hibás! Kérjük balról jobbra haladva adja meg a helyes értékeket.","")) | V7: =IF(OR(O7="",P7=""),"",IF(P7>O7,"Az ''O'' és/vagy a ''P'' oszlop értéke hibás! Kérjük balról jobbra haladva adja meg a helyes értékeket.",""))
H8: =IFERROR(VLOOKUP(E8,'Szakmajegyzék 2021.I.1-'!$B$7:$C$181,2,0),"") | I8: =IFERROR(VLOOKUP(E8,'Szakmajegyzék 2021.I.1-'!$B$7:$K$181,10,0),"") | J8: =IFERROR(VLOOKUP(E8,'Szakmajegyzék 2021.I.1-'!$L$7:$R$181,6,0),"") | K8: =IFERROR(VLOOKUP(E8,'Szakmajegyzék 2021.I.1-'!$L$7:$R$181,7,0)*('Támogatás szorzat tényezői'!$C$15/'Támogatás szorzat tényezői'!$C$14),"") | L8: =IFERROR((F8+G8)*K8,"") | M8: =IFERROR((F8*K8*'Támogatás szorzat tényezői'!$C$7)+(G8*K8*'Támogatás szorzat tényezői'!$C$7*'Támogatás szorzat tényezői'!$C$8),"") | Q8: =IF(N8="","",K8*'Támogatás szorzat tényezői'!$C$7*N8) | R8: =IF(P8="","",J8*(1-'Támogatás szorzat tényezői'!$C$7)*P8) | S8: =IFERROR(Q8+R8,"") | T8: =IF(OR(F8="",N8=""),"",IF(N8<F8,"Az ''F'' és/vagy az ''N'' oszlop értéke hibás! Kérjük balról jobbra haladva adja meg a helyes értékeket.","")) | U8: =IF(OR(N8="",O8=""),"",IF(O8>N8,"Az ''N'' és/vagy az ''O'' oszlop értéke hibás! Kérjük balról jobbra haladva adja meg a helyes értékeket.","")) | V8: =IF(OR(O8="",P8=""),"",IF(P8>O8,"Az ''O'' és/vagy a ''P'' oszlop értéke hibás! Kérjük balról jobbra haladva adja meg a helyes értékeket.",""))
H9: =IFERROR(VLOOKUP(E9,'Szakmajegyzék 2021.I.1-'!$B$7:$C$181,2,0),"") | I9: =IFERROR(VLOOKUP(E9,'Szakmajegyzék 2021.I.1-'!$B$7:$K$181,10,0),"") | J9: =IFERROR(VLOOKUP(E9,'Szakmajegyzék 2021.I.1-'!$L$7:$R$181,6,0),"") | K9: =IFERROR(VLOOKUP(E9,'Szakmajegyzék 2021.I.1-'!$L$7:$R$181,7,0)*('Támogatás szorzat tényezői'!$C$15/'Támogatás szorzat tényezői'!$C$14),"") | L9: =IFERROR((F9+G9)*K9,"") | M9: =IFERROR((F9*K9*'Támogatás szorzat tényezői'!$C$7)+(G9*K9*'Támogatás szorzat tényezői'!$C$7*'Támogatás szorzat tényezői'!$C$8),"") | Q9: =IF(N9="","",K9*'Támogatás szorzat tényezői'!$C$7*N9) | R9: =IF(P9="","",J9*(1-'Támogatás szorzat tényezői'!$C$7)*P9) | S9: =IFERROR(Q9+R9,"") | T9: =IF(OR(F9="",N9=""),"",IF(N9<F9,"Az ''F'' és/vagy az ''N'' oszlop értéke hibás! Kérjük balról jobbra haladva adja meg a helyes értékeket.","")) | U9: =IF(OR(N9="",O9=""),"",IF(O9>N9,"Az ''N'' és/vagy az ''O'' oszlop értéke hibás! Kérjük balról jobbra haladva adja meg a helyes értékeket.","")) | V9: =IF(OR(O9="",P9=""),"",IF(P9>O9,"Az ''O'' és/vagy a ''P'' oszlop értéke hibás! Kérjük balról jobbra haladva adja meg a helyes értékeket.",""))
H10: =IFERROR(VLOOKUP(E10,'Szakmajegyzék 2021.I.1-'!$B$7:$C$181,2,0),"") | I10: =IFERROR(VLOOKUP(E10,'Szakmajegyzék 2021.I.1-'!$B$7:$K$181,10,0),"") | J10: =IFERROR(VLOOKUP(E10,'Szakmajegyzék 2021.I.1-'!$L$7:$R$181,6,0),"") | K10: =IFERROR(VLOOKUP(E10,'Szakmajegyzék 2021.I.1-'!$L$7:$R$181,7,0)*('Támogatás szorzat tényezői'!$C$15/'Támogatás szorzat tényezői'!$C$14),"") | L10: =IFERROR((F10+G10)*K10,"") | M10: =IFERROR((F10*K10*'Támogatás szorzat tényezői'!$C$7)+(G10*K10*'Támogatás szorzat tényezői'!$C$7*'Támogatás szorzat tényezői'!$C$8),"") | Q10: =IF(N10="","",K10*'Támogatás szorzat tényezői'!$C$7*N10) | R10: =IF(P10="","",J10*(1-'Támogatás szorzat tényezői'!$C$7)*P10) | S10: =IFERROR(Q10+R10,"") | T10: =IF(OR(F10="",N10=""),"",IF(N10<F10,"Az ''F'' és/vagy az ''N'' oszlop értéke hibás! Kérjük balról jobbra haladva adja meg a helyes értékeket.","")) | U10: =IF(OR(N10="",O10=""),"",IF(O10>N10,"Az ''N'' és/vagy az ''O'' oszlop értéke hibás! Kérjük balról jobbra haladva adja meg a helyes értékeket.","")) | V10: =IF(OR(O10="",P10=""),"",IF(P10>O10,"Az ''O'' és/vagy a ''P'' oszlop értéke hibás! Kérjük balról jobbra haladva adja meg a helyes értékeket.",""))
H11: =IFERROR(VLOOKUP(E11,'Szakmajegyzék 2021.I.1-'!$B$7:$C$181,2,0),"") | I11: =IFERROR(VLOOKUP(E11,'Szakmajegyzék 2021.I.1-'!$B$7:$K$181,10,0),"") | J11: =IFERROR(VLOOKUP(E11,'Szakmajegyzék 2021.I.1-'!$L$7:$R$181,6,0),"") | K11: =IFERROR(VLOOKUP(E11,'Szakmajegyzék 2021.I.1-'!$L$7:$R$181,7,0)*('Támogatás szorzat tényezői'!$C$15/'Támogatás szorzat tényezői'!$C$14),"") | L11: =IFERROR((F11+G11)*K11,"") | M11: =IFERROR((F11*K11*'Támogatás szorzat tényezői'!$C$7)+(G11*K11*'Támogatás szorzat tényezői'!$C$7*'Támogatás szorzat tényezői'!$C$8),"") | Q11: =IF(N11="","",K11*'Támogatás szorzat tényezői'!$C$7*N11) | R11: =IF(P11="","",J11*(1-'Támogatás szorzat tényezői'!$C$7)*P11) | S11: =IFERROR(Q11+R11,"") | T11: =IF(OR(F11="",N11=""),"",IF(N11<F11,"Az ''F'' és/vagy az ''N'' oszlop értéke hibás! Kérjük balról jobbra haladva adja meg a helyes értékeket.","")) | U11: =IF(OR(N11="",O11=""),"",IF(O11>N11,"Az ''N'' és/vagy az ''O'' oszlop értéke hibás! Kérjük balról jobbra haladva adja meg a helyes értékeket.","")) | V11: =IF(OR(O11="",P11=""),"",IF(P11>O11,"Az ''O'' és/vagy a ''P'' oszlop értéke hibás! Kérjük balról jobbra haladva adja meg a helyes értékeket.",""))
H12: =IFERROR(VLOOKUP(E12,'Szakmajegyzék 2021.I.1-'!$B$7:$C$181,2,0),"") | I12: =IFERROR(VLOOKUP(E12,'Szakmajegyzék 2021.I.1-'!$B$7:$K$181,10,0),"") | J12: =IFERROR(VLOOKUP(E12,'Szakmajegyzék 2021.I.1-'!$L$7:$R$181,6,0),"") | K12: =IFERROR(VLOOKUP(E12,'Szakmajegyzék 2021.I.1-'!$L$7:$R$181,7,0)*('Támogatás szorzat tényezői'!$C$15/'Támogatás szorzat tényezői'!$C$14),"") | L12: =IFERROR((F12+G12)*K12,"") | M12: =IFERROR((F12*K12*'Támogatás szorzat tényezői'!$C$7)+(G12*K12*'Támogatás szorzat tényezői'!$C$7*'Támogatás szorzat tényezői'!$C$8),"") | Q12: =IF(N12="","",K12*'Támogatás szorzat tényezői'!$C$7*N12) | R12: =IF(P12="","",J12*(1-'Támogatás szorzat tényezői'!$C$7)*P12) | S12: =IFERROR(Q12+R12,"") | T12: =IF(OR(F12="",N12=""),"",IF(N12<F12,"Az ''F'' és/vagy az ''N'' oszlop értéke hibás! Kérjük balról jobbra haladva adja meg a helyes értékeket.","")) | U12: =IF(OR(N12="",O12=""),"",IF(O12>N12,"Az ''N'' és/vagy az ''O'' oszlop értéke hibás! Kérjük balról jobbra haladva adja meg a helyes értékeket.","")) | V12: =IF(OR(O12="",P12=""),"",IF(P12>O12,"Az ''O'' és/vagy a ''P'' oszlop értéke hibás! Kérjük balról jobbra haladva adja meg a helyes értékeket.",""))
H13: =IFERROR(VLOOKUP(E13,'Szakmajegyzék 2021.I.1-'!$B$7:$C$181,2,0),"") | I13: =IFERROR(VLOOKUP(E13,'Szakmajegyzék 2021.I.1-'!$B$7:$K$181,10,0),"") | J13: =IFERROR(VLOOKUP(E13,'Szakmajegyzék 2021.I.1-'!$L$7:$R$181,6,0),"") | K13: =IFERROR(VLOOKUP(E13,'Szakmajegyzék 2021.I.1-'!$L$7:$R$181,7,0)*('Támogatás szorzat tényezői'!$C$15/'Támogatás szorzat tényezői'!$C$14),"") | L13: =IFERROR((F13+G13)*K13,"") | M13: =IFERROR((F13*K13*'Támogatás szorzat tényezői'!$C$7)+(G13*K13*'Támogatás szorzat tényezői'!$C$7*'Támogatás szorzat tényezői'!$C$8),"") | Q13: =IF(N13="","",K13*'Támogatás szorzat tényezői'!$C$7*N13) | R13: =IF(P13="","",J13*(1-'Támogatás szorzat tényezői'!$C$7)*P13) | S13: =IFERROR(Q13+R13,"") | T13: =IF(OR(F13="",N13=""),"",IF(N13<F13,"Az ''F'' és/vagy az ''N'' oszlop értéke hibás! Kérjük balról jobbra haladva adja meg a helyes értékeket.","")) | U13: =IF(OR(N13="",O13=""),"",IF(O13>N13,"Az ''N'' és/vagy az ''O'' oszlop értéke hibás! Kérjük balról jobbra haladva adja meg a helyes értékeket.","")) | V13: =IF(OR(O13="",P13=""),"",IF(P13>O13,"Az ''O'' és/vagy a ''P'' oszlop értéke hibás! Kérjük balról jobbra haladva adja meg a helyes értékeket.",""))
H14: =IFERROR(VLOOKUP(E14,'Szakmajegyzék 2021.I.1-'!$B$7:$C$181,2,0),"") | I14: =IFERROR(VLOOKUP(E14,'Szakmajegyzék 2021.I.1-'!$B$7:$K$181,10,0),"") | J14: =IFERROR(VLOOKUP(E14,'Szakmajegyzék 2021.I.1-'!$L$7:$R$181,6,0),"") | K14: =IFERROR(VLOOKUP(E14,'Szakmajegyzék 2021.I.1-'!$L$7:$R$181,7,0)*('Támogatás szorzat tényezői'!$C$15/'Támogatás szorzat tényezői'!$C$14),"") | L14: =IFERROR((F14+G14)*K14,"") | M14: =IFERROR((F14*K14*'Támogatás szorzat tényezői'!$C$7)+(G14*K14*'Támogatás szorzat tényezői'!$C$7*'Támogatás szorzat tényezői'!$C$8),"") | Q14: =IF(N14="","",K14*'Támogatás szorzat tényezői'!$C$7*N14) | R14: =IF(P14="","",J14*(1-'Támogatás szorzat tényezői'!$C$7)*P14) | S14: =IFERROR(Q14+R14,"") | T14: =IF(OR(F14="",N14=""),"",IF(N14<F14,"Az ''F'' és/vagy az ''N'' oszlop értéke hibás! Kérjük balról jobbra haladva adja meg a helyes értékeket.","")) | U14: =IF(OR(N14="",O14=""),"",IF(O14>N14,"Az ''N'' és/vagy az ''O'' oszlop értéke hibás! Kérjük balról jobbra haladva adja meg a helyes értékeket.","")) | V14: =IF(OR(O14="",P14=""),"",IF(P14>O14,"Az ''O'' és/vagy a ''P'' oszlop értéke hibás! Kérjük balról jobbra haladva adja meg a helyes értékeket.",""))
H15: =IFERROR(VLOOKUP(E15,'Szakmajegyzék 2021.I.1-'!$B$7:$C$181,2,0),"") | I15: =IFERROR(VLOOKUP(E15,'Szakmajegyzék 2021.I.1-'!$B$7:$K$181,10,0),"") | J15: =IFERROR(VLOOKUP(E15,'Szakmajegyzék 2021.I.1-'!$L$7:$R$181,6,0),"") | K15: =IFERROR(VLOOKUP(E15,'Szakmajegyzék 2021.I.1-'!$L$7:$R$181,7,0)*('Támogatás szorzat tényezői'!$C$15/'Támogatás szorzat tényezői'!$C$14),"") | L15: =IFERROR((F15+G15)*K15,"") | M15: =IFERROR((F15*K15*'Támogatás szorzat tényezői'!$C$7)+(G15*K15*'Támogatás szorzat tényezői'!$C$7*'Támogatás szorzat tényezői'!$C$8),"") | Q15: =IF(N15="","",K15*'Támogatás szorzat tényezői'!$C$7*N15) | R15: =IF(P15="","",J15*(1-'Támogatás szorzat tényezői'!$C$7)*P15) | S15: =IFERROR(Q15+R15,"") | T15: =IF(OR(F15="",N15=""),"",IF(N15<F15,"Az ''F'' és/vagy az ''N'' oszlop értéke hibás! Kérjük balról jobbra haladva adja meg a helyes értékeket.","")) | U15: =IF(OR(N15="",O15=""),"",IF(O15>N15,"Az ''N'' és/vagy az ''O'' oszlop értéke hibás! Kérjük balról jobbra haladva adja meg a helyes értékeket.","")) | V15: =IF(OR(O15="",P15=""),"",IF(P15>O15,"Az ''O'' és/vagy a ''P'' oszlop értéke hibás! Kérjük balról jobbra haladva adja meg a helyes értékeket.",""))
... H53: =IFERROR(VLOOKUP(E53,'Szakmajegyzék 2021.I.1-'!$B$7:$C$181,2,0),"") | I53: =IFERROR(VLOOKUP(E53,'Szakmajegyzék 2021.I.1-'!$B$7:$K$181,10,0),"") | J53: =IFERROR(VLOOKUP(E53,'Szakmajegyzék 2021.I.1-'!$L$7:$R$181,6,0),"") | K53: =IFERROR(VLOOKUP(E53,'Szakmajegyzék 2021.I.1-'!$L$7:$R$181,7,0)*('Támogatás szorzat tényezői'!$C$15/'Támogatás szorzat tényezői'!$C$14),"") | L53: =IFERROR((F53+G53)*K53,"") | M53: =IFERROR((F53*K53*'Támogatás szorzat tényezői'!$C$7)+(G53*K53*'Támogatás szorzat tényezői'!$C$7*'Támogatás szorzat tényezői'!$C$8),"") | Q53: =IF(N53="","",K53*'Támogatás szorzat tényezői'!$C$7*N53) | R53: =IF(P53="","",J53*(1-'Támogatás szorzat tényezői'!$C$7)*P53) | S53: =IFERROR(Q53+R53,"") | T53: =IF(OR(F53="",N53=""),"",IF(N53<F53,"Az ''F'' és/vagy az ''N'' oszlop értéke hibás! Kérjük balról jobbra haladva adja meg a helyes értékeket.","")) | U53: =IF(OR(N53="",O53=""),"",IF(O53>N53,"Az ''N'' és/vagy az ''O'' oszlop értéke hibás! Kérjük balról jobbra haladva adja meg a helyes értékeket.","")) | V53: =IF(OR(O53="",P53=""),"",IF(P53>O53,"Az ''O'' és/vagy a ''P'' oszlop értéke hibás! Kérjük balról jobbra haladva adja meg a helyes értékeket.",""))

Sheet Szakmai_képzés_1
A1: 2021. nyitó támogatási időszak | E1: ALAPADATOK | P1: TÁMOGATÁS SZÁMÍTÁS | T1: ELSZÁMOLÁS | AA1: KITÖLTÉS UTÁNI LOGIKAI ELLENŐRZÉSEK
A2: ÖSSZESÍTŐK SORA | C2: MÉG KITÖLTENDŐ CELLÁK SZÁMA ÖSSZESEN: | D2: =COUNTBLANK(A4:E53)+COUNTBLANK(H4:K53) -> 400 | J2: =SUM(J4:J53) -> 0 | K2: =SUM(K4:K53) -> 0 | P2: =SUM(P4:P53) -> 0 | Q2: =SUM(Q4:Q53) -> 0 | R2: =SUM(R4:R53) -> 0 | S2: =SUM(S4:S53) -> 0 | T2: =SUM(T4:T53) -> 0 | U2: =SUM(U4:U53) -> 0 | W2: =SUM(W4:W53) -> 0 | X2: =SUM(X4:X53) -> 0 | Y2: =SUM(Y4:Y53) -> 0 | AA2: ="LOGIKAI HIBÁK SZÁMA: "&AB2 -> LOGIKAI HIBÁK SZÁMA: 0 | AB2: =COUNTIF(Z4:Z53,"Az ''I'' és/vagy a ''H'' oszlop értéke hibás! Kérjük balról jobbra haladva adja meg a helyes értékeket.")+COUNTIF(AA4:AA53,"A ''J'' és/vagy az ''R'' oszlop értéke hibás! Kérjük balról jobbra haladva adja meg a helyes értékeket.")+COUNTIF(AB4:AB53,"Az ''R'' és/vagy az ''S'' oszlop értéke hibás! Kérjük balról jobbra haladva adja meg a helyes értékeket.")+COUNTIF(AC4:AC53,"Az ''S'' és/vagy a ''T'' oszlop értéke hibás! Kérjük balról jobbra haladva adja meg a helyes értékeket.")+COUNTIF(AD4:AD53,"Az ''S'' és/vagy a ''T'' és/vagy az ''U'' oszlop értéke hibás! Kérjük balról jobbra haladva adja meg a helyes értékeket.")+COUNTIF(AE4:AE53,"Az ''I'' és/vagy a ''V'' oszlop értéke hibás! Kérjük balról jobbra haladva adja meg a helyes értékeket.") -> 0
A3: Szakképzési centrum vagy szakképző intézmény fenntartójának neve (lenyíló menü) | B3: Kedvezményezett neve (lenyíló menü) | C3: Szakképző intézmény neve (lenyíló menü) | D3: Képzés kezdete (lenyíló menü) | E3: Szakképesítés megnevezése (lenyíló menü) | F3: Minimális óraszám (program-követelmény szerint) | G3: Maximális óraszám (program-követelmény szerint) | H3: Tervezett összes óraszám | I3: Tervezett óraszám a támogatási időszakban (2021.01.01 - 2021.08.31.) | J3: Felnőttképzési szerződéssel rendelkező, képzésben részt vevő személyek száma (fő) | K3: Tervezett képzés esetén a felnőttképzési szerződéssel még nem rendelkező, képzésben részt vevő személyek tervezett száma (fő) | L3: Ágazat megnevezése (programkövetelmény szerint) | M3: Szakképesítés száma | N3: Egy főre eső elvi normatíva a szakmai képzés teljes időszakára (Ft) | O3: Egy főre eső elvi normatíva a támogatási időszakra (Ft) | P3: Elvi támogatási összeg a támogatási időszakra (létszám * egy főre eső elvi normatíva) (Ft) | Q3: Számított támogatási előleg a támogatási időszakra (Ft) | R3: A szakmai képzésben felnőttképzési szerződéssel ténylegesen részt vett személyek összlétszáma (fő) | S3: A szakmai képzésben felnőttképzési szerződéssel ténylegesen részt vett személyek támogatási időszak végi záró létszáma (fő) | T3: A szakmai képzést sikeres vizsgával zárók létszáma (fő) | U3: A szakmai képzést csak tanúsítvánnyal zárók létszáma (fő) | V3: A tervezett óraszámból a támogatási időszakban (2021.01.01 - 2021.08.31.) ténylegesen mevalósult órák száma | W3: Elszámolt támogatási összeg a sikeres vizsgázók létszáma alapján (az éves elszámolás során kerül érvényesítésre) (Ft) | X3: Elszámolt támogatási összeg a csak tanúsítványt szerzők létszáma alapján (az éves elszámolás során kerül érvényesítésre) (Ft) | Y3: Elszámolt támogatási összeg összesen (Ft) | Z3: Kitöltés utáni logikai ellenőrzés 1 | AA3: Kitöltés utáni logikai ellenőrzés 2 | AB3: Kitöltés utáni logikai ellenőrzés 3 | AC3: Kitöltés utáni logikai ellenőrzés 4 | AD3: Kitöltés utáni logikai ellenőrzés 5 | AE3: Kitöltés utáni logikai ellenőrzés 6
D4: _2020_09_2021_08_hó_között | F4: =IFERROR(VLOOKUP(E4,'Szakképesítések 21.01.08. PK-k'!$B$2:$I$364,7,0),"") | G4: =IFERROR(VLOOKUP(E4,'Szakképesítések 21.01.08. PK-k'!$B$2:$I$364,8,0),"") | L4: =IFERROR(VLOOKUP(E4,'Szakképesítések 21.01.08. PK-k'!$B$2:$G$364,6,0),"") | M4: =IFERROR(VLOOKUP(E4,'Szakképesítések 21.01.08. PK-k'!$B$2:$C$364,2,0),"") | N4: =IFERROR(VLOOKUP(E4,'Szakképesítések 21.01.08. PK-k'!$B$2:$K$364,10,0),"") | O4: =IF(I4="","",(N4*I4/H4)) | P4: =IFERROR((J4+K4)*O4,"") | Q4: =IFERROR((J4*O4*'Támogatás szorzat tényezői'!$C$7)+(K4*O4*'Támogatás szorzat tényezői'!$C$7*'Támogatás szorzat tényezői'!$C$8),"") | W4: =IF(T4="","",N4*T4) | X4: =IF(T4="","",N4*('Támogatás szorzat tényezői'!$C$6/'Támogatás szorzat tényezői'!$C$4)*U4) | Y4: =IFERROR(W4+X4,"") | Z4: =IF(OR(H4="",I4=""),"",IF(I4>H4,"Az ''I'' és/vagy a ''H'' oszlop értéke hibás! Kérjük balról jobbra haladva adja meg a helyes értékeket.","")) | AA4: =IF(OR(J4="",R4=""),"",IF(J4>R4,"A ''J'' és/vagy az ''R'' oszlop értéke hibás! Kérjük balról jobbra haladva adja meg a helyes értékeket.","")) | AB4: =IF(OR(S4="",R4=""),"",IF(S4>R4,"Az ''R'' és/vagy az ''S'' oszlop értéke hibás! Kérjük balról jobbra haladva adja meg a helyes értékeket.","")) | AC4: =IF(OR(S4="",T4=""),"",IF(T4>S4,"Az ''S'' és/vagy a ''T'' oszlop értéke hibás! Kérjük balról jobbra haladva adja meg a helyes értékeket.","")) | AD4: =IF(OR(S4="",T4="",U4=""),"",IF(U4>S4-T4,"Az ''S'' és/vagy a ''T'' és/vagy az ''U'' oszlop értéke hibás! Kérjük balról jobbra haladva adja meg a helyes értékeket.","")) | AE4: =IF(OR(I4="",V4=""),"",IF(V4>I4,"Az ''I'' és/vagy a ''V'' oszlop értéke hibás! Kérjük balról jobbra haladva adja meg a helyes értékeket.",""))
D5: _2020_09_2021_08_hó_között | F5: =IFERROR(VLOOKUP(E5,'Szakképesítések 21.01.08. PK-k'!$B$2:$I$364,7,0),"") | G5: =IFERROR(VLOOKUP(E5,'Szakképesítések 21.01.08. PK-k'!$B$2:$I$364,8,0),"") | L5: =IFERROR(VLOOKUP(E5,'Szakképesítések 21.01.08. PK-k'!$B$2:$G$364,6,0),"") | M5: =IFERROR(VLOOKUP(E5,'Szakképesítések 21.01.08. PK-k'!$B$2:$C$364,2,0),"") | N5: =IFERROR(VLOOKUP(E5,'Szakképesítések 21.01.08. PK-k'!$B$2:$K$364,10,0),"") | O5: =IF(I5="","",(N5*I5/H5)) | P5: =IFERROR((J5+K5)*N5,"") | Q5: =IFERROR((J5*N5)+(K5*0.5*N5),"") | W5: =IF(T5="","",N5*T5) | X5: =IF(T5="","",N5*('Támogatás szorzat tényezői'!$C$6/'Támogatás szorzat tényezői'!$C$4)*U5) | Y5: =IFERROR(W5+X5,"")
D6: _2020_09_2021_08_hó_között | F6: =IFERROR(VLOOKUP(E6,'Szakképesítések 21.01.08. PK-k'!$B$2:$I$364,7,0),"") | G6: =IFERROR(VLOOKUP(E6,'Szakképesítések 21.01.08. PK-k'!$B$2:$I$364,8,0),"") | L6: =IFERROR(VLOOKUP(E6,'Szakképesítések 21.01.08. PK-k'!$B$2:$G$364,6,0),"") | M6: =IFERROR(VLOOKUP(E6,'Szakképesítések 21.01.08. PK-k'!$B$2:$C$364,2,0),"") | N6: =IFERROR(VLOOKUP(E6,'Szakképesítések 21.01.08. PK-k'!$B$2:$K$364,10,0),"") | O6: =IF(I6="","",(N6*I6/H6)) | P6: =IFERROR((J6+K6)*N6,"") | Q6: =IFERROR((J6*N6)+(K6*0.5*N6),"") | W6: =IF(T6="","",N6*T6) | X6: =IF(T6="","",N6*('Támogatás szorzat tényezői'!$C$6/'Támogatás szorzat tényezői'!$C$4)*U6) | Y6: =IFERROR(W6+X6,"")
D7: _2020_09_2021_08_hó_között | F7: =IFERROR(VLOOKUP(E7,'Szakképesítések 21.01.08. PK-k'!$B$2:$I$364,7,0),"") | G7: =IFERROR(VLOOKUP(E7,'Szakképesítések 21.01.08. PK-k'!$B$2:$I$364,8,0),"") | L7: =IFERROR(VLOOKUP(E7,'Szakképesítések 21.01.08. PK-k'!$B$2:$G$364,6,0),"") | M7: =IFERROR(VLOOKUP(E7,'Szakképesítések 21.01.08. PK-k'!$B$2:$C$364,2,0),"") | N7: =IFERROR(VLOOKUP(E7,'Szakképesítések 21.01.08. PK-k'!$B$2:$K$364,10,0),"") | O7: =IF(I7="","",(N7*I7/H7)) | P7: =IFERROR((J7+K7)*N7,"") | Q7: =IFERROR((J7*N7)+(K7*0.5*N7),"") | W7: =IF(T7="","",N7*T7) | X7: =IF(T7="","",N7*('Támogatás szorzat tényezői'!$C$6/'Támogatás szorzat tényezői'!$C$4)*U7) | Y7: =IFERROR(W7+X7,"")
D8: _2020_09_2021_08_hó_között | F8: =IFERROR(VLOOKUP(E8,'Szakképesítések 21.01.08. PK-k'!$B$2:$I$364,7,0),"") | G8: =IFERROR(VLOOKUP(E8,'Szakképesítések 21.01.08. PK-k'!$B$2:$I$364,8,0),"") | L8: =IFERROR(VLOOKUP(E8,'Szakképesítések 21.01.08. PK-k'!$B$2:$G$364,6,0),"") | M8: =IFERROR(VLOOKUP(E8,'Szakképesítések 21.01.08. PK-k'!$B$2:$C$364,2,0),"") | N8: =IFERROR(VLOOKUP(E8,'Szakképesítések 21.01.08. PK-k'!$B$2:$K$364,10,0),"") | O8: =IF(I8="","",(N8*I8/H8)) | P8: =IFERROR((J8+K8)*N8,"") | Q8: =IFERROR((J8*N8)+(K8*0.5*N8),"") | W8: =IF(T8="","",N8*T8) | X8: =IF(T8="","",N8*('Támogatás szorzat tényezői'!$C$6/'Támogatás szorzat tényezői'!$C$4)*U8) | Y8: =IFERROR(W8+X8,"")
D9: _2020_09_2021_08_hó_között | F9: =IFERROR(VLOOKUP(E9,'Szakképesítések 21.01.08. PK-k'!$B$2:$I$364,7,0),"") | G9: =IFERROR(VLOOKUP(E9,'Szakképesítések 21.01.08. PK-k'!$B$2:$I$364,8,0),"") | L9: =IFERROR(VLOOKUP(E9,'Szakképesítések 21.01.08. PK-k'!$B$2:$G$364,6,0),"") | M9: =IFERROR(VLOOKUP(E9,'Szakképesítések 21.01.08. PK-k'!$B$2:$C$364,2,0),"") | N9: =IFERROR(VLOOKUP(E9,'Szakképesítések 21.01.08. PK-k'!$B$2:$K$364,10,0),"") | O9: =IF(I9="","",(N9*I9/H9)) | P9: =IFERROR((J9+K9)*N9,"") | Q9: =IFERROR((J9*N9)+(K9*0.5*N9),"") | W9: =IF(T9="","",N9*T9) | X9: =IF(T9="","",N9*('Támogatás szorzat tényezői'!$C$6/'Támogatás szorzat tényezői'!$C$4)*U9) | Y9: =IFERROR(W9+X9,"")
D10: _2020_09_2021_08_hó_között | F10: =IFERROR(VLOOKUP(E10,'Szakképesítések 21.01.08. PK-k'!$B$2:$I$364,7,0),"") | G10: =IFERROR(VLOOKUP(E10,'Szakképesítések 21.01.08. PK-k'!$B$2:$I$364,8,0),"") | L10: =IFERROR(VLOOKUP(E10,'Szakképesítések 21.01.08. PK-k'!$B$2:$G$364,6,0),"") | M10: =IFERROR(VLOOKUP(E10,'Szakképesítések 21.01.08. PK-k'!$B$2:$C$364,2,0),"") | N10: =IFERROR(VLOOKUP(E10,'Szakképesítések 21.01.08. PK-k'!$B$2:$K$364,10,0),"") | O10: =IF(I10="","",(N10*I10/H10)) | P10: =IFERROR((J10+K10)*N10,"") | Q10: =IFERROR((J10*N10)+(K10*0.5*N10),"") | W10: =IF(T10="","",N10*T10) | X10: =IF(T10="","",N10*('Támogatás szorzat tényezői'!$C$6/'Támogatás szorzat tényezői'!$C$4)*U10) | Y10: =IFERROR(W10+X10,"")
D11: _2020_09_2021_08_hó_között | F11: =IFERROR(VLOOKUP(E11,'Szakképesítések 21.01.08. PK-k'!$B$2:$I$364,7,0),"") | G11: =IFERROR(VLOOKUP(E11,'Szakképesítések 21.01.08. PK-k'!$B$2:$I$364,8,0),"") | L11: =IFERROR(VLOOKUP(E11,'Szakképesítések 21.01.08. PK-k'!$B$2:$G$364,6,0),"") | M11: =IFERROR(VLOOKUP(E11,'Szakképesítések 21.01.08. PK-k'!$B$2:$C$364,2,0),"") | N11: =IFERROR(VLOOKUP(E11,'Szakképesítések 21.01.08. PK-k'!$B$2:$K$364,10,0),"") | O11: =IF(I11="","",(N11*I11/H11)) | P11: =IFERROR((J11+K11)*N11,"") | Q11: =IFERROR((J11*N11)+(K11*0.5*N11),"") | W11: =IF(T11="","",N11*T11) | X11: =IF(T11="","",N11*('Támogatás szorzat tényezői'!$C$6/'Támogatás szorzat tényezői'!$C$4)*U11) | Y11: =IFERROR(W11+X11,"")
D12: _2020_09_2021_08_hó_között | F12: =IFERROR(VLOOKUP(E12,'Szakképesítések 21.01.08. PK-k'!$B$2:$I$364,7,0),"") | G12: =IFERROR(VLOOKUP(E12,'Szakképesítések 21.01.08. PK-k'!$B$2:$I$364,8,0),"") | L12: =IFERROR(VLOOKUP(E12,'Szakképesítések 21.01.08. PK-k'!$B$2:$G$364,6,0),"") | M12: =IFERROR(VLOOKUP(E12,'Szakképesítések 21.01.08. PK-k'!$B$2:$C$364,2,0),"") | N12: =IFERROR(VLOOKUP(E12,'Szakképesítések 21.01.08. PK-k'!$B$2:$K$364,10,0),"") | O12: =IF(I12="","",(N12*I12/H12)) | P12: =IFERROR((J12+K12)*N12,"") | Q12: =IFERROR((J12*N12)+(K12*0.5*N12),"") | W12: =IF(T12="","",N12*T12) | X12: =IF(T12="","",N12*('Támogatás szorzat tényezői'!$C$6/'Támogatás szorzat tényezői'!$C$4)*U12) | Y12: =IFERROR(W12+X12,"")
D13: _2020_09_2021_08_hó_között | F13: =IFERROR(VLOOKUP(E13,'Szakképesítések 21.01.08. PK-k'!$B$2:$I$364,7,0),"") | G13: =IFERROR(VLOOKUP(E13,'Szakképesítések 21.01.08. PK-k'!$B$2:$I$364,8,0),"") | L13: =IFERROR(VLOOKUP(E13,'Szakképesítések 21.01.08. PK-k'!$B$2:$G$364,6,0),"") | M13: =IFERROR(VLOOKUP(E13,'Szakképesítések 21.01.08. PK-k'!$B$2:$C$364,2,0),"") | N13: =IFERROR(VLOOKUP(E13,'Szakképesítések 21.01.08. PK-k'!$B$2:$K$364,10,0),"") | O13: =IF(I13="","",(N13*I13/H13)) | P13: =IFERROR((J13+K13)*N13,"") | Q13: =IFERROR((J13*N13)+(K13*0.5*N13),"") | W13: =IF(T13="","",N13*T13) | X13: =IF(T13="","",N13*('Támogatás szorzat tényezői'!$C$6/'Támogatás szorzat tényezői'!$C$4)*U13) | Y13: =IFERROR(W13+X13,"")
D14: _2020_09_2021_08_hó_között | F14: =IFERROR(VLOOKUP(E14,'Szakképesítések 21.01.08. PK-k'!$B$2:$I$364,7,0),"") | G14: =IFERROR(VLOOKUP(E14,'Szakképesítések 21.01.08. PK-k'!$B$2:$I$364,8,0),"") | L14: =IFERROR(VLOOKUP(E14,'Szakképesítések 21.01.08. PK-k'!$B$2:$G$364,6,0),"") | M14: =IFERROR(VLOOKUP(E14,'Szakképesítések 21.01.08. PK-k'!$B$2:$C$364,2,0),"") | N14: =IFERROR(VLOOKUP(E14,'Szakképesítések 21.01.08. PK-k'!$B$2:$K$364,10,0),"") | O14: =IF(I14="","",(N14*I14/H14)) | P14: =IFERROR((J14+K14)*N14,"") | Q14: =IFERROR((J14*N14)+(K14*0.5*N14),"") | W14: =IF(T14="","",N14*T14) | X14: =IF(T14="","",N14*('Támogatás szorzat tényezői'!$C$6/'Támogatás szorzat tényezői'!$C$4)*U14) | Y14: =IFERROR(W14+X14,"")
D15: _2020_09_2021_08_hó_között | F15: =IFERROR(VLOOKUP(E15,'Szakképesítések 21.01.08. PK-k'!$B$2:$I$364,7,0),"") | G15: =IFERROR(VLOOKUP(E15,'Szakképesítések 21.01.08. PK-k'!$B$2:$I$364,8,0),"") | L15: =IFERROR(VLOOKUP(E15,'Szakképesítések 21.01.08. PK-k'!$B$2:$G$364,6,0),"") | M15: =IFERROR(VLOOKUP(E15,'Szakképesítések 21.01.08. PK-k'!$B$2:$C$364,2,0),"") | N15: =IFERROR(VLOOKUP(E15,'Szakképesítések 21.01.08. PK-k'!$B$2:$K$364,10,0),"") | O15: =IF(I15="","",(N15*I15/H15)) | P15: =IFERROR((J15+K15)*N15,"") | Q15: =IFERROR((J15*N15)+(K15*0.5*N15),"") | W15: =IF(T15="","",N15*T15) | X15: =IF(T15="","",N15*('Támogatás szorzat tényezői'!$C$6/'Támogatás szorzat tényezői'!$C$4)*U15) | Y15: =IFERROR(W15+X15,"")
D16: _2020_09_2021_08_hó_között | F16: =IFERROR(VLOOKUP(E16,'Szakképesítések 21.01.08. PK-k'!$B$2:$I$364,7,0),"") | G16: =IFERROR(VLOOKUP(E16,'Szakképesítések 21.01.08. PK-k'!$B$2:$I$364,8,0),"") | L16: =IFERROR(VLOOKUP(E16,'Szakképesítések 21.01.08. PK-k'!$B$2:$G$364,6,0),"") | M16: =IFERROR(VLOOKUP(E16,'Szakképesítések 21.01.08. PK-k'!$B$2:$C$364,2,0),"") | N16: =IFERROR(VLOOKUP(E16,'Szakképesítések 21.01.08. PK-k'!$B$2:$K$364,10,0),"") | O16: =IF(I16="","",(N16*I16/H16)) | P16: =IFERROR((J16+K16)*N16,"") | Q16: =IFERROR((J16*N16)+(K16*0.5*N16),"") | W16: =IF(T16="","",N16*T16) | X16: =IF(T16="","",N16*('Támogatás szorzat tényezői'!$C$6/'Támogatás szorzat tényezői'!$C$4)*U16) | Y16: =IFERROR(W16+X16,"")
... D53: _2020_09_2021_08_hó_között | F53: =IFERROR(VLOOKUP(E53,'Szakképesítések 21.01.08. PK-k'!$B$2:$I$364,7,0),"") | G53: =IFERROR(VLOOKUP(E53,'Szakképesítések 21.01.08. PK-k'!$B$2:$I$364,8,0),"") | L53: =IFERROR(VLOOKUP(E53,'Szakképesítések 21.01.08. PK-k'!$B$2:$G$364,6,0),"") | M53: =IFERROR(VLOOKUP(E53,'Szakképesítések 21.01.08. PK-k'!$B$2:$C$364,2,0),"") | N53: =IFERROR(VLOOKUP(E53,'Szakképesítések 21.01.08. PK-k'!$B$2:$K$364,10,0),"") | O53: =IF(I53="","",(N53*I53/H53)) | P53: =IFERROR((J53+K53)*N53,"") | Q53: =IFERROR((J53*N53)+(K53*0.5*N53),"") | W53: =IF(T53="","",N53*T53) | X53: =IF(T53="","",N53*('Támogatás szorzat tényezői'!$C$6/'Támogatás szorzat tényezői'!$C$4)*U53) | Y53: =IFERROR(W53+X53,"")

Sheet Egyéb_képzés_1
A1: 2021. nyitó támogatási időszak | E1: ALAPADATOK | H1: TÁMOGATÁS SZÁMÍTÁS | J1: ELSZÁMOLÁS | L1: KITÖLTÉS UTÁNI LOGIKAI ELLENŐRZÉS
A2: ÖSSZESÍTŐK SORA | C2: MÉG KITÖLTENDŐ CELLÁK SZÁMA ÖSSZESEN: | D2: =COUNTBLANK(A4:C23)+COUNTBLANK(F4:F23) -> 80 | F2: =SUM(F4:F23) -> 0 | H2: =SUM(H4:H23) -> 0 | I2: =SUM(I4:I23) -> 0 | J2: =SUM(J4:J23) -> 0 | K2: =SUM(K4:K23) -> 0 | L2: ="LOGIKAI HIBÁK SZÁMA: "&M2 -> LOGIKAI HIBÁK SZÁMA: 0 | M2: =COUNTIF(L4:L23,"Az ''F'' és/vagy a ''J'' oszlop értéke hibás! Kérjük balról jobbra haladva adja meg a helyes értékeket.") -> 0
A3: Szakképzési centrum vagy szakképző intézmény fenntartójának neve (lenyíló menü) | B3: Kedvezményezett neve (lenyíló menü) | C3: Szakképző intézmény neve (lenyíló menü) | D3: Képzés kezdete (lenyíló menü) | E3: Képzés típusa (lenyíló menü) | F3: Felnőttképzési szerződéssel rendelkező, képzésben részt vevő személyek száma (fő) | G3: Egy főre eső normatíva a támogatási időszakra (Ft) | H3: Elvi támogatási összeg a támogatási időszakra (létszám * egy főre eső normatíva) (Ft) | I3: Számított támogatási előleg a támogatási időszakra (Ft) | J3: Az egyéb képzésben felnőttképzési szerződéssel ténylegesen részt vett személyek száma (fő) | K3: Elszámolt támogatási összeg (az éves elszámolás során kerül érvényesítésre) (Ft) | L3: Kitöltés utáni logikai ellenőrzés
D4: _2020_2021_ősz | E4: Két éves, érettségi vizsgára felkészítő képzés technikumban | G4: ='Támogatás szorzat tényezői'!$C$10*('Támogatás szorzat tényezői'!$C$15/'Támogatás szorzat tényezői'!$C$14) -> 240000 | H4: =F4*G4 -> 0 | I4: =H4 -> 0 | K4: =G4*J4 -> 0 | L4: =IF(OR(F4="",J4=""),"",IF(J4<F4,"Az ''F'' és/vagy a ''J'' oszlop értéke hibás! Kérjük balról jobbra haladva adja meg a helyes értékeket.",""))
D5: _2020_2021_ősz | E5: Két éves, érettségi vizsgára felkészítő képzés technikumban | G5: ='Támogatás szorzat tényezői'!$C$10*('Támogatás szorzat tényezői'!$C$15/'Támogatás szorzat tényezői'!$C$14) -> 240000 | H5: =F5*G5 -> 0 | I5: =H5 -> 0 | K5: =G5*J5 -> 0 | L5: =IF(OR(F5="",J5=""),"",IF(J5<F5,"Az ''F'' és/vagy a ''J'' oszlop értéke hibás! Kérjük balról jobbra haladva adja meg a helyes értékeket.",""))
D6: _2020_2021_ősz | E6: Két éves, érettségi vizsgára felkészítő képzés technikumban | G6: ='Támogatás szorzat tényezői'!$C$10*('Támogatás szorzat tényezői'!$C$15/'Támogatás szorzat tényezői'!$C$14) -> 240000 | H6: =F6*G6 -> 0 | I6: =H6 -> 0 | K6: =G6*J6 -> 0 | L6: =IF(OR(F6="",J6=""),"",IF(J6<F6,"Az ''F'' és/vagy a ''J'' oszlop értéke hibás! Kérjük balról jobbra haladva adja meg a helyes értékeket.",""))
D7: _2020_2021_ősz | E7: Két éves, érettségi vizsgára felkészítő képzés technikumban | G7: ='Támogatás szorzat tényezői'!$C$10*('Támogatás szorzat tényezői'!$C$15/'Támogatás szorzat tényezői'!$C$14) -> 240000 | H7: =F7*G7 -> 0 | I7: =H7 -> 0 | K7: =G7*J7 -> 0 | L7: =IF(OR(F7="",J7=""),"",IF(J7<F7,"Az ''F'' és/vagy a ''J'' oszlop értéke hibás! Kérjük balról jobbra haladva adja meg a helyes értékeket.",""))
D8: _2020_2021_ősz | E8: Két éves, érettségi vizsgára felkészítő képzés technikumban | G8: ='Támogatás szorzat tényezői'!$C$10*('Támogatás szorzat tényezői'!$C$15/'Támogatás szorzat tényezői'!$C$14) -> 240000 | H8: =F8*G8 -> 0 | I8: =H8 -> 0 | K8: =G8*J8 -> 0 | L8: =IF(OR(F8="",J8=""),"",IF(J8<F8,"Az ''F'' és/vagy a ''J'' oszlop értéke hibás! Kérjük balról jobbra haladva adja meg a helyes értékeket.",""))
D9: _2020_2021_ősz | E9: Két éves, érettségi vizsgára felkészítő képzés technikumban | G9: ='Támogatás szorzat tényezői'!$C$10*('Támogatás szorzat tényezői'!$C$15/'Támogatás szorzat tényezői'!$C$14) -> 240000 | H9: =F9*G9 -> 0 | I9: =H9 -> 0 | K9: =G9*J9 -> 0 | L9: =IF(OR(F9="",J9=""),"",IF(J9<F9,"Az ''F'' és/vagy a ''J'' oszlop értéke hibás! Kérjük balról jobbra haladva adja meg a helyes értékeket.",""))
D10: _2020_2021_ősz | E10: Két éves, érettségi vizsgára felkészítő képzés technikumban | G10: ='Támogatás szorzat tényezői'!$C$10*('Támogatás szorzat tényezői'!$C$15/'Támogatás szorzat tényezői'!$C$14) -> 240000 | H10: =F10*G10 -> 0 | I10: =H10 -> 0 | K10: =G10*J10 -> 0 | L10: =IF(OR(F10="",J10=""),"",IF(J10<F10,"Az ''F'' és/vagy a ''J'' oszlop értéke hibás! Kérjük balról jobbra haladva adja meg a helyes értékeket.",""))
D11: _2020_2021_ősz | E11: Két éves, érettségi vizsgára felkészítő képzés technikumban | G11: ='Támogatás szorzat tényezői'!$C$10*('Támogatás szorzat tényezői'!$C$15/'Támogatás szorzat tényezői'!$C$14) -> 240000 | H11: =F11*G11 -> 0 | I11: =H11 -> 0 | K11: =G11*J11 -> 0 | L11: =IF(OR(F11="",J11=""),"",IF(J11<F11,"Az ''F'' és/vagy a ''J'' oszlop értéke hibás! Kérjük balról jobbra haladva adja meg a helyes értékeket.",""))
D12: _2020_2021_ősz | E12: Két éves, érettségi vizsgára felkészítő képzés technikumban | G12: ='Támogatás szorzat tényezői'!$C$10*('Támogatás szorzat tényezői'!$C$15/'Támogatás szorzat tényezői'!$C$14) -> 240000 | H12: =F12*G12 -> 0 | I12: =H12 -> 0 | K12: =G12*J12 -> 0 | L12: =IF(OR(F12="",J12=""),"",IF(J12<F12,"Az ''F'' és/vagy a ''J'' oszlop értéke hibás! Kérjük balról jobbra haladva adja meg a helyes értékeket.",""))
D13: _2020_2021_ősz | E13: Két éves, érettségi vizsgára felkészítő képzés technikumban | G13: ='Támogatás szorzat tényezői'!$C$10*('Támogatás szorzat tényezői'!$C$15/'Támogatás szorzat tényezői'!$C$14) -> 240000 | H13: =F13*G13 -> 0 | I13: =H13 -> 0 | K13: =G13*J13 -> 0 | L13: =IF(OR(F13="",J13=""),"",IF(J13<F13,"Az ''F'' és/vagy a ''J'' oszlop értéke hibás! Kérjük balról jobbra haladva adja meg a helyes értékeket.",""))
D14: _2020_2021_ősz | E14: Két éves, érettségi vizsgára felkészítő képzés technikumban | G14: ='Támogatás szorzat tényezői'!$C$10*('Támogatás szorzat tényezői'!$C$15/'Támogatás szorzat tényezői'!$C$14) -> 240000 | H14: =F14*G14 -> 0 | I14: =H14 -> 0 | K14: =G14*J14 -> 0 | L14: =IF(OR(F14="",J14=""),"",IF(J14<F14,"Az ''F'' és/vagy a ''J'' oszlop értéke hibás! Kérjük balról jobbra haladva adja meg a helyes értékeket.",""))
D15: _2020_2021_ősz | E15: Két éves, érettségi vizsgára felkészítő képzés technikumban | G15: ='Támogatás szorzat tényezői'!$C$10*('Támogatás szorzat tényezői'!$C$15/'Támogatás szorzat tényezői'!$C$14) -> 240000 | H15: =F15*G15 -> 0 | I15: =H15 -> 0 | K15: =G15*J15 -> 0 | L15: =IF(OR(F15="",J15=""),"",IF(J15<F15,"Az ''F'' és/vagy a ''J'' oszlop értéke hibás! Kérjük balról jobbra haladva adja meg a helyes értékeket.",""))
... D23: _2020_2021_ősz | E23: Két éves, érettségi vizsgára felkészítő képzés technikumban | G23: ='Támogatás szorzat tényezői'!$C$10*('Támogatás szorzat tényezői'!$C$15/'Támogatás szorzat tényezői'!$C$14) -> 240000 | H23: =F23*G23 -> 0 | I23: =H23 -> 0 | K23: =G23*J23 -> 0 | L23: =IF(OR(F23="",J23=""),"",IF(J23<F23,"Az ''F'' és/vagy a ''J'' oszlop értéke hibás! Kérjük balról jobbra haladva adja meg a helyes értékeket.",""))

Sheet Felnőttokt._Szakk.+Egyéb_képz_1
B1: 2021. nyitó támogatási időszak | E1: ALAPADATOK (TOVÁBBFUTÓ KÉPZÉSEK) | N1: TÁMOGATÁS SZÁMÍTÁS | P1: ELSZÁMOLÁS | R1: KITÖLTÉS UTÁNI LOGIKAI ELLENŐRZÉS
B2: ÖSSZESÍTŐK SORA | D2: MÉG KITÖLTENDŐ CELLÁK SZÁMA ÖSSZESEN: | E2: =COUNTBLANK(B4:G103) -> 600 | G2: =SUM(G4:G103) -> 0 | N2: =SUM(N4:N103) -> 0 | O2: =SUM(O4:O103) -> 0 | P2: =SUM(P4:P103) -> 0 | Q2: =SUM(Q4:Q103) -> 0 | R2: ="LOGIKAI HIBÁK SZÁMA: "&S2 -> LOGIKAI HIBÁK SZÁMA: 0 | S2: =COUNTIF(R4:R103,"A ''G'' és/vagy a ''P'' oszlop értéke hibás! Kérjük balról jobbra haladva adja meg a helyes értékeket.") -> 0
A3: Egyedi sor azonosító | B3: Szakképzési centrum vagy szakképző intézmény fenntartójának neve (lenyíló menü) | C3: Kedvezményezett neve (lenyíló menü) | D3: Szakképző intézmény neve (lenyíló menü) | E3: Képzés kezdete (lenyíló menü) | F3: Szakképesítés / képzés megnevezése (lenyíló menü) | G3: Tanulók létszáma (Továbbfutó képzések előző időszak felülvizsgált záró létszáma) (fő) | H3: OKJ szám | I3: OKJ szint (technikai oszlop) | J3: képzés kezdete + képzés hossza (technikai oszlop) | K3: A képzés lehetséges munkarendje (E = esti, L= levelező, S = egyéb sajátos munkarend, T = távoktatás) | L3: OKJ szám + munkarend (technikai oszlop) | M3: Egy főre eső normatíva a támogatási időszakra (Ft) | N3: Elvi támogatási összeg a támogatási időszakra (létszám * egy főre eső normatíva) (Ft) | O3: Számított támogatási előleg a támogatási időszakra (Ft) | P3: A felnőttoktatásban tanulói jogviszonyban ténylegesen részt vett személyek száma (fő) | Q3: Elszámolt támogatási összeg (az éves elszámolás során kerül érvényesítésre) (Ft) | R3: Kitöltés utáni logikai ellenőrzés
H4: =IFERROR(IF(E4="_2017_2018_ősz",VLOOKUP(F4,Háttértáblák!$L$2:$M$331,2,0),IF(E4="_2017_2018_keresztfélév",VLOOKUP(F4,Háttértáblák!$N$2:$O$326,2,0),IF(OR(E4="_2018_2019_ősz",E4="_2019_2020_ősz"),VLOOKUP(F4,Háttértáblák!$S$2:$T$334,2,0),VLOOKUP(F4,Háttértáblák!$U$2:$V$330,2,0)))),"") | I4: ="_"&LEFT(H4,2) -> _ | J4: =IF(#REF!="","",E4&"_"&IF(#REF!=0.5,"fél_év",#REF!)) -> #REF! | K4: =IF(E4="_2019_2020_ősz",VLOOKUP(F4,#REF!,4,0),IF(OR(E4="_2018_2019_ősz",E4="_2018_2019_keresztfélév"),VLOOKUP(F4,#REF!,4,0),IF(E4="_2017_2018_keresztfélév",VLOOKUP(F4,#REF!,4,0),IF(E4="_2017_2018_ősz",VLOOKUP(F4,#REF!,4,0),IF(OR(E4="_2016_2017_ősz",E4="_2016_2017_keresztfélév"),VLOOKUP(F4,#REF!,4,0),"HIBA!"))))) -> HIBA! | L4: =H4&" "&#REF! -> #REF! | M4: ='Támogatás szorzat tényezői'!$C$19*('Támogatás szorzat tényezői'!$C$15/'Támogatás szorzat tényezői'!$C$14) -> 240000 | N4: =G4*M4 -> 0 | O4: =N4 -> 0 | Q4: =M4*P4 -> 0 | R4: =IF(OR(G4="",P4=""),"",IF(P4<G4,"A ''G'' és/vagy a ''P'' oszlop értéke hibás! Kérjük balról jobbra haladva adja meg a helyes értékeket.",""))
H5: =IFERROR(IF(E5="_2017_2018_ősz",VLOOKUP(F5,Háttértáblák!$L$2:$M$331,2,0),IF(E5="_2017_2018_keresztfélév",VLOOKUP(F5,Háttértáblák!$N$2:$O$326,2,0),IF(OR(E5="_2018_2019_ősz",E5="_2019_2020_ősz"),VLOOKUP(F5,Háttértáblák!$S$2:$T$334,2,0),VLOOKUP(F5,Háttértáblák!$U$2:$V$330,2,0)))),"") | I5: ="_"&LEFT(H5,2) -> _ | J5: =IF(#REF!="","",E5&"_"&IF(#REF!=0.5,"fél_év",#REF!)) -> #REF! | K5: =IF(E5="_2019_2020_ősz",VLOOKUP(F5,#REF!,4,0),IF(OR(E5="_2018_2019_ősz",E5="_2018_2019_keresztfélév"),VLOOKUP(F5,#REF!,4,0),IF(E5="_2017_2018_keresztfélév",VLOOKUP(F5,#REF!,4,0),IF(E5="_2017_2018_ősz",VLOOKUP(F5,#REF!,4,0),IF(OR(E5="_2016_2017_ősz",E5="_2016_2017_keresztfélév"),VLOOKUP(F5,#REF!,4,0),"HIBA!"))))) -> HIBA! | L5: =H5&" "&#REF! -> #REF! | M5: ='Támogatás szorzat tényezői'!$C$19*('Támogatás szorzat tényezői'!$C$15/'Támogatás szorzat tényezői'!$C$14) -> 240000 | N5: =G5*M5 -> 0 | O5: =N5 -> 0 | Q5: =M5*P5 -> 0 | R5: =IF(OR(G5="",P5=""),"",IF(P5<G5,"A ''G'' és/vagy a ''P'' oszlop értéke hibás! Kérjük balról jobbra haladva adja meg a helyes értékeket.",""))
H6: =IFERROR(IF(E6="_2017_2018_ősz",VLOOKUP(F6,Háttértáblák!$L$2:$M$331,2,0),IF(E6="_2017_2018_keresztfélév",VLOOKUP(F6,Háttértáblák!$N$2:$O$326,2,0),IF(OR(E6="_2018_2019_ősz",E6="_2019_2020_ősz"),VLOOKUP(F6,Háttértáblák!$S$2:$T$334,2,0),VLOOKUP(F6,Háttértáblák!$U$2:$V$330,2,0)))),"") | I6: ="_"&LEFT(H6,2) -> _ | J6: =IF(#REF!="","",E6&"_"&IF(#REF!=0.5,"fél_év",#REF!)) -> #REF! | K6: =IF(E6="_2019_2020_ősz",VLOOKUP(F6,#REF!,4,0),IF(OR(E6="_2018_2019_ősz",E6="_2018_2019_keresztfélév"),VLOOKUP(F6,#REF!,4,0),IF(E6="_2017_2018_keresztfélév",VLOOKUP(F6,#REF!,4,0),IF(E6="_2017_2018_ősz",VLOOKUP(F6,#REF!,4,0),IF(OR(E6="_2016_2017_ősz",E6="_2016_2017_keresztfélév"),VLOOKUP(F6,#REF!,4,0),"HIBA!"))))) -> HIBA! | L6: =H6&" "&#REF! -> #REF! | M6: ='Támogatás szorzat tényezői'!$C$19*('Támogatás szorzat tényezői'!$C$15/'Támogatás szorzat tényezői'!$C$14) -> 240000 | N6: =G6*M6 -> 0 | O6: =N6 -> 0 | Q6: =M6*P6 -> 0 | R6: =IF(OR(G6="",P6=""),"",IF(P6<G6,"A ''G'' és/vagy a ''P'' oszlop értéke hibás! Kérjük balról jobbra haladva adja meg a helyes értékeket.",""))
H7: =IFERROR(IF(E7="_2017_2018_ősz",VLOOKUP(F7,Háttértáblák!$L$2:$M$331,2,0),IF(E7="_2017_2018_keresztfélév",VLOOKUP(F7,Háttértáblák!$N$2:$O$326,2,0),IF(OR(E7="_2018_2019_ősz",E7="_2019_2020_ősz"),VLOOKUP(F7,Háttértáblák!$S$2:$T$334,2,0),VLOOKUP(F7,Háttértáblák!$U$2:$V$330,2,0)))),"") | I7: ="_"&LEFT(H7,2) -> _ | J7: =IF(#REF!="","",E7&"_"&IF(#REF!=0.5,"fél_év",#REF!)) -> #REF! | K7: =IF(E7="_2019_2020_ősz",VLOOKUP(F7,#REF!,4,0),IF(OR(E7="_2018_2019_ősz",E7="_2018_2019_keresztfélév"),VLOOKUP(F7,#REF!,4,0),IF(E7="_2017_2018_keresztfélév",VLOOKUP(F7,#REF!,4,0),IF(E7="_2017_2018_ősz",VLOOKUP(F7,#REF!,4,0),IF(OR(E7="_2016_2017_ősz",E7="_2016_2017_keresztfélév"),VLOOKUP(F7,#REF!,4,0),"HIBA!"))))) -> HIBA! | L7: =H7&" "&#REF! -> #REF! | M7: ='Támogatás szorzat tényezői'!$C$19*('Támogatás szorzat tényezői'!$C$15/'Támogatás szorzat tényezői'!$C$14) -> 240000 | N7: =G7*M7 -> 0 | O7: =N7 -> 0 | Q7: =M7*P7 -> 0 | R7: =IF(OR(G7="",P7=""),"",IF(P7<G7,"A ''G'' és/vagy a ''P'' oszlop értéke hibás! Kérjük balról jobbra haladva adja meg a helyes értékeket.",""))
H8: =IFERROR(IF(E8="_2017_2018_ősz",VLOOKUP(F8,Háttértáblák!$L$2:$M$331,2,0),IF(E8="_2017_2018_keresztfélév",VLOOKUP(F8,Háttértáblák!$N$2:$O$326,2,0),IF(OR(E8="_2018_2019_ősz",E8="_2019_2020_ősz"),VLOOKUP(F8,Háttértáblák!$S$2:$T$334,2,0),VLOOKUP(F8,Háttértáblák!$U$2:$V$330,2,0)))),"") | I8: ="_"&LEFT(H8,2) -> _ | J8: =IF(#REF!="","",E8&"_"&IF(#REF!=0.5,"fél_év",#REF!)) -> #REF! | K8: =IF(E8="_2019_2020_ősz",VLOOKUP(F8,#REF!,4,0),IF(OR(E8="_2018_2019_ősz",E8="_2018_2019_keresztfélév"),VLOOKUP(F8,#REF!,4,0),IF(E8="_2017_2018_keresztfélév",VLOOKUP(F8,#REF!,4,0),IF(E8="_2017_2018_ősz",VLOOKUP(F8,#REF!,4,0),IF(OR(E8="_2016_2017_ősz",E8="_2016_2017_keresztfélév"),VLOOKUP(F8,#REF!,4,0),"HIBA!"))))) -> HIBA! | L8: =H8&" "&#REF! -> #REF! | M8: ='Támogatás szorzat tényezői'!$C$19*('Támogatás szorzat tényezői'!$C$15/'Támogatás szorzat tényezői'!$C$14) -> 240000 | N8: =G8*M8 -> 0 | O8: =N8 -> 0 | Q8: =M8*P8 -> 0 | R8: =IF(OR(G8="",P8=""),"",IF(P8<G8,"A ''G'' és/vagy a ''P'' oszlop értéke hibás! Kérjük balról jobbra haladva adja meg a helyes értékeket.",""))
H9: =IFERROR(IF(E9="_2017_2018_ősz",VLOOKUP(F9,Háttértáblák!$L$2:$M$331,2,0),IF(E9="_2017_2018_keresztfélév",VLOOKUP(F9,Háttértáblák!$N$2:$O$326,2,0),IF(OR(E9="_2018_2019_ősz",E9="_2019_2020_ősz"),VLOOKUP(F9,Háttértáblák!$S$2:$T$334,2,0),VLOOKUP(F9,Háttértáblák!$U$2:$V$330,2,0)))),"") | I9: ="_"&LEFT(H9,2) -> _ | J9: =IF(#REF!="","",E9&"_"&IF(#REF!=0.5,"fél_év",#REF!)) -> #REF! | K9: =IF(E9="_2019_2020_ősz",VLOOKUP(F9,#REF!,4,0),IF(OR(E9="_2018_2019_ősz",E9="_2018_2019_keresztfélév"),VLOOKUP(F9,#REF!,4,0),IF(E9="_2017_2018_keresztfélév",VLOOKUP(F9,#REF!,4,0),IF(E9="_2017_2018_ősz",VLOOKUP(F9,#REF!,4,0),IF(OR(E9="_2016_2017_ősz",E9="_2016_2017_keresztfélév"),VLOOKUP(F9,#REF!,4,0),"HIBA!"))))) -> HIBA! | L9: =H9&" "&#REF! -> #REF! | M9: ='Támogatás szorzat tényezői'!$C$19*('Támogatás szorzat tényezői'!$C$15/'Támogatás szorzat tényezői'!$C$14) -> 240000 | N9: =G9*M9 -> 0 | O9: =N9 -> 0 | Q9: =M9*P9 -> 0 | R9: =IF(OR(G9="",P9=""),"",IF(P9<G9,"A ''G'' és/vagy a ''P'' oszlop értéke hibás! Kérjük balról jobbra haladva adja meg a helyes értékeket.",""))
H10: =IFERROR(IF(E10="_2017_2018_ősz",VLOOKUP(F10,Háttértáblák!$L$2:$M$331,2,0),IF(E10="_2017_2018_keresztfélév",VLOOKUP(F10,Háttértáblák!$N$2:$O$326,2,0),IF(OR(E10="_2018_2019_ősz",E10="_2019_2020_ősz"),VLOOKUP(F10,Háttértáblák!$S$2:$T$334,2,0),VLOOKUP(F10,Háttértáblák!$U$2:$V$330,2,0)))),"") | I10: ="_"&LEFT(H10,2) -> _ | J10: =IF(#REF!="","",E10&"_"&IF(#REF!=0.5,"fél_év",#REF!)) -> #REF! | K10: =IF(E10="_2019_2020_ősz",VLOOKUP(F10,#REF!,4,0),IF(OR(E10="_2018_2019_ősz",E10="_2018_2019_keresztfélév"),VLOOKUP(F10,#REF!,4,0),IF(E10="_2017_2018_keresztfélév",VLOOKUP(F10,#REF!,4,0),IF(E10="_2017_2018_ősz",VLOOKUP(F10,#REF!,4,0),IF(OR(E10="_2016_2017_ősz",E10="_2016_2017_keresztfélév"),VLOOKUP(F10,#REF!,4,0),"HIBA!"))))) -> HIBA! | L10: =H10&" "&#REF! -> #REF! | M10: ='Támogatás szorzat tényezői'!$C$19*('Támogatás szorzat tényezői'!$C$15/'Támogatás szorzat tényezői'!$C$14) -> 240000 | N10: =G10*M10 -> 0 | O10: =N10 -> 0 | Q10: =M10*P10 -> 0 | R10: =IF(OR(G10="",P10=""),"",IF(P10<G10,"A ''G'' és/vagy a ''P'' oszlop értéke hibás! Kérjük balról jobbra haladva adja meg a helyes értékeket.",""))
H11: =IFERROR(IF(E11="_2017_2018_ősz",VLOOKUP(F11,Háttértáblák!$L$2:$M$331,2,0),IF(E11="_2017_2018_keresztfélév",VLOOKUP(F11,Háttértáblák!$N$2:$O$326,2,0),IF(OR(E11="_2018_2019_ősz",E11="_2019_2020_ősz"),VLOOKUP(F11,Háttértáblák!$S$2:$T$334,2,0),VLOOKUP(F11,Háttértáblák!$U$2:$V$330,2,0)))),"") | I11: ="_"&LEFT(H11,2) -> _ | J11: =IF(#REF!="","",E11&"_"&IF(#REF!=0.5,"fél_év",#REF!)) -> #REF! | K11: =IF(E11="_2019_2020_ősz",VLOOKUP(F11,#REF!,4,0),IF(OR(E11="_2018_2019_ősz",E11="_2018_2019_keresztfélév"),VLOOKUP(F11,#REF!,4,0),IF(E11="_2017_2018_keresztfélév",VLOOKUP(F11,#REF!,4,0),IF(E11="_2017_2018_ősz",VLOOKUP(F11,#REF!,4,0),IF(OR(E11="_2016_2017_ősz",E11="_2016_2017_keresztfélév"),VLOOKUP(F11,#REF!,4,0),"HIBA!"))))) -> HIBA! | L11: =H11&" "&#REF! -> #REF! | M11: ='Támogatás szorzat tényezői'!$C$19*('Támogatás szorzat tényezői'!$C$15/'Támogatás szorzat tényezői'!$C$14) -> 240000 | N11: =G11*M11 -> 0 | O11: =N11 -> 0 | Q11: =M11*P11 -> 0 | R11: =IF(OR(G11="",P11=""),"",IF(P11<G11,"A ''G'' és/vagy a ''P'' oszlop értéke hibás! Kérjük balról jobbra haladva adja meg a helyes értékeket.",""))
H12: =IFERROR(IF(E12="_2017_2018_ősz",VLOOKUP(F12,Háttértáblák!$L$2:$M$331,2,0),IF(E12="_2017_2018_keresztfélév",VLOOKUP(F12,Háttértáblák!$N$2:$O$326,2,0),IF(OR(E12="_2018_2019_ősz",E12="_2019_2020_ősz"),VLOOKUP(F12,Háttértáblák!$S$2:$T$334,2,0),VLOOKUP(F12,Háttértáblák!$U$2:$V$330,2,0)))),"") | I12: ="_"&LEFT(H12,2) -> _ | J12: =IF(#REF!="","",E12&"_"&IF(#REF!=0.5,"fél_év",#REF!)) -> #REF! | K12: =IF(E12="_2019_2020_ősz",VLOOKUP(F12,#REF!,4,0),IF(OR(E12="_2018_2019_ősz",E12="_2018_2019_keresztfélév"),VLOOKUP(F12,#REF!,4,0),IF(E12="_2017_2018_keresztfélév",VLOOKUP(F12,#REF!,4,0),IF(E12="_2017_2018_ősz",VLOOKUP(F12,#REF!,4,0),IF(OR(E12="_2016_2017_ősz",E12="_2016_2017_keresztfélév"),VLOOKUP(F12,#REF!,4,0),"HIBA!"))))) -> HIBA! | L12: =H12&" "&#REF! -> #REF! | M12: ='Támogatás szorzat tényezői'!$C$19*('Támogatás szorzat tényezői'!$C$15/'Támogatás szorzat tényezői'!$C$14) -> 240000 | N12: =G12*M12 -> 0 | O12: =N12 -> 0 | Q12: =M12*P12 -> 0 | R12: =IF(OR(G12="",P12=""),"",IF(P12<G12,"A ''G'' és/vagy a ''P'' oszlop értéke hibás! Kérjük balról jobbra haladva adja meg a helyes értékeket.",""))
H13: =IFERROR(IF(E13="_2017_2018_ősz",VLOOKUP(F13,Háttértáblák!$L$2:$M$331,2,0),IF(E13="_2017_2018_keresztfélév",VLOOKUP(F13,Háttértáblák!$N$2:$O$326,2,0),IF(OR(E13="_2018_2019_ősz",E13="_2019_2020_ősz"),VLOOKUP(F13,Háttértáblák!$S$2:$T$334,2,0),VLOOKUP(F13,Háttértáblák!$U$2:$V$330,2,0)))),"") | I13: ="_"&LEFT(H13,2) -> _ | J13: =IF(#REF!="","",E13&"_"&IF(#REF!=0.5,"fél_év",#REF!)) -> #REF! | K13: =IF(E13="_2019_2020_ősz",VLOOKUP(F13,#REF!,4,0),IF(OR(E13="_2018_2019_ősz",E13="_2018_2019_keresztfélév"),VLOOKUP(F13,#REF!,4,0),IF(E13="_2017_2018_keresztfélév",VLOOKUP(F13,#REF!,4,0),IF(E13="_2017_2018_ősz",VLOOKUP(F13,#REF!,4,0),IF(OR(E13="_2016_2017_ősz",E13="_2016_2017_keresztfélév"),VLOOKUP(F13,#REF!,4,0),"HIBA!"))))) -> HIBA! | L13: =H13&" "&#REF! -> #REF! | M13: ='Támogatás szorzat tényezői'!$C$19*('Támogatás szorzat tényezői'!$C$15/'Támogatás szorzat tényezői'!$C$14) -> 240000 | N13: =G13*M13 -> 0 | O13: =N13 -> 0 | Q13: =M13*P13 -> 0 | R13: =IF(OR(G13="",P13=""),"",IF(P13<G13,"A ''G'' és/vagy a ''P'' oszlop értéke hibás! Kérjük balról jobbra haladva adja meg a helyes értékeket.",""))
H14: =IFERROR(IF(E14="_2017_2018_ősz",VLOOKUP(F14,Háttértáblák!$L$2:$M$331,2,0),IF(E14="_2017_2018_keresztfélév",VLOOKUP(F14,Háttértáblák!$N$2:$O$326,2,0),IF(OR(E14="_2018_2019_ősz",E14="_2019_2020_ősz"),VLOOKUP(F14,Háttértáblák!$S$2:$T$334,2,0),VLOOKUP(F14,Háttértáblák!$U$2:$V$330,2,0)))),"") | I14: ="_"&LEFT(H14,2) -> _ | J14: =IF(#REF!="","",E14&"_"&IF(#REF!=0.5,"fél_év",#REF!)) -> #REF! | K14: =IF(E14="_2019_2020_ősz",VLOOKUP(F14,#REF!,4,0),IF(OR(E14="_2018_2019_ősz",E14="_2018_2019_keresztfélév"),VLOOKUP(F14,#REF!,4,0),IF(E14="_2017_2018_keresztfélév",VLOOKUP(F14,#REF!,4,0),IF(E14="_2017_2018_ősz",VLOOKUP(F14,#REF!,4,0),IF(OR(E14="_2016_2017_ősz",E14="_2016_2017_keresztfélév"),VLOOKUP(F14,#REF!,4,0),"HIBA!"))))) -> HIBA! | L14: =H14&" "&#REF! -> #REF! | M14: ='Támogatás szorzat tényezői'!$C$19*('Támogatás szorzat tényezői'!$C$15/'Támogatás szorzat tényezői'!$C$14) -> 240000 | N14: =G14*M14 -> 0 | O14: =N14 -> 0 | Q14: =M14*P14 -> 0 | R14: =IF(OR(G14="",P14=""),"",IF(P14<G14,"A ''G'' és/vagy a ''P'' oszlop értéke hibás! Kérjük balról jobbra haladva adja meg a helyes értékeket.",""))
H15: =IFERROR(IF(E15="_2017_2018_ősz",VLOOKUP(F15,Háttértáblák!$L$2:$M$331,2,0),IF(E15="_2017_2018_keresztfélév",VLOOKUP(F15,Háttértáblák!$N$2:$O$326,2,0),IF(OR(E15="_2018_2019_ősz",E15="_2019_2020_ősz"),VLOOKUP(F15,Háttértáblák!$S$2:$T$334,2,0),VLOOKUP(F15,Háttértáblák!$U$2:$V$330,2,0)))),"") | I15: ="_"&LEFT(H15,2) -> _ | J15: =IF(#REF!="","",E15&"_"&IF(#REF!=0.5,"fél_év",#REF!)) -> #REF! | K15: =IF(E15="_2019_2020_ősz",VLOOKUP(F15,#REF!,4,0),IF(OR(E15="_2018_2019_ősz",E15="_2018_2019_keresztfélév"),VLOOKUP(F15,#REF!,4,0),IF(E15="_2017_2018_keresztfélév",VLOOKUP(F15,#REF!,4,0),IF(E15="_2017_2018_ősz",VLOOKUP(F15,#REF!,4,0),IF(OR(E15="_2016_2017_ősz",E15="_2016_2017_keresztfélév"),VLOOKUP(F15,#REF!,4,0),"HIBA!"))))) -> HIBA! | L15: =H15&" "&#REF! -> #REF! | M15: ='Támogatás szorzat tényezői'!$C$19*('Támogatás szorzat tényezői'!$C$15/'Támogatás szorzat tényezői'!$C$14) -> 240000 | N15: =G15*M15 -> 0 | O15: =N15 -> 0 | Q15: =M15*P15 -> 0 | R15: =IF(OR(G15="",P15=""),"",IF(P15<G15,"A ''G'' és/vagy a ''P'' oszlop értéke hibás! Kérjük balról jobbra haladva adja meg a helyes értékeket.",""))
... H103: =IFERROR(IF(E103="_2017_2018_ősz",VLOOKUP(F103,Háttértáblák!$L$2:$M$331,2,0),IF(E103="_2017_2018_keresztfélév",VLOOKUP(F103,Háttértáblák!$N$2:$O$326,2,0),IF(OR(E103="_2018_2019_ősz",E103="_2019_2020_ősz"),VLOOKUP(F103,Háttértáblák!$S$2:$T$334,2,0),VLOOKUP(F103,Háttértáblák!$U$2:$V$330,2,0)))),"") | I103: ="_"&LEFT(H103,2) -> _ | J103: =IF(#REF!="","",E103&"_"&IF(#REF!=0.5,"fél_év",#REF!)) -> #REF! | K103: =IF(E103="_2019_2020_ősz",VLOOKUP(F103,#REF!,4,0),IF(OR(E103="_2018_2019_ősz",E103="_2018_2019_keresztfélév"),VLOOKUP(F103,#REF!,4,0),IF(E103="_2017_2018_keresztfélév",VLOOKUP(F103,#REF!,4,0),IF(E103="_2017_2018_ősz",VLOOKUP(F103,#REF!,4,0),IF(OR(E103="_2016_2017_ősz",E103="_2016_2017_keresztfélév"),VLOOKUP(F103,#REF!,4,0),"HIBA!"))))) -> HIBA! | L103: =H103&" "&#REF! -> #REF! | M103: ='Támogatás szorzat tényezői'!$C$19*('Támogatás szorzat tényezői'!$C$15/'Támogatás szorzat tényezői'!$C$14) -> 240000 | N103: =G103*M103 -> 0 | O103: =N103 -> 0 | Q103: =M103*P103 -> 0 | R103: =IF(OR(G103="",P103=""),"",IF(P103<G103,"A ''G'' és/vagy a ''P'' oszlop értéke hibás! Kérjük balról jobbra haladva adja meg a helyes értékeket.",""))

Sheet Kedvezményezettek adatai
A1: Sorszám | B1: PIR szám | C1: Kedvezményezett rövid neve | D1: Kedvezményezett teljes neve | E1: Adószám | F1: KSH statisztikai számjel | G1: Székhely | H1: Vezető neve | I1: Vezető beosztása | J1: Kancellár, vezető elérhetősége (telefon, e-mail cím) | K1: Főigazgató | L1: Szakmai főigazgató-helyettes | M1: kapcsolattartója | N1: kapcsolattartójának elérhetősége (telefon, e-mail cím) | O1: Szakágazat kódja | P1: ÁHT azonosító | Q1: ÁHT az.típusa | R1: 2021. nyitó támogatási időszak támogatói okiratának azonosító száma | S1: 2021. záró támogatási időszak támogatói okirat módosításának azonosító száma | T1: Település keltezéshez | U1: Szakmai_oktatás_1 előleg összege (Ft) | V1: Szakmai_képzés_1előleg összege (Ft) | W1: Egyéb_képzés_1 előleg összege (Ft) | X1: Felnőttokt._Szakk.+Egyéb_képz_1 előleg összege (Ft) | Y1: 2021. nyitó időszakra ténylegesen biztosított előleg (Ft) | Z1: Szakmai_oktatás_2 előleg összege (Ft) | AA1: Szakmai_képzés_2 előleg összege (Ft) | AB1: Egyéb_képzés_2 előleg összege (Ft) | AC1: Felnőttokt._Szakk.+Egyéb_képz_2 előleg összege (Ft) | AD1: 2021. záró időszakra ténylegesen biztosított előleg (Ft) | AE1: Nyitó időszak elszámolása alapján megállapított tényleges jogosultság az éves záráskor (Ft) | AF1: Záró időszak elszámolása alapján megállapított tényleges jogosultság az éves záráskor (Ft) | AG1: Nyitó és záró időszak elszámolása alapján megállapított tényleges jogosultság mindösszesen az éves záráskor (Ft) | AH1: Egyenleg (előlegeken felül biztosítandó vagy maradvány) (Ft) | AI1: Kedvezményezett teljes neve | AL1: OM azonosító | AM1: Számlavezető, fizetési számlaszám | AN1: Számlavezető pénzintézet neve
A2: 1 | B2: 831828 | C2: Bajai_SZC | D2: Bajai Szakképzési Centrum | E2: 15831828-2-03 | F2: 15831828-8532-312-03 | G2: 6500 Baja, Petőfi Sándor utca 3. | H2: Virág Tibor | I2: kancellár | J2: 70/334-9133; 79/521-088; virag.tibor@bajaiszc.hu | K2: Valterné Pataki Gabriella | L2: Farkas Valéria | M2: Valterné Pataki Gabriella főigazgató | N2: 06-70/379-4862, pataki.gabriella@bajaiszc.hu | O2: 853200 | P2: 354417 | Q2: I | T2: Baja | Y2: =U2+V2+W2+X2 -> 0 | AD2: =Z2+AA2+AB2+AC2 -> 0 | AG2: =AE2+AF2 -> 0 | AH2: =AG2-Y2-AD2 -> 0 | AI2: Bajai Szakképzési Centrum | AL2: 203028 | AM2: 10025004-00335429-00000000 | AN2: Magyar Államkincstár
A3: 2 | B3: 832100 | C3: Baranya_Megyei_SZC | D3: Baranya Megyei Szakképzési Centrum | E3: 15832104-2-02 | F3: 15832104-8532-312-02 | G3: 7622 Pécs, Batthyány utca 1-3. | H3: Metzger Tibor | I3: kancellár | J3: 20/234-1070; 70/199-3529; metzger.tibor@pecsiszc.hu | K3: Rittlinger Zoltán | L3: dr. Péter István | M3: Jakab Judit, tanügyigazgatási referens | N3: 06-70/199-3524, jakab.judit@pecsiszc.hu | O3: 853200 | P3: 354695 | Q3: I | T3: Pécs | Y3: =U3+V3+W3+X3 -> 0 | AD3: =Z3+AA3+AB3+AC3 -> 0 | AG3: =AE3+AF3 -> 0 | AH3: =AG3-Y3-AD3 -> 0 | AI3: Baranya Megyei Szakképzési Centrum | AL3: 203049 | AM3: 10024003-00335388-00000000 | AN3: Magyar Államkincstár
A4: 3 | B4: 831839 | C4: Békéscsabai_SZC | D4: Békéscsabai Szakképzési Centrum | E4: 15831835-2-04 | F4: 15831835-8532-312-04 | G4: 5600 Békéscsaba, Gyulai út 32/1 | H4: Uhljár Erik | I4: kancellár | J4: 70/515-6900; 66/441-314; erik.uhljar@bszc.hu | K4: Mucsi Balázs Sándor | L4: Vlcskó Pál | M4: Vlcskó Pál szakmai főigazgató-helyettes | N4: 06-20/572-1199, pal.vlcsko@bszc.hu | O4: 853200 | P4: 354428 | Q4: I | T4: Békéscsaba | Y4: =U4+V4+W4+X4 -> 0 | AD4: =Z4+AA4+AB4+AC4 -> 0 | AG4: =AE4+AF4 -> 0 | AH4: =AG4-Y4-AD4 -> 0 | AI4: Békéscsabai Szakképzési Centrum | AL4: 203029 | AM4: 10026005-00335443-00000000 | AN4: Magyar Államkincstár
A5: 4 | B5: 831840 | C5: Berettyóújfalui_SZC | D5: Berettyóújfalui Szakképzési Centrum | E5: 15831842-2-09 | F5: 15831842-8532-312-09 | G5: 4100 Berettyóújfalu, Eötvös utca 1. | H5: Papp Gábor | I5: kancellár | J5: 30/257-2625; 54/951-961; papp.gabor@berettyoujfaluiszc.hu | K5: Pelyhéné Bartha Irén | L5: Kiss Hajnalka | M5: Nemes Zoltán | N5: 06-30/546-5822, 06-54/475-104, nemes.zoltan@berettyoujfaluiszc.hu | O5: 853200 | P5: 354439 | Q5: I | T5: Berettyóújfalu | Y5: =U5+V5+W5+X5 -> 0 | AD5: =Z5+AA5+AB5+AC5 -> 0 | AG5: =AE5+AF5 -> 0 | AH5: =AG5-Y5-AD5 -> 0 | AI5: Berettyóújfalui Szakképzési Centrum | AL5: 203030 | AM5: 10034002-00335560-00000000 | AN5: Magyar Államkincstár
A6: 5 | B6: 831851 | C6: Budapesti_Gazdasági_SZC | D6: Budapesti Gazdasági Szakképzési Centrum | E6: 15831859-2-42 | F6: 15831859-8532-312-01 | G6: 1074 Budapest, Dohány utca 65. | H6: Pávics Jánosné | I6: kancellár | J6: 30/183-5879, pavics@bgszc.hu | K6: Tiborczszeghi-Horváth Zoltán | L6: Elek Csaba | O6: 853200 | P6: 354440 | Q6: I | T6: Budapest | Y6: =U6+V6+W6+X6 -> 0 | AD6: =Z6+AA6+AB6+AC6 -> 0 | AG6: =AE6+AF6 -> 0 | AH6: =AG6-Y6-AD6 -> 0 | AI6: Budapesti Gazdasági Szakképzési Centrum | AL6: 203061 | AM6: 10032000-00335467-00000000 | AN6: Magyar Államkincstár
A7: 6 | B7: 831862 | C7: Budapesti_Gépészeti_SZC | D7: Budapesti Gépészeti Szakképzési Centrum | E7: 15831866-2-41 | F7: 15831866-8532-312-01 | G7: 1138 Budapest, Váci út 179-183. | H7: dr. Varga Csaba | I7: kancellár | J7: 30/166-0681; 1/585-8180/8215 mellék; varga.csaba@gszc.hu | K7: Dr. Horváth Béla | L7: Mátésné Pataki Ágnes | M7: Fenyvesi Éva | N7: 06-20/336-5957, fenyvesi.eva@gszc.hu | O7: 853200 | P7: 354451 | Q7: I | T7: Budapest | Y7: =U7+V7+W7+X7 -> 0 | AD7: =Z7+AA7+AB7+AC7 -> 0 | AG7: =AE7+AF7 -> 0 | AH7: =AG7-Y7-AD7 -> 0 | AI7: Budapesti Gépészeti Szakképzési Centrum | AL7: 203031 | AM7: 10032000-00335481-00000000 | AN7: Magyar Államkincstár
A8: 7 | B8: 831873 | C8: Budapesti_Komplex_SZC | D8: Budapesti Komplex Szakképzési Centrum | E8: 15831873-2-43 | F8: 15831873-8532-312-01 | G8: 1211 Budapest, Tanműhely köz 7. | H8: dr. Hafiek Andrea | I8: kancellár | J8: 30/626-7622; 1/585-8050; fax: 1/585-8099; dr.hafiek.andrea@bkszc.hu | K8: Bánátfy Andrea | L8: Kozma László | M8: Bánátfy Andrea főigazgató | N8: 06-30/860-7500, banatfy.andrea@bkszc.hu | O8: 853200 | P8: 354462 | Q8: I | T8: Budapest | Y8: =U8+V8+W8+X8 -> 0 | AD8: =Z8+AA8+AB8+AC8 -> 0 | AG8: =AE8+AF8 -> 0 | AH8: =AG8-Y8-AD8 -> 0 | AI8: Budapesti Komplex Szakképzési Centrum | AL8: 203032 | AM8: 10032000-00335508-00000000 | AN8: Magyar Államkincstár
A9: 8 | B9: 831884 | C9: Budapesti_Műszaki_SZC | D9: Budapesti Műszaki Szakképzési Centrum | E9: 15831880-2-42 | F9: 15831880-8532-312-01 | G9: 1149 Budapest, Várna utca 23. | H9: Dr. Molnárné Rénes Éva | I9: kancellár | J9: 70/399-5939; kancellári titkárság: 70/502-3060; renes.eva@bmszc.hu | K9: Novák Géza | L9: Derczbach Tamás | M9: Trecskó Alíz | N9: 06-70/502-3073, trecsko.aliz@bmszc.hu | O9: 853200 | P9: 354473 | Q9: I | T9: Budapest | Y9: =U9+V9+W9+X9 -> 0 | AD9: =Z9+AA9+AB9+AC9 -> 0 | AG9: =AE9+AF9 -> 0 | AH9: =AG9-Y9-AD9 -> 0 | AI9: Budapesti Műszaki Szakképzési Centrum | AL9: 203058 | AM9: 10032000-00335522-00000000 | AN9: Magyar Államkincstár
A10: 9 | B10: 831905 | C10: Ceglédi_SZC | D10: Ceglédi Szakképzési Centrum | E10: 15831907-2-13 | F10: 15831907-8532-312-13 | G10: 2700 Cegléd, Malom tér 3. | H10: dr. Ferenczi Norbert | I10: kancellár | J10: 70/930-4170; 53/789-934; kancellar@ceglediszc.hu | K10: Buncsák Gábor | L10: Szabadi Zoltán | M10: Szabadi Zoltán szakmai főigazgató-helyettes | N10: 06-70/197-6382, szakmaigh@ceglediszc.hu | O10: 853200 | P10: 354495 | Q10: I | T10: Cegléd | Y10: =U10+V10+W10+X10 -> 0 | AD10: =Z10+AA10+AB10+AC10 -> 0 | AG10: =AE10+AF10 -> 0 | AH10: =AG10-Y10-AD10 -> 0 | AI10: Ceglédi Szakképzési Centrum | AL10: 203068 | AM10: 10032000-00335412-00000000 | AN10: Magyar Államkincstár
A11: 10 | B11: 831916 | C11: Debreceni_SZC | D11: Debreceni Szakképzési Centrum | E11: 15831914-2-09 | F11: 15831914-8532-312-09 | G11: 4030 Debrecen, Fokos utca 12. | H11: Tirpák Zsolt | I11: kancellár | J11: 30/465-6118 ; 52/437-311; dszc.kancellaria@dszc.hu; tirpak.zsolt@dszc.hu | L11: Farmasi József | M11: Dienes Zoltán Tibor | O11: 853200 | P11: 354506 | Q11: I | T11: Debrecen | Y11: =U11+V11+W11+X11 -> 0 | AD11: =Z11+AA11+AB11+AC11 -> 0 | AG11: =AE11+AF11 -> 0 | AH11: =AG11-Y11-AD11 -> 0 | AI11: Debreceni Szakképzési Centrum | AL11: 203033 | AM11: 10034002-00335395-00000000 | AN11: Magyar Államkincstár
A12: 11 | B12: 831927 | C12: Dunaújvárosi_SZC | D12: Dunaújvárosi Szakképzési Centrum | E12: 15831921-2-07 | F12: 15831921-8532-312-07 | G12: 2400 Dunaújváros, Római körút 51./A | H12: Piros Mariann | I12: kancellár | J12: 70/514-7220; 25/743- 136; kancellar@dunaujvarosiszc.hu | K12: Pocsainé Varga Veronika | L12: Péli András | M12: Péli András | N12: 06-70/400-2562, szakmfoigh@dunaujvarosiszc.hu | O12: 853200 | P12: 354517 | Q12: I | T12: Dunaújváros | Y12: =U12+V12+W12+X12 -> 0 | AD12: =Z12+AA12+AB12+AC12 -> 0 | AG12: =AE12+AF12 -> 0 | AH12: =AG12-Y12-AD12 -> 0 | AI12: Dunaújvárosi Szakképzési Centrum | AL12: 203034 | AM12: 10029008-00335371-00000000 | AN12: Magyar Államkincstár
A13: 12 | B13: 831949 | C13: Érdi_SZC | D13: Érdi Szakképzési Centrum | E13: 15831945-1-13 | F13: 15831945-8532-312-13 | G13: 2030 Érd, Ercsi út 8. | H13: Ábrahám Norbert | I13: kancellár | J13: 30/167-6879; kancellar@erdiszakkepzesicentrum.hu | K13: Pergel Antal | M13: Mészáros Balázs, oktatási és felnőttképzési vezető | N13: 06-70/502-8755, meszaros.balazs@erdiszakkepzesicentrum.hu | O13: 853200 | P13: 354539 | Q13: I | T13: Érd | Y13: =U13+V13+W13+X13 -> 0 | AD13: =Z13+AA13+AB13+AC13 -> 0 | AG13: =AE13+AF13 -> 0 | AH13: =AG13-Y13-AD13 -> 0 | AI13: Érdi Szakképzési Centrum | AL13: 203036 | AM13: 10032000-00335340-00000000 | AN13: Magyar Államkincstár
A14: 13 | B14: 845380 | C14: Esztergomi_SZC | D14: Esztergomi Szakképzési Centrum | E14: 15845388-2-11 | F14: 15845388-8532-312-11 | G14: 2500 Esztergom, Budai Nagy Antal utca 24. | H14: Dr. Németh Szilárd Péter | I14: kancellár | J14: 70/709-4132; kancellar@eszc.eu | K14: Hana György | L14: Meszes Balázs | O14: 853200 | P14: 388517 | Q14: I | T14: Esztergom | Y14: =U14+V14+W14+X14 -> 0 | AD14: =Z14+AA14+AB14+AC14 -> 0 | AG14: =AE14+AF14 -> 0 | AH14: =AG14-Y14-AD14 -> 0 | AI14: Esztergomi Szakképzési Centrum | AL14: 910005 | AM14: 10036004-00361549-00000000 | AN14: Magyar Államkincstár
A15: 14 | B15: 831950 | C15: Győri_SZC | D15: Győri Szakképzési Centrum | E15: 15831952-2-08 | F15: 15831952-8532-312-08 | G15: 9024 Győr, Nádor tér 4. | H15: Gede Eszter | I15: kancellár | J15: 30/275-7477; 96/203- 371; gede.eszter@gyoriszc.hu | K15: Hartyándiné Frey Aranka Elvira | L15: Csörgits Krisztián | M15: Győrfi Lászlóné, szakképzési referens | N15: 06-96/203-361 (106), 06-20/357 6365, gyorfi.katalin@gymszc.hu | O15: 853200 | P15: 354540 | Q15: I | T15: Győr | Y15: =U15+V15+W15+X15 -> 0 | AD15: =Z15+AA15+AB15+AC15 -> 0 | AG15: =AE15+AF15 -> 0 | AH15: =AG15-Y15-AD15 -> 0 | AI15: Győri Szakképzési Centrum | AL15: 203037 | AM15: 10033001-00335319-00000000 | AN15: Magyar Államkincstár
A16: 15 | B16: 831972 | C16: Gyulai_SZC | D16: Gyulai Szakképzési Centrum | E16: 15831976-2-04 | F16: 15831976-8532-312-04 | G16: 5700 Gyula, Szent István utca 38. | H16: Simon István Tamás | I16: kancellár | J16: 20/538-9960; 66/561-420; istvan.simon@gyszc.hu | K16: Kovács Zsuzsanna | L16: Jancsurák József | M16: Szűcs Lajos, tanügyi referens | N16: 06-66/561-420/355, 06-20/260-2432, lajos.szucs@gyszc.hu | O16: 853200 | P16: 354562 | Q16: I | T16: Gyula | Y16: =U16+V16+W16+X16 -> 0 | AD16: =Z16+AA16+AB16+AC16 -> 0 | AG16: =AE16+AF16 -> 0 | AH16: =AG16-Y16-AD16 -> 0 | AI16: Gyulai Szakképzési Centrum | AL16: 203069 | AM16: 10026005-00335292-00000000 | AN16: Magyar Államkincstár
A17: 16 | B17: 831938 | C17: Heves_Megyei_SZC | D17: Heves Megyei Szakképzési Centrum | E17: 15831938-2-10 | F17: 15831938-8532-312-10 | G17: 3300 Eger, Kertész utca 128. | H17: Fábri Eufrozina | I17: kancellár | J17: 70/886-2851; fabri.eufrozina@hmszc.hu | K17: Tóth Zsolt | L17: Jamrik Gábor helyettesítése Bodó Beáta | M17: Jamrik Gábor helyettesítése Bodó Beáta | N17: 06-70/668-8014, bodo.beata@hmszc.hu | O17: 853200 | P17: 354528 | Q17: I | T17: Eger | Y17: =U17+V17+W17+X17 -> 0 | AD17: =Z17+AA17+AB17+AC17 -> 0 | AG17: =AE17+AF17 -> 0 | AH17: =AG17-Y17-AD17 -> 0 | AI17: Heves Megye Szakképzési Centrum | AL17: 203035 | AM17: 10035003-00335357-00000000 | AN17: Magyar Államkincstár
A18: 17 | B18: 831983 | C18: Hódmezővásárhelyi_SZC | D18: Hódmezővásárhelyi Szakképzési Centrum | E18: 15831983-2-06 | F18: 15831983-8532-312-06 | G18: 6800 Hódmezővásárhely, Andrássy út 3/8. | H18: Hegedűs Zoltán | I18: kancellár | J18: 30/781-3199; 62/202-475/112; hegeduszoltan@hiszk.hu | K18: Árva-Nagy Sándorné | L18: Orvosné Bánvölgyi Éva | M18: Orvosné Bánvölgyi Éva | N18: 06-62/202-475, 06-30/781-3201, orvosevi@hiszk.hu | O18: 853200 | P18: 354573 | Q18: I | T18: Hódmezővásárhely | Y18: =U18+V18+W18+X18 -> 0 | AD18: =Z18+AA18+AB18+AC18 -> 0 | AG18: =AE18+AF18 -> 0 | AH18: =AG18-Y18-AD18 -> 0 | AI18: Hódmezővásárhelyi Szakképzési Centrum | AL18: 203039 | AM18: 10028007-00335261-00000000 | AN18: Magyar Államkincstár
A19: 18 | B19: 831994 | C19: Kaposvári_SZC | D19: Kaposvári Szakképzési Centrum | E19: 15831990-2-14 | F19: 15831990-8532-312-14 | G19: 7400 Kaposvár, Kontrássy utca 2/A. | H19: Csiba Ágota | I19: kancellár | J19: 30/512-3779; 82/494-104; csiba.agota@kszc.hu | K19: Weimann Gáborné | L19: Kard János | M19: Kard János, szakmai főigazgató-helyettes | N19: 06-30/827-8863, kard.janos@kszc.hu | O19: 853200 | P19: 354584 | Q19: I | T19: Kaposvár | Y19: =U19+V19+W19+X19 -> 0 | AD19: =Z19+AA19+AB19+AC19 -> 0 | AG19: =AE19+AF19 -> 0 | AH19: =AG19-Y19-AD19 -> 0 | AI19: Kaposvári Szakképzési Centrum | AL19: 203027 | AM19: 10039007-00335584-00000000 | AN19: Magyar Államkincstár
A20: 19 | B20: 832001 | C20: Karcagi_SZC | D20: Karcagi Szakképzési Centrum | E20: 15832001-2-16 | F20: 15832001-8532-312-16 | G20: 5300 Karcag, Dózsa György út 29. | H20: Szabó István | I20: kancellár | J20: 70-654-5064; kancellar@karcagiszc.hu | K20: Pardi Sándor | L20: Moldován György Zsolt | M20: Moldován György Zsolt, szakmai főigazgató-helyettes | N20: 06-30/239-2670, szakmai.foigh@karcagiszc.hu | O20: 853200 | P20: 354595 | Q20: I | T20: Karcag | Y20: =U20+V20+W20+X20 -> 0 | AD20: =Z20+AA20+AB20+AC20 -> 0 | AG20: =AE20+AF20 -> 0 | AH20: =AG20-Y20-AD20 -> 0 | AI20: Karcagi Szakképzési Centrum | AL20: 203040 | AM20: 10045002-00335209-00000000 | AN20: Magyar Államkincstár
A21: 20 | B21: 832012 | C21: Kecskeméti_SZC | D21: Kecskeméti Szakképzési Centrum | E21: 15832018-2-03 | F21: 15832018-8532-312-03 | G21: 6000 Kecskemét, Szolnoki út 31. | H21: Leviczky Cirill | I21: kancellár | J21: 30/970 – 2229; 76/482 – 689; leviczky.cirill@kecskemetiszc.hu; kancellar@kecskemetiszc.hu | K21: Ignácz Bence | L21: Madariné Ádám Györgyi | M21: Pető István | N21: 06-30/397-2667, istvan.peto@kecskemetiszc.hu | O21: 853200 | P21: 354606 | Q21: I | T21: Kecskemét | Y21: =U21+V21+W21+X21 -> 0 | AD21: =Z21+AA21+AB21+AC21 -> 0 | AG21: =AE21+AF21 -> 0 | AH21: =AG21-Y21-AD21 -> 0 | AI21: Kecskeméti Szakképzési Centrum | AL21: 203041 | AM21: 10025004-00335175-00000000 | AN21: Magyar Államkincstár
A22: 21 | B22: 832023 | C22: Kiskunhalasi_SZC | D22: Kiskunhalasi Szakképzési Centrum | E22: 15832025-2-03 | F22: 15832025-8532-312-03 | G22: 6400 Kiskunhalas, Kazinczy utca 5. | H22: Csúzdi Zoltán | I22: kancellár | J22: 70/399-0560; 77/738-837; csuzdi.zoltan@kiskunhalasiszc.hu | K22: Papp Gyula | L22: Vikker József | M22: Vikker József | N22: 06-70/332-8650, vikker.jozsef@kiskunhalasiszc.hu | O22: 853200 | P22: 354617 | Q22: I | T22: Kiskunhalas | Y22: =U22+V22+W22+X22 -> 0 | AD22: =Z22+AA22+AB22+AC22 -> 0 | AG22: =AE22+AF22 -> 0 | AH22: =AG22-Y22-AD22 -> 0 | AI22: Kiskunhalasi Szakképzési Centrum | AL22: 203042 | AM22: 10025004-00335247-00000000 | AN22: Magyar Államkincstár
A23: 22 | B23: 832034 | C23: Kisvárdai_SZC | D23: Kisvárdai Szakképzési Centrum | E23: 15832032-2-15 | F23: 15832032-8532-312-15 | G23: 4600 Kisvárda, Mártírok útja 8. | H23: Matus Attila Imre | I23: kancellár | J23: 20/986-1778; 45/488-031; kisvardakancellar@gmail.com | K23: Bodnár Attila Sándor | L23: Moldvay Zsolt | M23: Matus Attila Imre, kancellár | N23: 06-20/986-1778, 06-45/488-031, kisvardakancellar@gmail.com | O23: 853200 | P23: 354628 | Q23: I | T23: Kisvárda | Y23: =U23+V23+W23+X23 -> 0 | AD23: =Z23+AA23+AB23+AC23 -> 0 | AG23: =AE23+AF23 -> 0 | AH23: =AG23-Y23-AD23 -> 0 | AI23: Kisvárdai Szakképzési Centrum | AL23: 203043 | AM23: 10044001-00335223-00000000 | AN23: Magyar Államkincstár
A24: 23 | B24: 832045 | C24: Mátészalkai_SZC | D24: Mátészalkai Szakképzési Centrum | E24: 15832049-2-15 | F24: 15832049-8532-312-15 | G24: 4700 Mátészalka, Kölcsey utca 12. | H24: Rostás János Tibor | I24: kancellár | J24: 20/423-8347; 44/452-434; rostasjanos@mateszalkaiszc.hu | K24: Dr. Bugya László | L24: Barkován Ferenc | M24: Dr. Bugya László, főigazgató | N24: 06-30/894-5786; foigazgatosag2019@gmail.com | O24: 853200 | P24: 354639 | Q24: I | T24: Mátészalka | Y24: =U24+V24+W24+X24 -> 0 | AD24: =Z24+AA24+AB24+AC24 -> 0 | AG24: =AE24+AF24 -> 0 | AH24: =AG24-Y24-AD24 -> 0 | AI24: Mátészalkai Szakképzési Centrum | AL24: 203059 | AM24: 10044001-00335285-00000000 | AN24: Magyar Államkincstár
A25: 24 | B25: 832056 | C25: Miskolci_SZC | D25: Miskolci Szakképzési Centrum | E25: 15832056-2-05 | F25: 15832056-8532-312-05 | G25: 3525 Miskolc, Széchenyi utca 103. | H25: Kiss Gábor | I25: kancellár | J25: 70/507-7075; 46/796-020; 46/412-444; kancellar@miskolci-szc.hu | K25: Molnár Péter | L25: Nagy Róbert | M25: Lakatos Zsolt, tanügyigazgatási szakügyintéző | N25: 06-46/796-020/132 mellék, 06-70/668-1546, lakatoszsolt@miskolci-szc.hu | O25: 853200 | P25: 354640 | Q25: I | T25: Miskolc | Y25: =U25+V25+W25+X25 -> 0 | AD25: =Z25+AA25+AB25+AC25 -> 0 | AG25: =AE25+AF25 -> 0 | AH25: =AG25-Y25-AD25 -> 0 | AI25: Miskolci Szakképzési Centrum | AL25: 203060 | AM25: 10027006-00335254-00000000 | AN25: Magyar Államkincstár
A26: 25 | B26: 832067 | C26: Nagykanizsai_SZC | D26: Nagykanizsai Szakképzési Centrum | E26: 15832063-2-20 | F26: 15832063-8532-312-20 | G26: 8800 Nagykanizsa, Erdész utca 30. | H26: Bene Csaba | I26: kancellár | J26: 20/265-3889; 93/510-251; bene.csaba@nagykanizsaiszc.hu | K26: Anda Zoltán | L26: Lelkóné Tollár Ildikó | M26: Anda Zoltán főigazgató | N26: 06-20/957-5766, anda.zoltan@nagykanizsaiszc.hu | O26: 853200 | P26: 354651 | Q26: I | T26: Nagykanizsa | Y26: =U26+V26+W26+X26 -> 0 | AD26: =Z26+AA26+AB26+AC26 -> 0 | AG26: =AE26+AF26 -> 0 | AH26: =AG26-Y26-AD26 -> 0 | AI26: Nagykanizsai Szakképzési Centrum | AL26: 203044 | AM26: 10049006-00335326-00000000 | AN26: Magyar Államkincstár
... A36: 35 | B36: 832188 | C36: Szolnoki_SZC | D36: Szolnoki Szakképzési Centrum | E36: 15832180-2-16 | F36: 15832180-8532-312-16 | G36: 5000 Szolnok, Baross utca 37/A | H36: Hicsó György | I36: kancellár | J36: 30/415-2991; 56/425-844; hicsogy@szolmusz.hu | K36: Kalmár Andrea | L36: Polgár Piroska | M36: Szántó Péter | N36: 06-20/200-2086, szanto.peter@szolmusz.hu | O36: 853200 | P36: 354773 | Q36: I | T36: Szolnok | Y36: =U36+V36+W36+X36 -> 0 | AD36: =Z36+AA36+AB36+AC36 -> 0 | AG36: =AE36+AF36 -> 0 | AH36: =AG36-Y36-AD36 -> 0 | AI36: Szolnoki Műszaki Szakképzési Centrum | AL36: 203056 | AM36: 10045002-00335553-00000000 | AN36: Magyar Államkincstár
A37: 36 | B37: 845391 | C37: Tatabányai_SZC | D37: Tatabányai Szakképzési Centrum | E37: 15845395-2-11 | F37: 15845395-8532-312-11 | G37: 2800 Tatabánya, Dózsa György út 58. | H37: Schmidt Csaba | I37: kancellár | J37: 30/228-7500; kancellar@tszc.hu | K37: Pákozdi Szabolcs | L37: Garaminé Vigánti Márta | M37: dr. Tóth István, tanügyigazgatási referens | N37: 06-34/517-148, isttoth9193@gmail.com | O37: 853200 | P37: 388495 | Q37: I | T37: Tatabánya | Y37: =U37+V37+W37+X37 -> 0 | AD37: =Z37+AA37+AB37+AC37 -> 0 | AG37: =AE37+AF37 -> 0 | AH37: =AG37-Y37-AD37 -> 0 | AI37: Tatabányai Szakképzési Centrum | AL37: 203064 | AM37: 10036004-00361556-00000000 | AN37: Magyar Államkincstár
A38: 37 | B38: 832166 | C38: Tolna_Megyei_SZC | D38: Tolna Megyei Szakképzési Centrum | E38: 15832166-2-17 | F38: 15832166-8532-312-17 | G38: 7100 Szekszárd, Széchenyi utca 2-14. | H38: Dömötör Csaba | I38: kancellár | J38: 30/166-0523; 74/529-333; domotor.csaba@tmszc.hu | K38: Csapó Gábor Tibor | L38: Müller Attila | M38: Müller Attila, szakmai főigazgató-helyettes | N38: 06-30/483-5501; muller.attila@tmszc.hu | O38: 853200 | P38: 354751 | Q38: I | T38: Szekszárd | Y38: =U38+V38+W38+X38 -> 0 | AD38: =Z38+AA38+AB38+AC38 -> 0 | AG38: =AE38+AF38 -> 0 | AH38: =AG38-Y38-AD38 -> 0 | AI38: Tolna Megyei Szakképzési Centrum | AL38: 203054 | AM38: 10046003-00335230-00000000 | AN38: Magyar Államkincstár
A39: 38 | B39: 832221 | C39: Váci_SZC | D39: Váci Szakképzési Centrum | E39: 15832221-2-13 | F39: 15832221-8532-312-13 | G39: 2600 Vác, Naszály út 8. | H39: Dudás Tibor | I39: kancellár | J39: 70/669-4923; 27/319-351; dudas.tibor@vszc.hu | K39: Papolczi Emőke Mária | L39: Gombos Péter | M39: Gombos Péter | N39: 06-70/669-4932, gombos.peter@vszc.hu | O39: 853200 | P39: 354828 | Q39: I | T39: Vác | Y39: =U39+V39+W39+X39 -> 0 | AD39: =Z39+AA39+AB39+AC39 -> 0 | AG39: =AE39+AF39 -> 0 | AH39: =AG39-Y39-AD39 -> 0 | AI39: Váci Szakképzési Centrum | AL39: 203065 | AM39: 10032000-00335182-00000000 | AN39: Magyar Államkincstár
A40: 39 | B40: 832209 | C40: Vas_Megyei_SZC | D40: Vas Megyei Szakképzési Centrum | E40: 15832207-2-18 | F40: 15832207-8532-312-18 | G40: 9700 Szombathely, Akacs Mihály utca 8-10. | H40: Szentgyörgyvári Róbert | I40: kancellár | J40: 20/616-7227; szentgyorgyvari@vmszc.hu | K40: Rettegi Attila László | L40: Birosz Pál Tamás | M40: Volf Mária Magdolna | N40: 06-20/233-3419, volf.mariam@vmszc.hu | O40: 853200 | P40: 354795 | Q40: I | T40: Szombathely | Y40: =U40+V40+W40+X40 -> 0 | AD40: =Z40+AA40+AB40+AC40 -> 0 | AG40: =AE40+AF40 -> 0 | AH40: =AG40-Y40-AD40 -> 0 | AI40: Vas Megyei Szakképzési Centrum | AL40: 203062 | AM40: 10047004-00335591-00000000 | AN40: Magyar Államkincstár
A41: 40 | B41: 832232 | C41: Veszprémi_SZC | D41: Veszprémi Szakképzési Centrum | E41: 15832238-2-19 | F41: 15832238-8532-312-19 | G41: 8200 Veszprém, Eötvös Károly utca 1. | H41: Pap Máté | I41: kancellár | J41: 20/341-1315; papmate@veszpremszc.hu | K41: Kavalecz Gábor | L41: Lantos Andrea | M41: Lantos Andrea | N41: 06-70/199-6018, lantos@veszpremszc.hu | O41: 853200 | P41: 354839 | Q41: I | T41: Veszprém | Y41: =U41+V41+W41+X41 -> 0 | AD41: =Z41+AA41+AB41+AC41 -> 0 | AG41: =AE41+AF41 -> 0 | AH41: =AG41-Y41-AD41 -> 0 | AI41: Veszprémi Szakképzési Centrum | AL41: 203066 | AM41: 10048005-00335199-00000000 | AN41: Magyar Államkincstár
A42: 41 | B42: 832243 | C42: Zalaegerszegi_SZC | D42: Zalaegerszegi Szakképzési Centrum | E42: 15832245-2-20 | F42: 15832245-8532-312-20 | G42: 8900 Zalaegerszeg, Kinizsi Pál utca 74. | H42: Szabó Károly | I42: kancellár | J42: 30/196-7871; 92/313-583; 92/313-613; 92/313-635; 92/314-553/101. mellék; szabo.karoly@zegszakkepzo.hu | K42: Vizlendvai László | L42: Böröcz Csaba | M42: Böröcz Csaba, szakmai főigazgató-helyettes | N42: 06-30/196-7866, borocz.csaba@zegszakkepzo.hu | O42: 853200 | P42: 354840 | Q42: I | T42: Zalaegerszeg | Y42: =U42+V42+W42+X42 -> 0 | AD42: =Z42+AA42+AB42+AC42 -> 0 | AG42: =AE42+AF42 -> 0 | AH42: =AG42-Y42-AD42 -> 0 | AI42: Zalaegerszegi Szakképzési Centrum | AL42: 203067 | AM42: 10049006-00335216-00000000 | AN42: Magyar Államkincstár
A43: 42 | B43: 823489 | C43: Alföldi_Agrárszakképzési_Centrum | D43: Alföldi Agrárszakképzési Centrum | E43: 15823481-2-06 | F43: 15823481-8532-312-06 | G43: 6640 Csongrád, Kis-Tisza utca 4/a. | H43: Vári László | I43: kancellár | M43: Dr. Sisák István, főigazgató-helyettes | N43: 06-30/689-9355; foig.h@aaszc.hu | O43: 853200 | P43: 342317 | Q43: I | T43: Csongrád | Y43: =U43+V43+W43+X43 -> 0 | AD43: =Z43+AA43+AB43+AC43 -> 0 | AG43: =AE43+AF43 -> 0 | AH43: =AG43-Y43-AD43 -> 0 | AI43: Alföldi Agrárszakképzési Centrum | AL43: 202728 | AM43: 10028007-00333812-00000000 | AN43: Magyar Államkincstár
A44: 43 | B44: 329914 | C44: Déli_Agrárszakképzési_Centrum | D44: Déli Agrárszakképzési Centrum | E44: 15329918-2-17 | F44: 15329918-8532-312-17 | G44: 7100 Szekszárd, Palánk 19. | H44: Jeszenka Ildikó | I44: kancellár | M44: Fazekas Tiborné, gazdasági vezető | N44: 06-20/935-6640; fazekasne.gy@deliaszc.hu | O44: 853200 | P44: 234285 | Q44: I | T44: Szekszárd | Y44: =U44+V44+W44+X44 -> 0 | AD44: =Z44+AA44+AB44+AC44 -> 0 | AG44: =AE44+AF44 -> 0 | AH44: =AG44-Y44-AD44 -> 0 | AI44: Déli Agrárszakképzési Centrum | AL44: 036410 | AM44: 10046003-00283968-00000000 | AN44: Magyar Államkincstár
A45: 44 | B45: 823258 | C45: Északi_Agrárszakképzési_Centrum | D45: Északi Agrárszakképzési Centrum | E45: 15823254-2-15 | F45: 15823254-8532-312-15 | G45: 4400 Nyíregyháza, Semmelweis utca 15. | H45: Vislóczki Zoltán | I45: kancellár | M45: Tarcsa Attiláné, gazdasági vezető-helyettes | N45: 06-30/823-4205; tarcsane.ildiko@easzc.hu | O45: 853200 | P45: 342451 | Q45: I | T45: Nyíregyháza | Y45: =U45+V45+W45+X45 -> 0 | AD45: =Z45+AA45+AB45+AC45 -> 0 | AG45: =AE45+AF45 -> 0 | AH45: =AG45-Y45-AD45 -> 0 | AI45: Északi Agrárszakképzési Centrum | AL45: 033699 | AM45: 10044001-00334033-00000000 | AN45: Magyar Államkincstár
A46: 45 | B46: 833008 | C46: Kisalföldi_Agrárszakképzési_Centrum | D46: Kisalföldi Agrárszakképzési Centrum | E46: 15833002-2-08 | F46: 15833002-8532-312-08 | G46: 9400 Sopron, Szent György utca 9. | H46: Szabó László Gábor | I46: kancellár | M46: Büki Zoltán, főigazgató-helyettes | N46: 06-20/260-1569; buki.zoltan@rothszki.hu | O46: 853200 | P46: 355240 | Q46: I | T46: Sopron | Y46: =U46+V46+W46+X46 -> 0 | AD46: =Z46+AA46+AB46+AC46 -> 0 | AG46: =AE46+AF46 -> 0 | AH46: =AG46-Y46-AD46 -> 0 | AI46: Kisalföldi Agrárszakképzési Centrum | AL46: 030728 | AM46: 10033001-00335766-00000000 | AN46: Magyar Államkincstár
A47: 46 | B47: 823171 | C47: Közép_magyarországi_Agrárszakképzési_Centrum | D47: Közép magyarországi Agrárszakképzési Centrum | E47: 15823175-2-42 | F47: 15823175-8532-312-01 | G47: 1062 Budapest, Andrássy út 63-65. | H47: Földesi Gyula | I47: kancellár | M47: Komoriné Zorkóczy Aranka, főigazgató-helyettes | N47: 06-20/510-9168; komorine.aranka@kmaszc.hu | O47: 853200 | P47: 342339 | Q47: I | T47: Budapest | Y47: =U47+V47+W47+X47 -> 0 | AD47: =Z47+AA47+AB47+AC47 -> 0 | AG47: =AE47+AF47 -> 0 | AH47: =AG47-Y47-AD47 -> 0 | AI47: Közép magyarországi Agrárszakképzési Centrum | AL47: 035269 | AM47: 10032000-00333908-00000000 | AN47: Magyar Államkincstár
A48: 47 | B48: 720904 | C48: Körmendi_Rendvédelmi_Technikum | D48: Körmendi Rendvédelmi Technikum | E48: 15720900-2-51 | F48: 15720900-8532-312-18 | G48: 9900 Körmend, Alkotmány utca 5-7. | H48: Hollósi Gábor | I48: igazgató | M48: Czibók Károly r. ezredes gazd. igazgató-helyettes | N48: 06-30/400-4510, czibokk@krvt.police.hu | O48: 853200 | P48: 051408 | Q48: I | T48: Körmend | Y48: =U48+V48+W48+X48 -> 0 | AD48: =Z48+AA48+AB48+AC48 -> 0 | AG48: =AE48+AF48 -> 0 | AH48: =AG48-Y48-AD48 -> 0 | AI48: Körmendi Rendvédelmi Technikum | AL48: 102493 | AM48: 10047004-01392320-00000000 | AN48: Magyar Államkincstár
A49: 48 | B49: 722667 | C49: Miskolci_Rendvédelmi_Technikum | D49: Miskolci Rendvédelmi Technikum | E49: 15722665-2-51 | F49: 15722665-8532-312-05 | G49: 3526 Miskolc, Szentpéteri kapu 78. | H49: Bagi István | I49: igazgató | M49: Fekete Gábor, közgazdasági osztályvezető | N49: 06-20/264-6450, gfekete@mrvt.hu | O49: 853200 | P49: 229979 | Q49: I | T49: Miskolc | Y49: =U49+V49+W49+X49 -> 0 | AD49: =Z49+AA49+AB49+AC49 -> 0 | AG49: =AE49+AF49 -> 0 | AH49: =AG49-Y49-AD49 -> 0 | AI49: Miskolci Rendvédelmi Technikum | AL49: 029328 | AM49: 10027006-00282668-00000000 | AN49: Magyar Államkincstár
A50: 49 | B50: 816014 | C50: Kratochvil_Károly_Honvéd_Középiskola_és_Kollégium | D50: Kratochvil Károly Honvéd Középiskola és Kollégium | E50: 15816014-1-51 | F50: 15816014-8532-312-09 | G50: 4027 Debrecen, Füredi út 69. | H50: Kovács István | I50: igazgató | O50: 853200 | P50: 342951 | Q50: I | T50: Debrecen | Y50: =U50+V50+W50+X50 -> 0 | AD50: =Z50+AA50+AB50+AC50 -> 0 | AG50: =AE50+AF50 -> 0 | AH50: =AG50-Y50-AD50 -> 0 | AI50: Kratochvil Károly Honvéd Középiskola és Kollégium | AL50: 031235
A51: 50 | B51: 714174 | C51: Magyar_Honvédség_Altiszti_Akadémia | D51: Magyar Honvédség Altiszti Akadémia | E51: 15714170-2-51 | F51: 15714170-8422-312-13 | G51: 2000 Szentendre, Dózsa György út 12-14. | H51: Frankó Imre | I51: parancsnok | O51: 842211 | P51: 276656 | Q51: I | T51: Szentendre | Y51: =U51+V51+W51+X51 -> 0 | AD51: =Z51+AA51+AB51+AC51 -> 0 | AG51: =AE51+AF51 -> 0 | AH51: =AG51-Y51-AD51 -> 0 | AI51: Magyar Honvédség Altiszti Akadémia | AL51: 100526
AG52: Maradvány: | AH52: =SUMIF(AH2:AH51,"<0") -> 0

Sheet Háttértáblák
A1: Fenntartó | C1: Fenntartók | D1: Kedvezményezettek | F1: Fenntartó, vagy fenntartó fenntartója | G1: Kedvezményezettek | H1: A szakképzési centrum részeként működő szakképző intézmények (új elnevezés), vagy szakképző intézmények | J1: Képzés_kezdete | L1: _2017_2018_ősz - egyéb képzések | M1: _2017_2018_ősz - Szakképesítések OKJ száma | N1: _2017_2018_keresztfélév - Szakképesítések megnevezése | O1: _2017_2018_keresztfélév - Szakképesítések OKJ száma | Q1: _2018_2019_ősz-től - Szakképesítések megnevezése + egyéb képzések | R1: _2018_2019_ősz-től - Szakképesítések megnevezése2 | S1: _2018_2019_ősz-től - Szakképesítések megnevezése3 + egyéb képzések | T1: _2018_2019_ősz-től - Szakképesítések OKJ száma | U1: _2018_2019_ősz-től - Szakképesítések megnevezése4 | V1: _2018_2019_ősz-től - Szakképesítések OKJ száma | X1: Egyéb_képzés_típusa | Z1: Egyéb_képzés_kezdete | AB1: Szakmajegyzék 2021.I.1- | AC1: Szakma azonosító száma | AE1: Szakmajegyzék 2021.I.1- | AF1: Szakma azonosító száma | AH1: Szakmajegyzék 2021.09.01-től | AI1: Szakma azonosító száma | AK1: Szakképesítések 21.01.08. PK-k | AM1: Szakképesítések 21.08.02. PK-k
A2: Agrárminisztérium | D2: Agrárminisztérium | H2: Alföldi_Agrárszakképzési_Centrum | J2: _2017_2018_ősz | L2: Szakközépiskola két évfolyamos érettségi vizsgára felkészítő szakasza felnőttoktatásban | M2: - | N2: Abroncsgyártó | O2: 3454301 | Q2: Szakközépiskola két évfolyamos érettségi vizsgára felkészítő szakasza felnőttoktatásban | R2: Abroncsgyártó | S2: Szakközépiskola két évfolyamos érettségi vizsgára felkészítő szakasza felnőttoktatásban | T2: - | U2: Abroncsgyártó | V2: 3454301 | X2: Szakközépiskola két évfolyamos érettségi vizsgára felkészítő szakasza felnőttoktatásban | Z2: _2016_2017_ősz | AB2: Abroncsgyártó | AC2: 4 0722 24 01 | AE2: Abroncsgyártó | AF2: 4 0722 24 01 | AH2: Abroncsgyártó | AI2: 4 0722 24 01 | AK2: Adótanácsadó | AM2: Adatbázis üzemeltető (specialista)
A3: Belügyminisztérium | C3: Agrárminisztérium | D3: Alföldi_Agrárszakképzési_Centrum | F3: Agrárminisztérium | G3: Alföldi_Agrárszakképzési_Centrum | H3: Alföldi ASzC Bársony István Mezőgazdasági Technikum, Szakképző Iskola és Kollégium | J3: _2017_2018_keresztfélév | L3: Felnőttoktatás 1-4. évfolyam számára | M3: - | N3: Ács | O3: 3458201 | Q3: Felnőttoktatás 1-4. évfolyam számára | R3: Ács | S3: Felnőttoktatás 1-4. évfolyam számára | T3: - | U3: Ács | V3: 3458201 | X3: Felnőttoktatás 1-4. évfolyam számára | Z3: _2017_2018_ősz | AB3: Ács | AC3: 4 0732 06 01 | AE3: Ács | AF3: 4 0732 06 01 | AH3: Ács | AI3: 4 0732 06 01 | AK3: Államháztartási mérlegképes könyvelő | AM3: Adótanácsadó
A4: Honvédelmi_Minisztérium | C4: Agrárminisztérium | D4: Déli_Agrárszakképzési_Centrum | F4: Agrárminisztérium | G4: Alföldi_Agrárszakképzési_Centrum | H4: Alföldi ASzC Bartha János Kertészeti Technikum és Szakképző Iskola | J4: _2018_2019_ősz | L4: Felnőttoktatás 5-8. évfolyam számára | M4: - | N4: Agrár áruforgalmazó szaktechnikus | O4: 5562101 | Q4: Felnőttoktatás 5-8. évfolyam számára | R4: Agrár áruforgalmazó szaktechnikus | S4: Felnőttoktatás 5-8. évfolyam számára | T4: - | U4: Agrár áruforgalmazó szaktechnikus | V4: 5562101 | X4: Felnőttoktatás 5-8. évfolyam számára | Z4: _2018_2019_ősz | AB4: Általános ápoló | AC4: 5 0913 03 01 | AE4: Általános ápoló | AF4: 5 0913 03 01 | AH4: Általános ápoló | AI4: 5 0913 03 01 | AK4: Állatorvosi asszisztens | AM4: Alapozó- és közműgépkezelő
A5: Innovációs_és_Technológiai_Minisztérium | C5: Agrárminisztérium | D5: Északi_Agrárszakképzési_Centrum | F5: Agrárminisztérium | G5: Alföldi_Agrárszakképzési_Centrum | H5: Alföldi ASzC Bedő Albert Erdészeti Technikum, Szakképző Iskola és Kollégium | J5: _2018_2019_keresztfélév | L5: Felnőttoktatás 9-12. évfolyam keretében a gimnázium négy évfolyamos érettségi vizsgára felkészítő szakasza | M5: - | N5: Államháztartási mérlegképes könyvelő | O5: 5534402 | Q5: Felnőttoktatás 9-12. évfolyam keretében a gimnázium négy évfolyamos érettségi vizsgára felkészítő szakasza | R5: Államháztartási mérlegképes könyvelő | S5: Felnőttoktatás 9-12. évfolyam keretében a gimnázium négy évfolyamos érettségi vizsgára felkészítő szakasza | T5: - | U5: Államháztartási mérlegképes könyvelő | V5: 5534402 | X5: Felnőttoktatás 9-12. évfolyam keretében a gimnázium négy évfolyamos érettségi vizsgára felkészítő szakasza | Z5: _2019_2020_ősz | AB5: Alternatív járműhajtási technikus | AC5: 5 0716 19 01 | AE5: Alternatív járműhajtási technikus | AF5: 5 0716 19 01 | AH5: Alternatív járműhajtási technikus | AI5: 5 0716 19 01 | AK5: Aranyműves | AM5: Államháztartási mérlegképes könyvelő
C6: Agrárminisztérium | D6: Kisalföldi_Agrárszakképzési_Centrum | F6: Agrárminisztérium | G6: Alföldi_Agrárszakképzési_Centrum | H6: Alföldi ASzC Bethlen Gábor Mezőgazdasági és Élelmiszeripari Technikum, Szakképző Iskola és Kollégium | J6: _2019_2020_ősz | L6: Abroncsgyártó | M6: 3454301 | N6: Államháztartási ügyintéző | O6: 5434404 | Q6: Abroncsgyártó | R6: Államháztartási ügyintéző | S6: Abroncsgyártó | T6: 3454301 | U6: Államháztartási ügyintéző | V6: 5434404 | Z6: _2020_2021_ősz | AB6: Asztalos | AC6: 4 0722 08 01 | AE6: Asztalos | AF6: 4 0722 08 01 | AH6: Asztalos | AI6: 4 0722 08 01 | AK6: Artista I. (Akrobata) | AM6: Állatorvosi asszisztens
C7: Agrárminisztérium | D7: Közép_magyarországi_Agrárszakképzési_Centrum | F7: Agrárminisztérium | G7: Alföldi_Agrárszakképzési_Centrum | H7: Alföldi ASzC Fodor József Élelmiszeripari Technikum és Szakképző Iskola | J7: _2019_2020_keresztfélév | L7: Ács | M7: 3458201 | N7: Állattartó szakmunkás | O7: 3462103 | Q7: Ács | R7: Állattartó szakmunkás | S7: Ács | T7: 3458201 | U7: Állattartó szakmunkás | V7: 3462103 | X7: Két éves, érettségi vizsgára felkészítő képzés technikumban | Z7: _2021_2022_ősz | AB7: Autógyártó | AC7: 4 0716 19 02 | AE7: Autógyártó | AF7: 4 0716 19 02 | AH7: Autógyártó | AI7: 4 0716 19 02 | AK7: Artista I. (Bohóc) | AM7: Aqua instruktor
D8: Belügyminisztérium | F8: Agrárminisztérium | G8: Alföldi_Agrárszakképzési_Centrum | H8: Alföldi ASzC Galamb József Mezőgazdasági Technikum és Szakképző Iskola | J8: _2020_2021_ősz | L8: Agrár áruforgalmazó szaktechnikus | M8: 5562101 | N8: Állattenyésztő és állategészségügyi technikus | O8: 5462101 | Q8: Agrár áruforgalmazó szaktechnikus | R8: Állattenyésztő és állategészségügyi technikus | S8: Agrár áruforgalmazó szaktechnikus | T8: 5562101 | U8: Állattenyésztő és állategészségügyi technikus | V8: 5462101 | AB8: Automatikai technikus | AC8: 5 0714 04 01 | AE8: Automatikai technikus | AF8: 5 0714 04 01 | AH8: Automatikai technikus | AI8: 5 0714 04 01 | AK8: Artista I. (Egyensúlyozó) | AM8: Aranyműves
C9: Belügyminisztérium | D9: Körmendi_Rendvédelmi_Technikum | F9: Agrárminisztérium | G9: Alföldi_Agrárszakképzési_Centrum | H9: Alföldi ASzC Gregus Máté Mezőgazdasági Technikum és Szakképző Iskola | J9: _2020_2021_keresztfélév | L9: Államháztartási mérlegképes könyvelő | M9: 5534402 | N9: Alternatív gépjárműhajtási technikus | O9: 5552503 | Q9: Államháztartási mérlegképes könyvelő | R9: Alternatív gépjárműhajtási technikus | S9: Államháztartási mérlegképes könyvelő | T9: 5534402 | U9: Alternatív gépjárműhajtási technikus | V9: 5552503 | AB9: Bádogos | AC9: 4 0732 06 02 | AE9: Bádogos | AF9: 4 0732 06 02 | AH9: Bádogos | AI9: 4 0732 06 02 | AK9: Artista I. (Légtornász) | AM9: Artista I. (Akrobata)
C10: Belügyminisztérium | D10: Miskolci_Rendvédelmi_Technikum | F10: Agrárminisztérium | G10: Alföldi_Agrárszakképzési_Centrum | H10: Alföldi ASzC Kenderesi Mezőgazdasági Technikum, Szakképző Iskola és Kollégium | J10: _2021_2022_ősz | L10: Államháztartási ügyintéző | M10: 5434404 | N10: Ápoló | O10: 5572301 | Q10: Államháztartási ügyintéző | R10: Ápoló | S10: Államháztartási ügyintéző | T10: 5434404 | U10: Ápoló | V10: 5572301 | AB10: Bányaipari technikus | AC10: 5 0724 01 01 | AE10: Bányaipari technikus | AF10: 5 0724 01 01 | AH10: Bányaipari technikus | AI10: 5 0724 01 01 | AK10: Artista I. (Társulati artista) | AM10: Artista I. (Bohóc)
D11: Honvédelmi_Minisztérium | F11: Agrárminisztérium | G11: Alföldi_Agrárszakképzési_Centrum | H11: Alföldi ASzC Kétegyházai Mezőgazdasági Technikum, Szakképző Iskola és Kollégium | L11: Állattartó szakmunkás | M11: 3462103 | N11: Aranyműves | O11: 5521101 | Q11: Állattartó szakmunkás | R11: Aranyműves | S11: Állattartó szakmunkás | T11: 3462103 | U11: Aranyműves | V11: 5521101 | AB11: Bányaművelő | AC11: 4 0724 01 02 | AE11: Bányaművelő | AF11: 4 0724 01 02 | AH11: Bányaművelő | AI11: 4 0724 01 02 | AK11: Artista I. (Zsonglőr) | AM11: Artista I. (Egyensúlyozó)
C12: Honvédelmi_Minisztérium | D12: Kratochvil_Károly_Honvéd_Középiskola_és_Kollégium | F12: Agrárminisztérium | G12: Alföldi_Agrárszakképzési_Centrum | H12: Alföldi ASzC Kiss Ferenc Erdészeti Technikum | L12: Állattenyésztő és állategészségügyi technikus | M12: 5462101 | N12: Artista I. (a szakmairány megnevezésével) | O12: 5521202 | Q12: Állattenyésztő és állategészségügyi technikus | R12: Artista I. (a szakmairány megnevezésével) | S12: Állattenyésztő és állategészségügyi technikus | T12: 5462101 | U12: Artista I. (a szakmairány megnevezésével) | V12: 5521202 | AB12: Bor- és pezsgőgyártó technikus | AC12: 5 0721 05 01 | AE12: Bor- és pezsgőgyártó technikus | AF12: 5 0721 05 01 | AH12: Bor- és pezsgőgyártó technikus | AI12: 5 0721 05 01 | AK12: Artista II. (Akrobata) | AM12: Artista I. (Légtornász)
C13: Honvédelmi_Minisztérium | D13: Magyar_Honvédség_Altiszti_Akadémia | H13: Déli_Agrárszakképzési_Centrum | L13: Alternatív gépjárműhajtási technikus | M13: 5552503 | N13: Artista II. (a szakmairány megnevezésével) | O13: 5421201 | Q13: Alternatív gépjárműhajtási technikus | R13: Artista II. (a szakmairány megnevezésével) | S13: Alternatív gépjárműhajtási technikus | T13: 5552503 | U13: Artista II. (a szakmairány megnevezésével) | V13: 5421201 | AB13: Bőrtermékkészítő | AC13: 4 0723 16 01 | AE13: Bőrtermékkészítő | AF13: 4 0723 16 01 | AH13: Bőrtermékkészítő | AI13: 4 0723 16 01 | AK13: Artista II. (Bohóc) | AM13: Artista I. (Társulati artista)
D14: Innovációs_és_Technológiai_Minisztérium | F14: Agrárminisztérium | G14: Déli_Agrárszakképzési_Centrum | H14: Déli ASzC Apponyi Sándor Mezőgazdasági Technikum, Szakképző Iskola és Kollégium | J14: Képzés_kezdete | L14: Ápoló | M14: 5572301 | N14: Asztalos | O14: 3454302 | Q14: Ápoló | R14: Asztalos | S14: Ápoló | T14: 5572301 | U14: Asztalos | V14: 3454302 | AB14: Burkoló | AC14: 4 0732 06 03 | AE14: Burkoló | AF14: 4 0732 06 03 | AH14: Burkoló | AI14: 4 0732 06 03 | AK14: Artista II. (Egyensúlyozó) | AM14: Artista I. (Zsonglőr)
C15: Innovációs_és_Technológiai_Minisztérium | D15: Bajai_SZC | F15: Agrárminisztérium | G15: Déli_Agrárszakképzési_Centrum | H15: Déli ASzC Bereczki Máté Mezőgazdasági és Élelmiszeripari Technikum, Szakképző Iskola | J15: _2017_2018_ősz | L15: Aranyműves | M15: 5521101 | N15: Audio- és vizuáltechnikai műszerész | O15: 3552201 | Q15: Aranyműves | R15: Audio- és vizuáltechnikai műszerész | S15: Aranyműves | T15: 5521101 | U15: Audio- és vizuáltechnikai műszerész | V15: 3552201 | AB15: CNC-programozó | AC15: 4 0715 10 01 | AE15: CNC-programozó | AF15: 4 0715 10 01 | AH15: CNC-programozó | AI15: 4 0715 10 01 | AK15: Artista II. (Légtornász) | AM15: Artista II. (Akrobata)
C16: Innovációs_és_Technológiai_Minisztérium | D16: Békéscsabai_SZC | F16: Agrárminisztérium | G16: Déli_Agrárszakképzési_Centrum | H16: Déli ASzC Csapó Dániel Mezőgazdasági Technikum, Szakképző Iskola és Kollégium | J16: _2017_2018_keresztfélév | L16: Artista I. (a szakmairány megnevezésével) | M16: 5521202 | N16: Audiológiai asszisztens és hallásakusztikus | O16: 5472502 | Q16: Artista I. (a szakmairány megnevezésével) | R16: Audiológiai asszisztens és hallásakusztikus | S16: Artista I. (a szakmairány megnevezésével) | T16: 5521202 | U16: Audiológiai asszisztens és hallásakusztikus | V16: 5472502 | AB16: Cukrász | AC16: 4 1013 23 01 | AE16: Cukrász | AF16: 4 1013 23 01 | AH16: Cukrász | AI16: 4 1013 23 01 | AK16: Artista II. (Társulati artista) | AM16: Artista II. (Bohóc)
C17: Innovációs_és_Technológiai_Minisztérium | D17: Berettyóújfalui_SZC | F17: Agrárminisztérium | G17: Déli_Agrárszakképzési_Centrum | H17: Déli ASZC Jánoshalmi Mezőgazdasági Technikum, Szakképző Iskola és Kollégium | J17: _2018_2019_ősz | L17: Artista II. (a szakmairány megnevezésével) | M17: 5421201 | N17: Autóbuszvezető | O17: 3584101 | Q17: Artista II. (a szakmairány megnevezésével) | R17: Autóbuszvezető | S17: Artista II. (a szakmairány megnevezésével) | T17: 5421201 | U17: Autóbuszvezető | V17: 3584101 | AB17: Cukrász szaktechnikus | AC17: 5 1013 23 02 | AE17: Cukrász szaktechnikus | AF17: 5 1013 23 02 | AH17: Cukrász szaktechnikus | AI17: 5 1013 23 02 | AK17: Artista II. (Zsonglőr) | AM17: Artista II. (Egyensúlyozó)
C18: Innovációs_és_Technológiai_Minisztérium | D18: Budapesti_Gazdasági_SZC | F18: Agrárminisztérium | G18: Déli_Agrárszakképzési_Centrum | H18: Déli ASzC Kinizsi Pál Élelmiszeripari Technikum és Szakképző Iskola | J18: _2018_2019_keresztfélév | L18: Asztalos | M18: 3454302 | N18: Autóelektronikai műszerész | O18: 5452501 | Q18: Asztalos | R18: Autóelektronikai műszerész | S18: Asztalos | T18: 3454302 | U18: Autóelektronikai műszerész | V18: 5452501 | Z18: Szakmai_képzés_kezdete | AB18: Dekoratőr | AC18: 5 0212 16 07 | AE18: Dekoratőr | AF18: 5 0212 16 07 | AH18: Dekoratőr | AI18: 5 0212 16 07 | AK18: Automatikai berendezés karbantartó | AM18: Artista II. (Légtornász)
C19: Innovációs_és_Technológiai_Minisztérium | D19: Budapesti_Gépészeti_SZC | F19: Agrárminisztérium | G19: Déli_Agrárszakképzési_Centrum | H19: Déli ASzC Kiskunfélegyházi Mezőgazdasági és Élelmiszeripari Technikum, Szakképző Iskola és Kollégium | J19: _2019_2020_ősz | L19: Audio- és vizuáltechnikai műszerész | M19: 3552201 | N19: Autógyártó | O19: 3452101 | Q19: Audio- és vizuáltechnikai műszerész | R19: Autógyártó | S19: Audio- és vizuáltechnikai műszerész | T19: 3552201 | U19: Autógyártó | V19: 3452101 | Z19: _2020_09_2021_08_hó_között | AB19: Divat-, jelmez- és díszlettervező | AC19: 5 0212 16 02 | AE19: Divat-, jelmez- és díszlettervező | AF19: 5 0212 16 02 | AH19: Divat-, jelmez- és díszlettervező | AI19: 5 0212 16 02 | AK19: Banki, befektetési termékértékesítő | AM19: Artista II. (Társulati artista)
C20: Innovációs_és_Technológiai_Minisztérium | D20: Budapesti_Komplex_SZC | F20: Agrárminisztérium | G20: Déli_Agrárszakképzési_Centrum | H20: Déli ASzC Kocsis Pál Mezőgazdasági és Környezetvédelmi Technikum és Szakképző Iskola | J20: _2019_2020_keresztfélév | L20: Audiológiai asszisztens és hallásakusztikus | M20: 5472502 | N20: Automatikai berendezés karbantartó | O20: 3552301 | Q20: Audiológiai asszisztens és hallásakusztikus | R20: Automatikai berendezés karbantartó | S20: Audiológiai asszisztens és hallásakusztikus | T20: 5472502 | U20: Automatikai berendezés karbantartó | V20: 3552301 | Z20: _2021_09_2021_12_hó_között | AB20: Divatszabó | AC20: 4 0723 16 03 | AE20: Divatszabó | AF20: 4 0723 16 03 | AH20: Divatszabó | AI20: 4 0723 16 03 | AK20: Barkács áruházi eladó | AM20: Artista II. (Zsonglőr)
C21: Innovációs_és_Technológiai_Minisztérium | D21: Budapesti_Műszaki_SZC | F21: Agrárminisztérium | G21: Déli_Agrárszakképzési_Centrum | H21: Déli ASzC Móricz Zsigmond Mezőgazdasági Technikum, Szakképző Iskola és Kollégium | J21: _2020_2021_ősz_ | L21: Autóbuszvezető | M21: 3584101 | N21: Automatikai technikus | O21: 5452301 | Q21: Autóbuszvezető | R21: Automatikai technikus | S21: Autóbuszvezető | T21: 3584101 | U21: Automatikai technikus | V21: 5452301 | AB21: Édességkészítő | AC21: 4 0721 05 02 | AE21: Édességkészítő | AF21: 4 0721 05 02 | AH21: Édességkészítő | AI21: 4 0721 05 02 | AK21: Becsüs | AM21: Automatikai berendezés karbantartó
C22: Innovációs_és_Technológiai_Minisztérium | D22: Ceglédi_SZC | F22: Agrárminisztérium | G22: Déli_Agrárszakképzési_Centrum | H22: Déli ASzC Sellyei Mezőgazdasági Technikum, Szakképző Iskola és Kollégium | J22: _2021_2022_ősz_ | L22: Autóelektronikai műszerész | M22: 5452501 | N22: Autószerelő | O22: 5452502 | Q22: Autóelektronikai műszerész | R22: Autószerelő | S22: Autóelektronikai műszerész | T22: 5452501 | U22: Autószerelő | V22: 5452502 | AB22: Egészségügyi asszisztens | AC22: 5 0913 03 02 | AE22: Egészségügyi asszisztens | AF22: 5 0913 03 02 | AH22: Egészségügyi asszisztens | AI22: 5 0913 03 02 | AK22: Belovagló | AM22: Banki, befektetési termékértékesítő
C23: Innovációs_és_Technológiai_Minisztérium | D23: Debreceni_SZC | F23: Agrárminisztérium | G23: Déli_Agrárszakképzési_Centrum | H23: Déli ASzC Széchenyi Zsigmond Mezőgazdasági Technikum, Szakképző Iskola és Kollégium | L23: Autógyártó | M23: 3452101 | N23: Autótechnikus | O23: 5552501 | Q23: Autógyártó | R23: Autótechnikus | S23: Autógyártó | T23: 3452101 | U23: Autótechnikus | V23: 5552501 | AB23: Egészségügyi laboráns | AC23: 5 0914 03 03 | AE23: Egészségügyi laboráns | AF23: 5 0914 03 03 | AH23: Egészségügyi laboráns | AI23: 5 0914 03 03 | AK23: Betegkísérő | AM23: Barkács áruházi eladó
A24: 2021. záró támogatási időszak | C24: Innovációs_és_Technológiai_Minisztérium | D24: Dunaújvárosi_SZC | F24: Agrárminisztérium | G24: Déli_Agrárszakképzési_Centrum | H24: Déli ASzC Teleki Zsigmond Mezőgazdasági Technikum, Szakképző Iskola és Kollégium | L24: Automatikai berendezés karbantartó | M24: 3552301 | N24: Avionikus | O24: 5452503 | Q24: Automatikai berendezés karbantartó | R24: Avionikus | S24: Automatikai berendezés karbantartó | T24: 3552301 | U24: Avionikus | V24: 5452503 | AB24: Elektronikai műszerész | AC24: 4 0713 04 02 | AE24: Elektronikai műszerész | AF24: 4 0713 04 02 | AH24: Elektronikai műszerész | AI24: 4 0713 04 02 | AK24: Biogazdálkodó | AM24: Becsüs
C25: Innovációs_és_Technológiai_Minisztérium | D25: Heves_Megyei_SZC | F25: Agrárminisztérium | G25: Déli_Agrárszakképzési_Centrum | H25: Déli ASzC Ujhelyi Imre Mezőgazdasági Technikum, Szakképző Iskola és Kollégium | L25: Automatikai technikus | M25: 5452301 | N25: Bádogos | O25: 3458202 | Q25: Automatikai technikus | R25: Bádogos | S25: Automatikai technikus | T25: 5452301 | U25: Bádogos | V25: 3458202 | AB25: Elektronikai technikus | AC25: 5 0714 04 03 | AE25: Elektronikai technikus | AF25: 5 0714 04 03 | AH25: Elektronikai technikus | AI25: 5 0714 04 03 | AK25: Biztosításközvetítő (függő és független) | AM25: Belovagló
C26: Innovációs_és_Technológiai_Minisztérium | D26: Esztergomi_SZC | H26: Északi_Agrárszakképzési_Centrum | L26: Autószerelő | M26: 5452502 | N26: Bányaművelő | O26: 3454402 | Q26: Autószerelő | R26: Bányaművelő | S26: Autószerelő | T26: 5452502 | U26: Bányaművelő | V26: 3454402 | AB26: Élelmiszer-ellenőrzési technikus | AC26: 5 0721 05 03 | AE26: Élelmiszer-ellenőrzési technikus | AF26: 5 0721 05 03 | AH26: Élelmiszer-ellenőrzési technikus | AI26: 5 0721 05 03 | AK26: Boncmester | AM26: Betegkísérő
C27: Innovációs_és_Technológiai_Minisztérium | D27: Érdi_SZC | F27: Agrárminisztérium | G27: Északi_Agrárszakképzési_Centrum | H27: Északi ASzC Bárczay János Mezőgazdasági Technikum, Szakképző Iskola és Kollégium | J27: _2020_2021_ősz_ | L27: Autótechnikus | M27: 5552501 | N27: Bányaművelő technikus | O27: 5454401 | Q27: Autótechnikus | R27: Bányaművelő technikus | S27: Autótechnikus | T27: 5552501 | U27: Bányaművelő technikus | V27: 5454401 | AB27: Élelmiszeripari gépésztechnikus | AC27: 5 0721 05 04 | AE27: Élelmiszeripari gépésztechnikus | AF27: 5 0721 05 04 | AH27: Élelmiszeripari gépésztechnikus | AI27: 5 0721 05 04 | AK27: Bútor- és szőnyegbecsüs | AM27: Bevontelektródás kézi ívhegesztő
C28: Innovációs_és_Technológiai_Minisztérium | D28: Győri_SZC | F28: Agrárminisztérium | G28: Északi_Agrárszakképzési_Centrum | H28: Északi ASzC Baross László Mezőgazdasági Technikum, Szakképző Iskola és Kollégium | J28: Szakközépiskola két évfolyamos érettségi vizsgára felkészítő szakasza felnőttoktatásban | L28: Avionikus | M28: 5452503 | N28: Belovagló | O28: 3581301 | Q28: Avionikus | R28: Belovagló | S28: Avionikus | T28: 5452503 | U28: Belovagló | V28: 3581301 | AB28: Élelmiszeripari gépkezelő | AC28: 4 0721 05 05 | AE28: Élelmiszeripari gépkezelő | AF28: 4 0721 05 05 | AH28: Élelmiszeripari gépkezelő | AI28: 4 0721 05 05 | AK28: Bútorbolti eladó | AM28: Biogazdálkodó
C29: Innovációs_és_Technológiai_Minisztérium | D29: Gyulai_SZC | F29: Agrárminisztérium | G29: Északi_Agrárszakképzési_Centrum | H29: Északi ASzC Debreczeni Márton Mezőgazdasági és Élelmiszeripari Technikum és Szakképző Iskola | L29: Bádogos | M29: 3458202 | N29: Beszédátviteli rendszerüzemeltető technikus | O29: 5552305 | Q29: Bádogos | R29: Beszédátviteli rendszerüzemeltető technikus | S29: Bádogos | T29: 3458202 | U29: Beszédátviteli rendszerüzemeltető technikus | V29: 5552305 | AB29: Építő-, szállító- és munkagép-szerelő | AC29: 4 0715 10 02 | AE29: Építő-, szállító- és munkagép-szerelő | AF29: 4 0715 10 02 | AH29: Építő-, szállító- és munkagép-szerelő | AI29: 4 0715 10 02 | AK29: Bútorműves, műbútorasztalos | AM29: Biztosításközvetítő (függő és független)
C30: Innovációs_és_Technológiai_Minisztérium | D30: Hódmezővásárhelyi_SZC | F30: Agrárminisztérium | G30: Északi_Agrárszakképzési_Centrum | H30: Északi ASzC Lippai János Mezőgazdasági Technikum és Szakképző Iskola | L30: Bányaművelő | M30: 3454402 | N30: Biogazdálkodó | O30: 3562102 | Q30: Bányaművelő | R30: Biogazdálkodó | S30: Bányaművelő | T30: 3454402 | U30: Biogazdálkodó | V30: 3562102 | AB30: Épület- és szerkezetlakatos | AC30: 4 0732 10 03 | AE30: Épület- és szerkezetlakatos | AF30: 4 0732 10 03 | AH30: Épület- és szerkezetlakatos | AI30: 4 0732 10 03 | AK30: Büntetés-végrehajtási egészségügyi főfelügyelő | AM30: Boncmester
C31: Innovációs_és_Technológiai_Minisztérium | D31: Kaposvári_SZC | F31: Agrárminisztérium | G31: Északi_Agrárszakképzési_Centrum | H31: Északi ASzC Mátra Erdészeti Technikum, Szakképző Iskola és Kollégium | L31: Bányaművelő technikus | M31: 5454401 | N31: Bor- és pezsgőgyártó szaktechnikus | O31: 5554101 | Q31: Bányaművelő technikus | R31: Bor- és pezsgőgyártó szaktechnikus | S31: Bányaművelő technikus | T31: 5454401 | U31: Bor- és pezsgőgyártó szaktechnikus | V31: 5554101 | AB31: Épületgépész technikus | AC31: 5 0732 07 01 | AE31: Épületgépész technikus | AF31: 5 0732 07 01 | AH31: Épületgépész technikus | AI31: 5 0732 07 01 | AK31: Büntetés-végrehajtási felügyelő | AM31: Bronzműves és szoboröntő
C32: Innovációs_és_Technológiai_Minisztérium | D32: Karcagi_SZC | F32: Agrárminisztérium | G32: Északi_Agrárszakképzési_Centrum | H32: Északi ASzC Pétervásárai Mezőgazdasági Technikum, Szakképző Iskola és Kollégium | L32: Belovagló | M32: 3581301 | N32: Bőrdíszműves | O32: 3454201 | Q32: Belovagló | R32: Bőrdíszműves | S32: Belovagló | T32: 3581301 | U32: Bőrdíszműves | V32: 3454201 | AB32: Épületszobrász és műköves | AC32: 4 0732 06 04 | AE32: Épületszobrász és műköves | AF32: 4 0732 06 04 | AH32: Épületszobrász és műköves | AI32: 4 0732 06 04 | AK32: Büntetés-végrehajtási főfelügyelő | AM32: Bútor- és szőnyegbecsüs
C33: Innovációs_és_Technológiai_Minisztérium | D33: Kecskeméti_SZC | F33: Agrárminisztérium | G33: Északi_Agrárszakképzési_Centrum | H33: Északi ASzC Serényi Béla Mezőgazdasági Technikum és Szakképző Iskola | J33: _2021_2022_ősz_ | L33: Beszédátviteli rendszerüzemeltető technikus | M33: 5552305 | N33: Bőrfeldolgozó-ipari technikus | O33: 5454201 | Q33: Beszédátviteli rendszerüzemeltető technikus | R33: Bőrfeldolgozó-ipari technikus | S33: Beszédátviteli rendszerüzemeltető technikus | T33: 5552305 | U33: Bőrfeldolgozó-ipari technikus | V33: 5454201 | AB33: Erdésztechnikus | AC33: 5 0821 17 02 | AE33: Erdésztechnikus | AF33: 5 0821 17 02 | AH33: Erdésztechnikus | AI33: 5 0821 17 02 | AK33: Büntetés-végrehajtási gazdálkodási főfelügyelő | AM33: Bútorbolti eladó
C34: Innovációs_és_Technológiai_Minisztérium | D34: Kiskunhalasi_SZC | F34: Agrárminisztérium | G34: Északi_Agrárszakképzési_Centrum | H34: Északi ASzC Széchenyi István Mezőgazdasági és Élelmiszeripari Technikum, Szakképző Iskola és Kollégium | J34: Szakközépiskola két évfolyamos érettségi vizsgára felkészítő szakasza felnőttoktatásban | L34: Biogazdálkodó | M34: 3562102 | N34: Bronzműves és szoboröntő | O34: 5521102 | Q34: Biogazdálkodó | R34: Bronzműves és szoboröntő | S34: Biogazdálkodó | T34: 3562102 | U34: Bronzműves és szoboröntő | V34: 5521102 | AB34: Erdőművelő-fakitermelő | AC34: 4 0821 17 01 | AE34: Erdőművelő-fakitermelő | AF34: 4 0821 17 01 | AH34: Erdőművelő-fakitermelő | AI34: 4 0821 17 01 | AK34: Büntetés-végrehajtási igazgatási főfelügyelő | AM34: Bútorműves, műbútorasztalos
C35: Innovációs_és_Technológiai_Minisztérium | D35: Kisvárdai_SZC | F35: Agrárminisztérium | G35: Északi_Agrárszakképzési_Centrum | H35: Északi ASzC Tokaji Mezőgazdasági Technikum, Szakképző Iskola és Kollégium | L35: Bor- és pezsgőgyártó szaktechnikus | M35: 5554101 | N35: Burkoló | O35: 3458213 | Q35: Bor- és pezsgőgyártó szaktechnikus | R35: Burkoló | S35: Bor- és pezsgőgyártó szaktechnikus | T35: 5554101 | U35: Burkoló | V35: 3458213 | AB35: Erjedés- és üdítőital-ipari technikus | AC35: 5 0721 05 06 | AE35: Erjedés- és üdítőital-ipari technikus | AF35: 5 0721 05 06 | AH35: Erjedés- és üdítőital-ipari technikus | AI35: 5 0721 05 06 | AK35: Büntetés-végrehajtási szervező | AM35: Büntetés-végrehajtási egészségügyi főfelügyelő
C36: Innovációs_és_Technológiai_Minisztérium | D36: Mátészalkai_SZC | F36: Agrárminisztérium | G36: Északi_Agrárszakképzési_Centrum | H36: Északi ASzC Vay Ádám Mezőgazdasági Technikum, Szakképző Iskola és Kollégium | L36: Bőrdíszműves | M36: 3454201 | N36: CAD-CAM informatikus | O36: 5448101 | Q36: Bőrdíszműves | R36: CAD-CAM informatikus | S36: Bőrdíszműves | T36: 3454201 | U36: CAD-CAM informatikus | V36: 5448101 | AB36: Erjedés- és üdítőital-ipari termékkészítő | AC36: 4 0721 05 07 | AE36: Erjedés- és üdítőital-ipari termékkészítő | AF36: 4 0721 05 07 | AH36: Erjedés- és üdítőital-ipari termékkészítő | AI36: 4 0721 05 07 | AK36: Cipőfelsőrész-készítő | AM36: Büntetés-végrehajtási felügyelő
C37: Innovációs_és_Technológiai_Minisztérium | D37: Miskolci_SZC | F37: Agrárminisztérium | G37: Északi_Agrárszakképzési_Centrum | H37: Északi ASzC Westsik Vilmos Élelmiszeripari Technikum és Szakképző Iskola | L37: Bőrfeldolgozó-ipari technikus | M37: 5454201 | N37: Cipőkészítő | O37: 3454202 | Q37: Bőrfeldolgozó-ipari technikus | R37: Cipőkészítő | S37: Bőrfeldolgozó-ipari technikus | T37: 5454201 | U37: Cipőkészítő | V37: 3454202 | AB37: Erősáramú elektrotechnikus | AC37: 5 0713 04 04 | AE37: Erősáramú elektrotechnikus | AF37: 5 0713 04 04 | AH37: Erősáramú elektrotechnikus | AI37: 5 0713 04 04 | AK37: CNC vezérlésű lemezmegmunkáló gépkezelő | AM37: Büntetés-végrehajtási főfelügyelő
C38: Innovációs_és_Technológiai_Minisztérium | D38: Nagykanizsai_SZC | H38: Kisalföldi_Agrárszakképzési_Centrum | L38: Bronzműves és szoboröntő | M38: 5521102 | N38: CNC gépkezelő | O38: 3552101 | Q38: Bronzműves és szoboröntő | R38: CNC gépkezelő | S38: Bronzműves és szoboröntő | T38: 5521102 | U38: CNC gépkezelő | V38: 3552101 | AB38: Faipari technikus | AC38: 5 0722 08 02 | AE38: Faipari technikus | AF38: 5 0722 08 02 | AH38: Faipari technikus | AI38: 5 0722 08 02 | AK38: Családellátó | AM38: Büntetés-végrehajtási gazdálkodási főfelügyelő
C39: Innovációs_és_Technológiai_Minisztérium | D39: Nyíregyházi_SZC | F39: Agrárminisztérium | G39: Kisalföldi_Agrárszakképzési_Centrum | H39: Kisalföldi ASzC Batthyány Lajos Mezőgazdasági és Élelmiszeripari Technikum, Szakképző Iskola és Kollégium | L39: Burkoló | M39: 3458213 | N39: Cukor- és édesipari szaktechnikus | O39: 5554102 | Q39: Burkoló | R39: Cukor- és édesipari szaktechnikus | S39: Burkoló | T39: 3458213 | U39: Cukor- és édesipari szaktechnikus | V39: 5554102 | AB39: Fegyvergyártó szaktechnikus | AC39: 5 1031 11 01 | AE39: Fegyvergyártó szaktechnikus | AF39: 5 1031 11 01 | AH39: Fegyvergyártó szaktechnikus | AI39: 5 1031 11 01 | AK39: Csecsemő és gyermek ruházat készítő | AM39: Büntetés-végrehajtási igazgatási főfelügyelő
C40: Innovációs_és_Technológiai_Minisztérium | D40: Ózdi_SZC | F40: Agrárminisztérium | G40: Kisalföldi_Agrárszakképzési_Centrum | H40: Kisalföldi ASzC Csukás Zoltán Mezőgazdasági Technikum és Szakképző Iskola | L40: CAD-CAM informatikus | M40: 5448101 | N40: Cukrász | O40: 3481101 | Q40: CAD-CAM informatikus | R40: Cukrász | S40: CAD-CAM informatikus | T40: 5448101 | U40: Cukrász | V40: 3481101 | AB40: Fegyverműszerész technikus | AC40: 5 1031 11 02 | AE40: Fegyverműszerész technikus | AF40: 5 1031 11 02 | AH40: Fegyverműszerész technikus | AI40: 5 1031 11 02 | AK40: Csoportos fitness instruktor | AM40: Büntetés-végrehajtási szervező
C41: Innovációs_és_Technológiai_Minisztérium | D41: Pápai_SZC | F41: Agrárminisztérium | G41: Kisalföldi_Agrárszakképzési_Centrum | H41: Kisalföldi ASzC Dr. Entz Ferenc Mezőgazdasági Technikum, Szakképző Iskola és Kollégium | L41: Cipőkészítő | M41: 3454202 | N41: Családi gazdálkodó | O41: 3481401 | Q41: Cipőkészítő | R41: Családi gazdálkodó | S41: Cipőkészítő | T41: 3454202 | U41: Családi gazdálkodó | V41: 3481401 | AB41: Fegyveroptikai szaktechnikus | AC41: 5 1031 11 03 | AE41: Fegyveroptikai szaktechnikus | AF41: 5 1031 11 03 | AH41: Fegyveroptikai szaktechnikus | AI41: 5 1031 11 03 | AK41: Demencia gondozó | AM41: Cipőfelsőrész-készítő
C42: Innovációs_és_Technológiai_Minisztérium | D42: Baranya_Megyei_SZC | F42: Agrárminisztérium | G42: Kisalföldi_Agrárszakképzési_Centrum | H42: Kisalföldi ASzC Eötvös József Technikum, Szakképző Iskola és Kollégium | L42: CNC gépkezelő | M42: 3552101 | N42: Csecsemő és gyermekápoló | O42: 5572302 | Q42: CNC gépkezelő | R42: Csecsemő és gyermekápoló | S42: CNC gépkezelő | T42: 3552101 | U42: Csecsemő és gyermekápoló | V42: 5572302 | AB42: Fémelőállító | AC42: 4 0724 01 03 | AE42: Fémelőállító | AF42: 4 0724 01 03 | AH42: Fémelőállító | AI42: 4 0724 01 03 | AK42: Digitális fogtechnika | AM42: CNC vezérlésű lemezmegmunkáló gépkezelő
C43: Innovációs_és_Technológiai_Minisztérium | D43: Nógrád_Megyei_SZC | F43: Agrárminisztérium | G43: Kisalföldi_Agrárszakképzési_Centrum | H43: Kisalföldi ASzC Herman Ottó Környezetvédelmi és Mezőgazdasági Technikum, Szakképző Iskola és Kollégium | L43: Cukor- és édesipari szaktechnikus | M43: 5554102 | N43: Dekoratőr | O43: 5421101 | Q43: Cukor- és édesipari szaktechnikus | R43: Dekoratőr | S43: Cukor- és édesipari szaktechnikus | T43: 5554102 | U43: Dekoratőr | V43: 5421101 | AB43: Fémszerkezet-felület-bevonó | AC43: 4 0715 19 03 | AE43: Fémszerkezet-felület-bevonó | AF43: 4 0715 19 03 | AH43: Fémszerkezet-felület-bevonó | AI43: 4 0715 19 03 | AK43: Digitális montírozó és nyomóforma készítő | AM43: Családellátó
C44: Innovációs_és_Technológiai_Minisztérium | D44: Siófoki_SZC | F44: Agrárminisztérium | G44: Kisalföldi_Agrárszakképzési_Centrum | H44: Kisalföldi ASzC Jávorka Sándor Mezőgazdasági és Élelmiszeripari Technikum, Szakképző Iskola és Kollégium | L44: Cukrász | M44: 3481101 | N44: Demencia gondozó | O44: 3576201 | Q44: Cukrász | R44: Demencia gondozó | S44: Cukrász | T44: 3481101 | U44: Demencia gondozó | V44: 3576201 | AB44: Festő, mázoló, tapétázó | AC44: 4 0732 06 05 | AE44: Festő, mázoló, tapétázó | AF44: 4 0732 06 05 | AH44: Festő, mázoló, tapétázó | AI44: 4 0732 06 05 | AK44: Díszmű- és műemléki bádogos | AM44: Csecsemő és gyermek ruházat készítő
C45: Innovációs_és_Technológiai_Minisztérium | D45: Soproni_SZC | F45: Agrárminisztérium | G45: Kisalföldi_Agrárszakképzési_Centrum | H45: Kisalföldi ASzC Pettkó-Szandtner Tibor Lovas Szakképző Iskola és Kollégium | L45: Családi gazdálkodó | M45: 3481401 | N45: Diétás szakács | O45: 3581103 | Q45: Családi gazdálkodó | R45: Diétás szakács | S45: Családi gazdálkodó | T45: 3481401 | U45: Diétás szakács | V45: 3581103 | AB45: Finommechanikai műszerész | AC45: 4 0715 10 04 | AE45: Finommechanikai műszerész | AF45: 4 0715 10 04 | AH45: Finommechanikai műszerész | AI45: 4 0715 10 04 | AK45: Díszműkovács | AM45: Csoportos fitness instruktor
C46: Innovációs_és_Technológiai_Minisztérium | D46: Szegedi_SZC | F46: Agrárminisztérium | G46: Kisalföldi_Agrárszakképzési_Centrum | H46: Kisalföldi ASzC Roth Gyula Erdészeti Technikum, Szakképző Iskola és Kollégium | L46: Csecsemő és gyermekápoló | M46: 5572302 | N46: Díszítő festő | O46: 5521103 | Q46: Csecsemő és gyermekápoló | R46: Díszítő festő | S46: Csecsemő és gyermekápoló | T46: 5572302 | U46: Díszítő festő | V46: 5521103 | AB46: Fitness-wellness instruktor | AC46: 5 1014 20 01 | AE46: Fitness-wellness instruktor | AF46: 5 1014 20 01 | AH46: Fitness-wellness instruktor | AI46: 5 1014 20 01 | AK46: Dísznövénykertész | AM46: Dajka
C47: Innovációs_és_Technológiai_Minisztérium | D47: Székesfehérvári_SZC | F47: Agrárminisztérium | G47: Kisalföldi_Agrárszakképzési_Centrum | H47: Kisalföldi ASzC Szent István Mezőgazdasági és Élelmiszeripari Technikum és Szakképző Iskola | L47: Dekoratőr | M47: 5421101 | N47: Díszlettervező | O47: 5521104 | Q47: Dekoratőr | R47: Díszlettervező | S47: Dekoratőr | T47: 5421101 | U47: Díszlettervező | V47: 5521104 | AB47: Fluidumkitermelő | AC47: 4 0724 01 04 | AE47: Fluidumkitermelő | AF47: 4 0724 01 04 | AH47: Fluidumkitermelő | AI47: 4 0724 01 04 | AK47: Drog- és toxikológiai szaktechnikus | AM47: Demencia gondozó
C48: Innovációs_és_Technológiai_Minisztérium | D48: Tolna_Megyei_SZC | F48: Agrárminisztérium | G48: Kisalföldi_Agrárszakképzési_Centrum | H48: Kisalföldi ASzC Szombathelyi Élelmiszeripari és Földmérési Technikum, Szakképző Iskola és Kollégium | L48: Demencia gondozó | M48: 3576201 | N48: Díszműkovács | O48: 3421101 | Q48: Demencia gondozó | R48: Díszműkovács | S48: Demencia gondozó | T48: 3576201 | U48: Díszműkovács | V48: 3421101 | AB48: Fluidumkitermelő technikus | AC48: 5 0724 01 05 | AE48: Fluidumkitermelő technikus | AF48: 5 0724 01 05 | AH48: Fluidumkitermelő technikus | AI48: 5 0724 01 05 | AK48: Drogerista | AM48: Diabetológiai szakápoló és edukátor
C49: Innovációs_és_Technológiai_Minisztérium | D49: Szerencsi_SZC | F49: Agrárminisztérium | G49: Kisalföldi_Agrárszakképzési_Centrum | H49: Kisalföldi ASzC Vépi Mezőgazdasági Technikum, Szakképző Iskola és Kollégium | L49: Diétás szakács | M49: 3581103 | N49: Dísznövénykertész | O49: 3462201 | Q49: Diétás szakács | R49: Dísznövénykertész | S49: Diétás szakács | T49: 3581103 | U49: Dísznövénykertész | V49: 3462201 | AB49: Fodrász | AC49: 5 1012 21 01 | AE49: Fodrász | AF49: 5 1012 21 01 | AH49: Fodrász | AI49: 5 1012 21 01 | AK49: Égéstermék-elvezető építő, szerelő, karbantartó | AM49: Digitális fogtechnika
C50: Innovációs_és_Technológiai_Minisztérium | D50: Szolnoki_SZC | F50: Agrárminisztérium | G50: Kisalföldi_Agrárszakképzési_Centrum | H50: Kisalföldi ASzC Veres Péter Mezőgazdasági és Élelmiszeripari Technikum, Szakképző Iskola és Kollégium | L50: Díszítő festő | M50: 5521103 | N50: Divat- és stílustervező | O50: 5421102 | Q50: Díszítő festő | R50: Divat- és stílustervező | S50: Díszítő festő | T50: 5521103 | U50: Divat- és stílustervező | V50: 5421102 | AB50: Fogtechnikus | AC50: 5 0911 02 01 | AE50: Fogtechnikus | AF50: 5 0911 02 01 | AH50: Fogtechnikus | AI50: 5 0911 02 01 | AK50: Egészségügyi kártevőirtó | AM50: Digitális montírozó és nyomóforma készítő
C51: Innovációs_és_Technológiai_Minisztérium | D51: Tatabányai_SZC | H51: Közép_magyarországi_Agrárszakképzési_Centrum | L51: Díszlettervező | M51: 5521104 | N51: Drog- és toxikológiai technikus | O51: 5552401 | Q51: Díszlettervező | R51: Drog- és toxikológiai technikus | S51: Díszlettervező | T51: 5521104 | U51: Drog- és toxikológiai technikus | V51: 5552401 | AB51: Fotográfus | AC51: 5 0213 16 08 | AE51: Fotográfus | AF51: 5 0213 16 08 | AH51: Fotográfus | AI51: 5 0213 16 08 | AK51: Egyházzenész I. (Kántor énekvezető) | AM51: Díszítő festő
C52: Innovációs_és_Technológiai_Minisztérium | D52: Váci_SZC | F52: Agrárminisztérium | G52: Közép_magyarországi_Agrárszakképzési_Centrum | H52: Közép-magyarországi ASzC Bercsényi Miklós Élelmiszeripari Technikum, Szakképző Iskola és Kollégium | L52: Díszműkovács | M52: 3421101 | N52: Édesipari termékgyártó | O52: 3454101 | Q52: Díszműkovács | R52: Édesipari termékgyártó | S52: Díszműkovács | T52: 3421101 | U52: Édesipari termékgyártó | V52: 3454101 | AB52: Földmérő, földügyi és térinformatikai technikus | AC52: 5 0810 17 03 | AE52: Földmérő, földügyi és térinformatikai technikus | AF52: 5 0810 17 03 | AH52: Földmérő, földügyi és térinformatikai technikus | AI52: 5 0810 17 03 | AK52: Egyházzenész I. (Kántor gitáros) | AM52: Díszmű- és műemléki bádogos
C53: Innovációs_és_Technológiai_Minisztérium | D53: Vas_Megyei_SZC | F53: Agrárminisztérium | G53: Közép_magyarországi_Agrárszakképzési_Centrum | H53: Közép-magyarországi ASzC Dr. Szepesi László Mezőgazdasági Technikum, Szakképző Iskola és Kollégium | L53: Dísznövénykertész | M53: 3462201 | N53: Egyéb szervezeti mérlegképes könyvelő | O53: 5534403 | Q53: Dísznövénykertész | R53: Egyéb szervezeti mérlegképes könyvelő | S53: Dísznövénykertész | T53: 3462201 | U53: Egyéb szervezeti mérlegképes könyvelő | V53: 5534403 | AB53: Gazda | AC53: 4 0811 17 04 | AE53: Gazda | AF53: 4 0811 17 04 | AH53: Gazda | AI53: 4 0811 17 04 | AK53: Egyházzenész I. (Kántor kórusvezető) | AM53: Díszműkovács
C54: Innovációs_és_Technológiai_Minisztérium | D54: Veszprémi_SZC | F54: Agrárminisztérium | G54: Közép_magyarországi_Agrárszakképzési_Centrum | H54: Közép-magyarországi ASzC Fáy András Mezőgazdasági Technikum, Szakképző Iskola és Kollégium | L54: Divat- és stílustervező | M54: 5421102 | N54: Egyházzenész I. (a szakmairány megjelölésével) | O54: 5521203 | Q54: Divat- és stílustervező | R54: Egyházzenész I. (a szakmairány megjelölésével) | S54: Divat- és stílustervező | T54: 5421102 | U54: Egyházzenész I. (a szakmairány megjelölésével) | V54: 5521203 | AB54: Gépész technikus | AC54: 5 0715 10 05 | AE54: Gépész technikus | AF54: 5 0715 10 05 | AH54: Gépész technikus | AI54: 5 0715 10 05 | AK54: Egyházzenész I. (Kántor orgonista) | AM54: Dísznövénykertész
C55: Innovációs_és_Technológiai_Minisztérium | D55: Zalaegerszegi_SZC | F55: Agrárminisztérium | G55: Közép_magyarországi_Agrárszakképzési_Centrum | H55: Közép-magyarországi ASzC Lipthay Béla Mezőgazdasági és Élelmiszeripari Technikum, Szakképző Iskola és Kollégium | L55: Drog- és toxikológiai technikus | M55: 5552401 | N55: Egyházzenész II. (a szakmairány megjelölésével) | O55: 5421202 | Q55: Drog- és toxikológiai technikus | R55: Egyházzenész II. (a szakmairány megjelölésével) | S55: Drog- és toxikológiai technikus | T55: 5552401 | U55: Egyházzenész II. (a szakmairány megjelölésével) | V55: 5421202 | AB55: Gépgyártás-technológiai technikus | AC55: 5 0715 10 06 | AE55: Gépgyártás-technológiai technikus | AF55: 5 0715 10 06 | AH55: Gépgyártás-technológiai technikus | AI55: 5 0715 10 06 | AK55: Egyházzenész II. (Kántor énekvezető) | AM55: Drog- és toxikológiai szaktechnikus
F56: Agrárminisztérium | G56: Közép_magyarországi_Agrárszakképzési_Centrum | H56: Közép-magyarországi ASzC Magyar Gyula Kertészeti Technikum és Szakképző Iskola | L56: Édesipari termékgyártó | M56: 3454101 | N56: Eladó | O56: 3434101 | Q56: Édesipari termékgyártó | R56: Eladó | S56: Édesipari termékgyártó | T56: 3454101 | U56: Eladó | V56: 3434101 | AB56: Gépi és CNC forgácsoló | AC56: 4 0715 10 07 | AE56: Gépi és CNC forgácsoló | AF56: 4 0715 10 07 | AH56: Gépi és CNC forgácsoló | AI56: 4 0715 10 07 | AK56: Egyházzenész II. (Kántor gitáros) | AM56: Drogerista
F57: Agrárminisztérium | G57: Közép_magyarországi_Agrárszakképzési_Centrum | H57: Közép-magyarországi ASzC Pálóczi Horváth István Mezőgazdasági Technikum, Szakképző Iskola és Kollégium | L57: Egyéb szervezeti mérlegképes könyvelő | M57: 5534403 | N57: Elektromechanikai műszerész | O57: 3452201 | Q57: Egyéb szervezeti mérlegképes könyvelő | R57: Elektromechanikai műszerész | S57: Egyéb szervezeti mérlegképes könyvelő | T57: 5534403 | U57: Elektromechanikai műszerész | V57: 3452201 | AB57: Gépjármű mechatronikus | AC57: 4 0716 19 05 | AE57: Gépjármű mechatronikus | AF57: 4 0716 19 05 | AH57: Gépjármű mechatronikus | AI57: 4 0716 19 05 | AK57: Egyházzenész II. (Kántor kórusvezető) | AM57: Égéstermék-elvezető építő, szerelő, karbantartó
F58: Agrárminisztérium | G58: Közép_magyarországi_Agrárszakképzési_Centrum | H58: Közép-magyarországi ASzC Pesti Barnabás Élelmiszeripari Technikum és Szakképző Iskola | L58: Egyházzenész I. (a szakmairány megjelölésével) | M58: 5521203 | N58: Elektromos gép- és készülékszerelő | O58: 3452202 | Q58: Egyházzenész I. (a szakmairány megjelölésével) | R58: Elektromos gép- és készülékszerelő | S58: Egyházzenész I. (a szakmairány megjelölésével) | T58: 5521203 | U58: Elektromos gép- és készülékszerelő | V58: 3452202 | AB58: Gépjármű-mechatronikai technikus | AC58: 5 0716 19 04 | AE58: Gépjármű-mechatronikai technikus | AF58: 5 0716 19 04 | AH58: Gépjármű-mechatronikai technikus | AI58: 5 0716 19 04 | AK58: Egyházzenész II. (Kántor orgonista) | AM58: Egészségfejlesztési segítő
F59: Agrárminisztérium | G59: Közép_magyarországi_Agrárszakképzési_Centrum | H59: Közép-magyarországi ASzC Soós István Borászati Technikum és Szakképző Iskola | L59: Egyházzenész II. (a szakmairány megjelölésével) | M59: 5421202 | N59: Elektronikai műszerész | O59: 3452203 | Q59: Egyházzenész II. (a szakmairány megjelölésével) | R59: Elektronikai műszerész | S59: Egyházzenész II. (a szakmairány megjelölésével) | T59: 5421202 | U59: Elektronikai műszerész | V59: 3452203 | AB59: Grafikus | AC59: 5 0213 16 09 | AE59: Grafikus | AF59: 5 0213 16 09 | AH59: Grafikus | AI59: 5 0213 16 09 | AK59: Ékszerbecsüs | AM59: Egészségügyi gázmester
F60: Agrárminisztérium | G60: Közép_magyarországi_Agrárszakképzési_Centrum | H60: Közép-magyarországi ASzC Táncsics Mihály Mezőgazdasági Technikum, Szakképző Iskola és Kollégium | L60: Eladó | M60: 3434101 | N60: Elektronikai technikus | O60: 5452302 | Q60: Eladó | R60: Elektronikai technikus | S60: Eladó | T60: 3434101 | U60: Elektronikai technikus | V60: 5452302 | AB60: Gumiipari technikus | AC60: 5 0722 24 02 | AE60: Gumiipari technikus | AF60: 5 0722 24 02 | AH60: Gumiipari technikus | AI60: 5 0722 24 02 | AK60: Elektromos halászgép kezelője | AM60: Egészségügyi kártevőirtó
F61: Agrárminisztérium | G61: Közép_magyarországi_Agrárszakképzési_Centrum | H61: Közép-magyarországi ASzC Toldi Miklós Élelmiszeripari Technikum, Szakképző Iskola és Kollégium | L61: Elektromechanikai műszerész | M61: 3452201 | N61: Elektronikus hozzáférési és magánhálózati rendszerüzemeltető technikus | O61: 5552301 | Q61: Elektromechanikai műszerész | R61: Elektronikus hozzáférési és magánhálózati rendszerüzemeltető technikus | S61: Elektromechanikai műszerész | T61: 3452201 | U61: Elektronikus hozzáférési és magánhálózati rendszerüzemeltető technikus | V61: 5552301 | AB61: Gyakorló ápoló | AC61: 5 0913 03 04 | AE61: Gyakorló ápoló | AF61: 5 0913 03 04 | AH61: Gyakorló ápoló | AI61: 5 0913 03 04 | AK61: Elektronikai gyártósori műszerész | AM61: Egyházzenész I. (Kántor énekvezető)
F62: Agrárminisztérium | G62: Közép_magyarországi_Agrárszakképzési_Centrum | H62: Közép-magyarországi ASzC Varga Márton Kertészeti és Földmérési Technikum és Kollégium | L62: Elektromos gép- és készülékszerelő | M62: 3452202 | N62: Elektronikus műsorközlő és tartalomátviteli rendszerüzemeltető technikus | O62: 5552302 | Q62: Elektromos gép- és készülékszerelő | R62: Elektronikus műsorközlő és tartalomátviteli rendszerüzemeltető technikus | S62: Elektromos gép- és készülékszerelő | T62: 3452202 | U62: Elektronikus műsorközlő és tartalomátviteli rendszerüzemeltető technikus | V62: 5552302 | AB62: Gyártósori gépbeállító | AC62: 4 0715 19 06 | AE62: Gyártósori gépbeállító | AF62: 4 0715 19 06 | AH62: Gyártósori gépbeállító | AI62: 4 0715 19 06 | AK62: Élemiszer-eladó | AM62: Egyházzenész I. (Kántor gitáros)
H63: Körmendi_Rendvédelmi_Technikum | L63: Elektronikai műszerész | M63: 3452203 | N63: Élelmiszeripari analitikus technikus | O63: 5454101 | Q63: Elektronikai műszerész | R63: Élelmiszeripari analitikus technikus | S63: Elektronikai műszerész | T63: 3452203 | U63: Élelmiszeripari analitikus technikus | V63: 5454101 | AB63: Gyermek- és ifjúsági felügyelő | AC63: 4 0922 22 01 | AE63: Gyermek- és ifjúsági felügyelő | AF63: 4 0922 22 01 | AH63: Gyermek- és ifjúsági felügyelő | AI63: 4 0922 22 01 | AK63: Emelőgép-ügyintéző | AM63: Egyházzenész I. (Kántor kórusvezető)
F64: Belügyminisztérium | G64: Körmendi_Rendvédelmi_Technikum | H64: Körmendi Rendvédelmi Technikum | L64: Elektronikai technikus | M64: 5452302 | N64: Élelmiszeripari gépésztechnikus | O64: 5452101 | Q64: Elektronikai technikus | R64: Élelmiszeripari gépésztechnikus | S64: Elektronikai technikus | T64: 5452302 | U64: Élelmiszeripari gépésztechnikus | V64: 5452101 | AB64: Gyógyszer-készítmény-gyártó | AC64: 4 0711 24 03 | AE64: Gyógyszer-készítmény-gyártó | AF64: 4 0711 24 03 | AH64: Gyógyszer-készítmény-gyártó | AI64: 4 0711 24 03 | AK64: Erőművi blokkgépész | AM64: Egyházzenész I. (Kántor orgonista)
H65: Miskolci_Rendvédelmi_Technikum | L65: Elektronikus hozzáférési és magánhálózati rendszerüzemeltető technikus | M65: 5552301 | N65: Élelmiszeripari technikus | O65: 5454102 | Q65: Elektronikus hozzáférési és magánhálózati rendszerüzemeltető technikus | R65: Élelmiszeripari technikus | S65: Elektronikus hozzáférési és magánhálózati rendszerüzemeltető technikus | T65: 5552301 | U65: Élelmiszeripari technikus | V65: 5454102 | AB65: Hajózási technikus | AC65: 5 1041 15 01 | AE65: Hajózási technikus | AF65: 5 1041 15 01 | AH65: Hajózási technikus | AI65: 5 1041 15 01 | AK65: Erőművi gépész | AM65: Egyházzenész II. (Kántor énekvezető)
F66: Belügyminisztérium | G66: Miskolci_Rendvédelmi_Technikum | H66: Miskolci Rendvédelmi Technikum | L66: Elektronikus műsorközlő és tartalomátviteli rendszerüzemeltető technikus | M66: 5552302 | N66: Építő- szállító- és munkagép-szerelő | O66: 3452111 | Q66: Elektronikus műsorközlő és tartalomátviteli rendszerüzemeltető technikus | R66: Építő- szállító- és munkagép-szerelő | S66: Elektronikus műsorközlő és tartalomátviteli rendszerüzemeltető technikus | T66: 5552302 | U66: Építő- szállító- és munkagép-szerelő | V66: 3452111 | AB66: Hangtechnikus | AC66: 5 0211 16 13 | AE66: Hangtechnikus | AF66: 5 0211 16 13 | AH66: Hangtechnikus | AI66: 5 0211 16 13 | AK66: Erőművi gőzturbina gépész | AM66: Egyházzenész II. (Kántor gitáros)
H67: Kratochvil_Károly_Honvéd_Középiskola_és_Kollégium | L67: Élelmiszeripari analitikus technikus | M67: 5454101 | N67: Épület- és szerkezetlakatos | O67: 3458203 | Q67: Élelmiszeripari analitikus technikus | R67: Épület- és szerkezetlakatos | S67: Élelmiszeripari analitikus technikus | T67: 5454101 | U67: Épület- és szerkezetlakatos | V67: 3458203 | AB67: Hegesztő | AC67: 4 0715 10 08 | AE67: Hegesztő | AF67: 4 0715 10 08 | AH67: Hegesztő | AI67: 4 0715 10 08 | AK67: Erőművi kazángépész | AM67: Egyházzenész II. (Kántor kórusvezető)
F68: Honvédelmi_Minisztérium | G68: Kratochvil_Károly_Honvéd_Középiskola_és_Kollégium | H68: Kratochvil Károly Honvéd Középiskola és Kollégium | L68: Élelmiszeripari gépésztechnikus | M68: 5452101 | N68: Épületgépész technikus | O68: 5458201 | Q68: Élelmiszeripari gépésztechnikus | R68: Épületgépész technikus | S68: Élelmiszeripari gépésztechnikus | T68: 5452101 | U68: Épületgépész technikus | V68: 5458201 | AB68: Hentes és húskészítmény-készítő | AC68: 4 0721 05 08 | AE68: Hentes és húskészítmény-készítő | AF68: 4 0721 05 08 | AH68: Hentes és húskészítmény-készítő | AI68: 4 0721 05 08 | AK68: Extrudergép-kezelő | AM68: Egyházzenész II. (Kántor orgonista)
H69: Magyar_Honvédség_Altiszti_Akadémia | L69: Élelmiszeripari technikus | M69: 5454102 | N69: Erdészeti gépésztechnikus | O69: 5452102 | Q69: Élelmiszeripari technikus | R69: Épületszobrász és műköves | S69: Élelmiszeripari technikus | T69: 5454102 | U69: Épületszobrász és műköves | V69: 3458216 | AB69: Hídépítő és -fenntartó technikus | AC69: 5 0732 06 06 | AE69: Hídépítő és -fenntartó technikus | AF69: 5 0732 06 06 | AH69: Hibrid és elektromos gépjármű-mechatronikus | AI69: 4 0716 19 14 | AK69: Ezüstműves | AM69: Ékszerbecsüs
F70: Honvédelmi_Minisztérium | G70: Magyar_Honvédség_Altiszti_Akadémia | H70: Magyar Honvédség Altiszti Akadémia | L70: Építő-szállító- és munkagép-szerelő | M70: 3452111 | N70: Erdészeti szakmunkás | O70: 3462301 | Q70: Építő- szállító- és munkagép-szerelő | R70: Erdészeti gépésztechnikus | S70: Építő- szállító- és munkagép-szerelő | T70: 3452111 | U70: Erdészeti gépésztechnikus | V70: 5452102 | AB70: Honvéd altiszt | AC70: 5 1031 11 04 | AE70: Honvéd altiszt | AF70: 5 1031 11 04 | AH70: Hídépítő és -fenntartó technikus | AI70: 5 0732 06 06 | AK70: Faipari gépkezelő | AM70: Elektromos halászgép kezelője
H71: Bajai_SZC | L71: Épület- és szerkezetlakatos | M71: 3458203 | N71: Erdésztechnikus | O71: 5462302 | Q71: Épület- és szerkezetlakatos | R71: Erdészeti szakmunkás | S71: Épület- és szerkezetlakatos | T71: 3458203 | U71: Erdészeti szakmunkás | V71: 3462301 | AB71: Honvéd kadét | AC71: 5 1031 11 05 | AE71: Honvéd kadét | AF71: 5 1031 11 05 | AH71: Honvéd altiszt | AI71: 5 1031 11 04 | AK71: Fakitermelő | AM71: Elektronikai gyártósori műszerész
F72: Innovációs és Technológiai Minisztérium | G72: Bajai_SZC | H72: Bajai SZC Bányai Júlia Technikum és Szakképző Iskola | L72: Épületgépész technikus | M72: 5458201 | N72: Ergoterapeuta | O72: 5472603 | Q72: Épületgépész technikus | R72: Erdésztechnikus | S72: Épületgépész technikus | T72: 5458201 | U72: Erdésztechnikus | V72: 5462302 | AB72: Hulladék-feldolgozó munkatárs | AC72: 4 0712 14 01 | AE72: Hulladék-feldolgozó munkatárs | AF72: 4 0712 14 01 | AH72: Honvéd kadét | AI72: 5 1031 11 05 | AK72: Falusi turizmus szolgáltató | AM72: Élelmezésvezető
F73: Innovációs és Technológiai Minisztérium | G73: Bajai_SZC | H73: Bajai SZC Jelky András Technikum és Szakképző Iskola | L73: Erdészeti gépésztechnikus | M73: 5452102 | N73: Erjedés- és üdítőitalipari szaktechnikus | O73: 5554103 | Q73: Épületszobrász és műköves | R73: Ergoterapeuta | S73: Épületszobrász és műköves | T73: 3458216 | U73: Ergoterapeuta | V73: 5472603 | AB73: Húsipari technikus | AC73: 5 0721 05 09 | AE73: Húsipari technikus | AF73: 5 0721 05 09 | AH73: Hulladékfeldolgozó munkatárs | AI73: 4 0712 14 01 | AK73: Fegyveres biztonsági őr | AM73: Élelmiszer-eladó
F74: Innovációs és Technológiai Minisztérium | G74: Bajai_SZC | H74: Bajai SZC Kalocsai Dózsa György Technikum és Kollégium | L74: Erdészeti szakmunkás | M74: 3462301 | N74: Erjedés- és üdítőital-ipari termékgyártó | O74: 3454107 | Q74: Erdészeti gépésztechnikus | R74: Erjedés- és üdítőitalipari szaktechnikus | S74: Erdészeti gépésztechnikus | T74: 5452102 | U74: Erjedés- és üdítőitalipari szaktechnikus | V74: 5554103 | AB74: Hűtő- és szellőzésrendszer-szerelő | AC74: 4 0732 07 02 | AE74: Hűtő- és szellőzésrendszer-szerelő | AF74: 4 0732 07 02 | AH74: Húsipari technikus | AI74: 5 0721 05 09 | AK74: Felvonó- és mozgólépcső ellenőr | AM74: Emelőgép-ügyintéző
F75: Innovációs és Technológiai Minisztérium | G75: Bajai_SZC | H75: Bajai SZC Kossuth Zsuzsanna Technikum | L75: Erdésztechnikus | M75: 5462302 | N75: Erősáramú elektrotechnikus | O75: 5452201 | Q75: Erdészeti szakmunkás | R75: Erjedés- és üdítőital-ipari termékgyártó | S75: Erdészeti szakmunkás | T75: 3462301 | U75: Erjedés- és üdítőital-ipari termékgyártó | V75: 3454107 | AB75: Idegen nyelvű ipari és kereskedelmi technikus | AC75: 5 0417 13 01 | AE75: Idegen nyelvű ipari és kereskedelmi technikus | AF75: 5 0417 13 01 | AH75: Hűtő- és szellőzésrendszer-szerelő | AI75: 4 0732 07 02 | AK75: Felvonószerelő | AM75: Erőművi blokkgépész
F76: Innovációs és Technológiai Minisztérium | G76: Bajai_SZC | H76: Bajai SZC Türr István Technikum | L76: Ergoterapeuta | M76: 5472603 | N76: Ezüstműves | O76: 5521107 | Q76: Erdésztechnikus | R76: Erősáramú elektrotechnikus | S76: Erdésztechnikus | T76: 5462302 | U76: Erősáramú elektrotechnikus | V76: 5452201 | AB76: Infokommunikációs hálózatépítő és -üzemeltető technikus | AC76: 5 0612 12 01 | AE76: Infokommunikációs hálózatépítő és -üzemeltető technikus | AF76: 5 0612 12 01 | AH76: Idegen nyelvű ipari és kereskedelmi technikus | AI76: 5 0417 13 01 | AK76: Fertőtlenítő-sterilező | AM76: Erőművi gépész
F77: Innovációs és Technológiai Minisztérium | G77: Bajai_SZC | H77: Bajai SZC Radnóti Miklós Kollégium | L77: Erjedés- és üdítőitalipari szaktechnikus | M77: 5554103 | N77: Faipari technikus | O77: 5454301 | Q77: Ergoterapeuta | R77: Ezüstműves | S77: Ergoterapeuta | T77: 5472603 | U77: Ezüstműves | V77: 5521107 | AB77: Informatikai rendszer- és alkalmazás-üzemeltető technikus | AC77: 5 0612 12 02 | AE77: Informatikai rendszer- és alkalmazás-üzemeltető technikus | AF77: 5 0612 12 02 | AH77: Infokommunikációs hálózatépítő és -üzemeltető technikus | AI77: 5 0612 12 01 | AK77: Festménybecsüs | AM77: Erőművi gőzturbina gépész
H78: Békéscsabai_SZC | L78: Erjedés- és üdítőital-ipari termékgyártó | M78: 3454107 | N78: Fegyverműszerész | O78: 5486301 | Q78: Erjedés- és üdítőitalipari szaktechnikus | R78: Faipari technikus | S78: Erjedés- és üdítőitalipari szaktechnikus | T78: 5554103 | U78: Faipari technikus | V78: 5454301 | AB78: Ipari gépész | AC78: 4 0715 10 09 | AE78: Ipari gépész | AF78: 4 0715 10 09 | AH78: Informatikai rendszer- és alkalmazás-üzemeltető technikus | AI78: 5 0612 12 02 | AK78: Fitness instruktor | AM78: Erőművi kazángépész
F79: Innovációs és Technológiai Minisztérium | G79: Békéscsabai_SZC | H79: Békéscsabai SZC Kemény Gábor Technikum | L79: Erősáramú elektrotechnikus | M79: 5452201 | N79: Fehérnemű-készítő és kötöttáru összeállító | O79: 3454203 | Q79: Erjedés- és üdítőital-ipari termékgyártó | R79: Fegyverműszerész | S79: Erjedés- és üdítőital-ipari termékgyártó | T79: 3454107 | U79: Fegyverműszerész | V79: 5486301 | AB79: Ipari informatikai technikus | AC79: 5 0714 04 05 | AE79: Ipari informatikai technikus | AF79: 5 0714 04 05 | AH79: Ipari gépész | AI79: 4 0715 10 09 | AK79: Fodrász vegyszeres szakember | AM79: Extrudergép-kezelő
F80: Innovációs és Technológiai Minisztérium | G80: Békéscsabai_SZC | H80: Békéscsabai SZC Kós Károly Technikum és Szakképző Iskola | L80: Ezüstműves | M80: 5521107 | N80: Férfiszabó | O80: 3454204 | Q80: Erősáramú elektrotechnikus | R80: Fehérnemű-készítő és kötöttáru összeállító | S80: Erősáramú elektrotechnikus | T80: 5452201 | U80: Fehérnemű-készítő és kötöttáru összeállító | V80: 3454203 | AB80: Ipari szerviztechnikus | AC80: 5 0715 19 07 | AE80: Ipari szerviztechnikus | AF80: 5 0715 19 07 | AH80: Ipari informatikai technikus | AI80: 5 0714 04 05 | AK80: Folyamatszabályozó gépmester | AM80: Ezüstműves
F81: Innovációs és Technológiai Minisztérium | G81: Békéscsabai_SZC | H81: Békéscsabai SZC Nemes Tihamér Technikum és Kollégium | L81: Faipari technikus | M81: 5454301 | N81: Festő | O81: 5421103 | Q81: Ezüstműves | R81: Férfiszabó | S81: Ezüstműves | T81: 5521107 | U81: Férfiszabó | V81: 3454204 | AB81: Járműfényező | AC81: 4 0716 19 08 | AE81: Járműfényező | AF81: 4 0716 19 08 | AH81: Ipari szerviztechnikus | AI81: 5 0715 19 07 | AK81: Formacikk-gyártó | AM81: Faipari gépkezelő
F82: Innovációs és Technológiai Minisztérium | G82: Békéscsabai_SZC | H82: Békéscsabai SZC Széchenyi István Két Tanítási Nyelvű Közgazdasági Technikum és Kollégium | L82: Fegyverműszerész | M82: 5486301 | N82: Festő, mázoló, tapétázó | O82: 3458204 | Q82: Faipari technikus | R82: Festő | S82: Faipari technikus | T82: 5454301 | U82: Festő | V82: 5421103 | AB82: Járműipari karbantartó technikus | AC82: 5 0714 19 09 | AE82: Járműipari karbantartó technikus | AF82: 5 0714 19 09 | AH82: Járműfényező | AI82: 4 0716 19 08 | AK82: Földügyi térinformatikus | AM82: Fakitermelő
F83: Innovációs és Technológiai Minisztérium | G83: Békéscsabai_SZC | H83: Békéscsabai SZC Szent-Györgyi Albert Technikum és Kollégium | L83: Fehérnemű-készítő és kötöttáru összeállító | M83: 3454203 | N83: Finommechanikai műszerész | O83: 3452102 | Q83: Fegyverműszerész | R83: Festő, mázoló, tapétázó | S83: Fegyverműszerész | T83: 5486301 | U83: Festő, mázoló, tapétázó | V83: 3458204 | AB83: Járműkarosszéria-előkészítő, felületbevonó | AC83: 4 0716 19 10 | AE83: Járműkarosszéria-előkészítő, felületbevonó | AF83: 4 0716 19 10 | AH83: Járműipari karbantartó technikus | AI83: 5 0714 19 09 | AK83: Fröccsöntő | AM83: Falusi turizmus szolgáltató
F84: Innovációs és Technológiai Minisztérium | G84: Békéscsabai_SZC | H84: Békéscsabai SZC Trefort Ágoston Technikum, Szakképző Iskola és Kollégium | L84: Férfiszabó | M84: 3454204 | N84: Fitness-wellness instruktor | O84: 5481301 | Q84: Fehérnemű-készítő és kötöttáru összeállító | R84: Finommechanikai műszerész | S84: Fehérnemű-készítő és kötöttáru összeállító | T84: 3454203 | U84: Finommechanikai műszerész | V84: 3452102 | AB84: Karosszérialakatos | AC84: 4 0716 19 11 | AE84: Karosszérialakatos | AF84: 4 0716 19 11 | AH84: Járműkarosszéria-előkészítő, felületbevonó | AI84: 4 0716 19 10 | AK84: Fülilleszték készítő | AM84: Falusi vendéglátó
F85: Innovációs és Technológiai Minisztérium | G85: Békéscsabai_SZC | H85: Békéscsabai SZC Vásárhelyi Pál Technikum és Kollégium | L85: Festő | M85: 5421103 | N85: Fizioterápiás asszisztens | O85: 5472503 | Q85: Férfiszabó | R85: Fitness-wellness instruktor | S85: Férfiszabó | T85: 3454204 | U85: Fitness-wellness instruktor | V85: 5481301 | AB85: Kárpitos | AC85: 4 0723 08 03 | AE85: Kárpitos | AF85: 4 0723 08 03 | AH85: Karosszérialakatos | AI85: 4 0716 19 11 | AK85: Gallyazó-daraboló | AM85: Fegyveres biztonsági őr
F86: Innovációs és Technológiai Minisztérium | G86: Békéscsabai_SZC | H86: Békéscsabai SZC Zwack József Technikum és Szakképző Iskola | L86: Festő, mázoló, tapétázó | M86: 3458204 | N86: Fluidumkitermelő technikus | O86: 5454402 | Q86: Festő | R86: Fizioterápiás asszisztens | S86: Festő | T86: 5421103 | U86: Fizioterápiás asszisztens | V86: 5472503 | AB86: Képesített hajós | AC86: 4 1041 15 02 | AE86: Képesített hajós | AF86: 4 1041 15 02 | AH86: Kárpitos | AI86: 4 0723 08 03 | AK86: Gát- és csatornaőr | AM86: Felnőtt intenzív szakápoló
H87: Berettyóújfalui_SZC | L87: Finommechanikai műszerész | M87: 3452102 | N87: Fodrász | O87: 5481501 | Q87: Festő, mázoló, tapétázó | R87: Fluidumkitermelő technikus | S87: Festő, mázoló, tapétázó | T87: 3458204 | U87: Fluidumkitermelő technikus | V87: 5454402 | AB87: Kerámia- és porcelánkészítő | AC87: 4 0214 16 04 | AE87: Kerámia- és porcelánkészítő | AF87: 4 0214 16 04 | AH87: Képesített hajós | AI87: 4 1041 15 02 | AK87: Gáz- és hőtermelő berendezés - szerelő | AM87: Felvonó- és mozgólépcső ellenőr
F88: Innovációs és Technológiai Minisztérium | G88: Berettyóújfalui_SZC | H88: Berettyóújfalui SZC Arany János Gimnázium és Technikum | L88: Fitness-wellness instruktor | M88: 5481301 | N88: Fogadós | O88: 3481106 | Q88: Finommechanikai műszerész | R88: Fodrász | S88: Finommechanikai műszerész | T88: 3452102 | U88: Fodrász | V88: 5481501 | AB88: Kereskedelmi értékesítő | AC88: 4 0416 13 02 | AE88: Kereskedelmi értékesítő | AF88: 4 0416 13 02 | AH88: Kerámia- és porcelánkészítő | AI88: 4 0214 16 04 | AK88: Gázipari műszaki-biztonsági felülvizsgáló | AM88: Felvonószerelő
F89: Innovációs és Technológiai Minisztérium | G89: Berettyóújfalui_SZC | H89: Berettyóújfalui SZC Bessenyei György Technikum | L89: Fizioterápiás asszisztens | M89: 5472503 | N89: Fogászati asszisztens | O89: 5472002 | Q89: Fitness-wellness instruktor | R89: Fogadós | S89: Fitness-wellness instruktor | T89: 5481301 | U89: Fogadós | V89: 3481106 | AB89: Kereskedő és webáruházi technikus | AC89: 5 0416 13 03 | AE89: Kereskedő és webáruházi technikus | AF89: 5 0416 13 03 | AH89: Kereskedelmi értékesítő | AI89: 4 0416 13 02 | AK89: Gázturbina gépész | AM89: Fertőtlenítő-sterilező
F90: Innovációs és Technológiai Minisztérium | G90: Berettyóújfalui_SZC | H90: Berettyóújfalui SZC Bocskai István Szaképző Iskola és Kollégium | L90: Fluidumkitermelő technikus | M90: 5454402 | N90: Foglalkozás-szervező | O90: 5576201 | Q90: Fizioterápiás asszisztens | R90: Fogászati asszisztens | S90: Fizioterápiás asszisztens | T90: 5472503 | U90: Fogászati asszisztens | V90: 5472002 | AB90: Kertész | AC90: 4 0812 17 05 | AE90: Kertész | AF90: 4 0812 17 05 | AH90: Kereskedő és webáruházi technikus | AI90: 5 0416 13 03 | AK90: Gépi kovács | AM90: Festménybecsüs
F91: Innovációs és Technológiai Minisztérium | G91: Berettyóújfalui_SZC | H91: Berettyóújfalui SZC Bocskai István Szakképző Iskola | L91: Fodrász | M91: 5481501 | N91: Fogtechnikus | O91: 5572401 | Q91: Fluidumkitermelő technikus | R91: Foglalkozás-szervező | S91: Fluidumkitermelő technikus | T91: 5454402 | U91: Foglalkozás-szervező | V91: 5576201 | AB91: Kertésztechnikus | AC91: 5 0812 17 06 | AE91: Kertésztechnikus | AF91: 5 0812 17 06 | AH91: Kertész | AI91: 4 0812 17 05 | AK91: Gerinchálózati rendszerüzemeltető | AM91: Fitness instruktor
F92: Innovációs és Technológiai Minisztérium | G92: Berettyóújfalui_SZC | H92: Berettyóújfalui SZC Csiha Győző Technikum és Szakképző Iskola | L92: Fogadós | M92: 3481106 | N92: Fogtechnikus gyakornok | O92: 5472401 | Q92: Fodrász | R92: Fogtechnikus | S92: Fodrász | T92: 5481501 | U92: Fogtechnikus | V92: 5572401 | AB92: Kéz- és lábápoló technikus | AC92: 5 1012 21 02 | AE92: Kéz- és lábápoló technikus | AF92: 5 1012 21 02 | AH92: Kertésztechnikus | AI92: 5 0812 17 06 | AK92: Gumikeverék-készítő | AM92: Fodrász vegyszeres szakember
F93: Innovációs és Technológiai Minisztérium | G93: Berettyóújfalui_SZC | H93: Berettyóújfalui SZC Eötvös József Szakképző Iskola | L93: Fogászati asszisztens | M93: 5472002 | N93: Formacikk-gyártó | O93: 3454303 | Q93: Fogadós | R93: Fogtechnikus gyakornok | S93: Fogadós | T93: 3481106 | U93: Fogtechnikus gyakornok | V93: 5472401 | AB93: Kisgyermekgondozó, -nevelő | AC93: 5 0922 22 02 | AE93: Kisgyermekgondozó, -nevelő | AF93: 5 0922 22 02 | AH93: Kéz- és lábápoló technikus | AI93: 5 1012 21 02 | AK93: Gyógyászati segédeszköz forgalmazó | AM93: Fogyóelektródás védőgázas ívhegesztő
F94: Innovációs és Technológiai Minisztérium | G94: Berettyóújfalui_SZC | H94: Berettyóújfalui SZC József Attila Szakképző Iskola | L94: Foglalkozás-szervező | M94: 5576201 | N94: Fotográfus és fotótermék-kereskedő | O94: 5481001 | Q94: Fogászati asszisztens | R94: Formacikk-gyártó | S94: Fogászati asszisztens | T94: 5472002 | U94: Formacikk-gyártó | V94: 3454303 | AB94: Kishajóépítő és -karbantartó | AC94: 4 0722 15 03 | AE94: Kishajóépítő és -karbantartó | AF94: 4 0722 15 03 | AH94: Kisgyermekgondozó, -nevelő | AI94: 5 0922 22 02 | AK94: Gyógyszeripari szaktechnikus | AM94: Folyamatszabályozó gépmester
F95: Innovációs és Technológiai Minisztérium | G95: Berettyóújfalui_SZC | H95: Berettyóújfalui SZC Karacs Ferenc Gimnázium, Technikum és Szakképző Iskola | L95: Fogtechnikus | M95: 5572401 | N95: Földmérő, földügyi és térinformatikai technikus | O95: 5458101 | Q95: Foglalkozás-szervező | R95: Fotográfus és fotótermék-kereskedő | S95: Foglalkozás-szervező | T95: 5576201 | U95: Fotográfus és fotótermék-kereskedő | V95: 5481001 | AB95: Kistermelői élelmiszer-előállító | AC95: 4 0721 05 10 | AE95: Kistermelői élelmiszer-előállító | AF95: 4 0721 05 10 | AH95: Kishajóépítő és -karbantartó | AI95: 4 0722 15 03 | AK95: Határrendész és útlevélkezelő rendőrjárőr | AM95: Formacikk-gyártó
F96: Innovációs és Technológiai Minisztérium | G96: Berettyóújfalui_SZC | H96: Berettyóújfalui SZC Közgazdasági Technikum | L96: Fogtechnikus gyakornok | M96: 5472401 | N96: Gáz- és hőtermelő berendezés-szerelő | O96: 3558201 | Q96: Fogtechnikus | R96: Földmérő, földügyi és térinformatikai technikus | S96: Fogtechnikus | T96: 5572401 | U96: Földmérő, földügyi és térinformatikai technikus | V96: 5458101 | AB96: Klinikai laboratóriumi szakasszisztens | AC96: 5 0914 03 05 | AE96: Klinikai laboratóriumi szakasszisztens | AF96: 5 0914 03 05 | AH96: Kistermelői élelmiszer-előállító | AI96: 4 0721 05 10 | AK96: Háztartási gép szerviz-szaktechnikus | AM96: Földügyi térinformatikus
F97: Innovációs és Technológiai Minisztérium | G97: Berettyóújfalui_SZC | H97: Berettyóújfalui SZC Szilágyi Dániel Szakképző Iskola | L97: Formacikk-gyártó | M97: 3454303 | N97: Gazda | O97: 3462101 | Q97: Fogtechnikus gyakornok | R97: Gáz- és hőtermelő berendezés-szerelő | S97: Fogtechnikus gyakornok | T97: 5472401 | U97: Gáz- és hőtermelő berendezés-szerelő | V97: 3558201 | AB97: Kocsivizsgáló technikus | AC97: 5 0716 15 04 | AE97: Kocsivizsgáló technikus | AF97: 5 0716 15 04 | AH97: Klinikai laboratóriumi szakasszisztens | AI97: 5 0914 03 05 | AK97: Hengerész | AM97: Fröccsöntő
F98: Innovációs és Technológiai Minisztérium | G98: Berettyóújfalui_SZC | H98: Berettyóújfalui SZC Veres Péter Gimnázium, Technikum és Szakképző Iskola | L98: Fotográfus és fotótermék-kereskedő | M98: 5481001 | N98: Gazdasági informatikus | O98: 5448102 | Q98: Formacikk-gyártó | R98: Gazda | S98: Formacikk-gyártó | T98: 3454303 | U98: Gazda | V98: 3462101 | AB98: Kohász- és öntésztechnikus | AC98: 5 0715 01 06 | AE98: Kohász- és öntésztechnikus | AF98: 5 0715 01 06 | AH98: Kocsivizsgáló technikus | AI98: 5 0716 15 04 | AK98: Homlokzatépítő és -szerelő | AM98: Fülilleszték készítő
F99: Innovációs és Technológiai Minisztérium | G99: Berettyóújfalui_SZC | H99: Berettyóújfalui SZC Veress Ferenc Szakképző Iskola | L99: Földmérő, földügyi és térinformatikai technikus | M99: 5458101 | N99: Gázipari technikus | O99: 5454403 | Q99: Fotográfus és fotótermék-kereskedő | R99: Gazdasági informatikus | S99: Fotográfus és fotótermék-kereskedő | T99: 5481001 | U99: Gazdasági informatikus | V99: 5448102 | AB99: Kozmetikus technikus | AC99: 5 1012 21 03 | AE99: Kozmetikus technikus | AF99: 5 1012 21 03 | AH99: Kohász- és öntésztechnikus | AI99: 5 0715 01 06 | AK99: Hűtéstechnikai berendezés üzemeltető | AM99: Gallyazó-daraboló
H100: Budapesti_Gazdasági_SZC | L100: Gáz- és hőtermelő berendezés-szerelő | M100: 3558201 | N100: Gépgyártástechnológiai technikus | O100: 5452103 | Q100: Földmérő, földügyi és térinformatikai technikus | R100: Gázipari technikus | S100: Földmérő, földügyi és térinformatikai technikus | T100: 5458101 | U100: Gázipari technikus | V100: 5454403 | AB100: Kőfaragó | AC100: 4 0732 06 07 | AE100: Kőfaragó | AF100: 4 0732 06 07 | AH100: Kozmetikus technikus | AI100: 5 1012 21 03 | AK100: Hűtő-, klíma- és hőszivattyú berendezés-szerelő | AM100: Gát- és csatornaőr
...

Sheet Szakmajegyzék 2021.I.1-
A1: 1. melléklet a 12/2020. (II. 7.) Korm. Rendelethez (2021.I.1. - )
K2: Szakmajegyzék (175 szakma, szakmairányok nélkül)
C4: A | D4: B | E4: C | F4: D | G4: E | H4: C | I4: D | J4: E | L4: F | M4: H | N4: I | O4: J
A5: 1 | B5: Szakma megnevezése | C5: Ágazat | D5: Magyar Képesítési Keret-rendszer szint | E5: Képzési terület | F5: Ágazati besorolás | G5: Szakma-sorszám | H5: Képzési terület | I5: Ágazati besorolás | J5: Szakma-sorszám | K5: Szakma azonosító száma | L5: Szakma megnevezése | M5: Szakmai oktatás időtartama alapfokú iskolai végzettséggel (év) | N5: Szakmai oktatás időtartama érettségi végzettséggel (év) | O5: Digitális Kompetencia Keret-rendszer szint | P5: Szakma-szorzó | Q5: Elvi össznormatíva (Ft/fő) | R5: Elvi normatíva 1 évre (Ft/fő/év)
A6: 2
A7: 168 | B7: =L7 -> Abroncsgyártó | C7: Vegyipar | D7: 4 | E7: 722 | F7: 24 | G7: 1 | H7: =IF(E7<1000,"0"&E7,E7) -> 0722 | I7: =IF(F7<10,"0"&F7,F7) -> 24 | J7: =IF(G7<10,"0"&G7,G7) -> 01 | K7: =D7&" "&H7&" "&I7&" "&J7 -> 4 0722 24 01 | L7: Abroncsgyártó | M7: 3 | N7: 2 | O7: 5 | P7: =IF(D7=4,VLOOKUP(C7,Szakmaszorzók!$B$2:$D$25,2,0),VLOOKUP(C7,Szakmaszorzók!$B$2:$D$25,3,0)) -> 2.42 | Q7: ='Támogatás szorzat tényezői'!$C$2*'Támogatás szorzat tényezői'!$C$3*N7*P7 -> 871200 | R7: ='Támogatás szorzat tényezői'!$C$2*'Támogatás szorzat tényezői'!$C$3*P7 -> 435600
A8: 48 | B8: =L8 -> Ács | C8: Építőipar | D8: 4 | E8: 732 | F8: 6 | G8: 1 | H8: =IF(E8<1000,"0"&E8,E8) -> 0732 | I8: =IF(F8<10,"0"&F8,F8) -> 06 | J8: =IF(G8<10,"0"&G8,G8) -> 01 | K8: =D8&" "&H8&" "&I8&" "&J8 -> 4 0732 06 01 | L8: Ács | M8: 3 | N8: 2 | O8: 4 | P8: =IF(D8=4,VLOOKUP(C8,Szakmaszorzók!$B$2:$D$25,2,0),VLOOKUP(C8,Szakmaszorzók!$B$2:$D$25,3,0)) -> 2.42 | Q8: ='Támogatás szorzat tényezői'!$C$2*'Támogatás szorzat tényezői'!$C$3*N8*P8 -> 871200 | R8: ='Támogatás szorzat tényezői'!$C$2*'Támogatás szorzat tényezői'!$C$3*P8 -> 435600
A9: 13 | B9: =L9 -> Általános ápoló | C9: Egészségügy | D9: 5 | E9: 913 | F9: 3 | G9: 1 | H9: =IF(E9<1000,"0"&E9,E9) -> 0913 | I9: =IF(F9<10,"0"&F9,F9) -> 03 | J9: =IF(G9<10,"0"&G9,G9) -> 01 | K9: =D9&" "&H9&" "&I9&" "&J9 -> 5 0913 03 01 | L9: Általános ápoló | M9: 6 | N9: 3 | O9: 5 | P9: =IF(D9=4,VLOOKUP(C9,Szakmaszorzók!$B$2:$D$25,2,0),VLOOKUP(C9,Szakmaszorzók!$B$2:$D$25,3,0)) -> 2.2 | Q9: ='Támogatás szorzat tényezői'!$C$2*'Támogatás szorzat tényezői'!$C$3*N9*P9 -> 1188000 | R9: ='Támogatás szorzat tényezői'!$C$2*'Támogatás szorzat tényezői'!$C$3*P9 -> 396000
A10: 136 | B10: =L10 -> Alternatív járműhajtási technikus | C10: Specializált gép- és járműgyártás | D10: 5 | E10: 716 | F10: 19 | G10: 1 | H10: =IF(E10<1000,"0"&E10,E10) -> 0716 | I10: =IF(F10<10,"0"&F10,F10) -> 19 | J10: =IF(G10<10,"0"&G10,G10) -> 01 | K10: =D10&" "&H10&" "&I10&" "&J10 -> 5 0716 19 01 | L10: Alternatív járműhajtási technikus | M10: 6 | N10: 3 | O10: 7 | P10: =IF(D10=4,VLOOKUP(C10,Szakmaszorzók!$B$2:$D$25,2,0),VLOOKUP(C10,Szakmaszorzók!$B$2:$D$25,3,0)) -> 2.85 | Q10: ='Támogatás szorzat tényezői'!$C$2*'Támogatás szorzat tényezői'!$C$3*N10*P10 -> 1539000 | R10: ='Támogatás szorzat tényezői'!$C$2*'Támogatás szorzat tényezői'!$C$3*P10 -> 513000
A11: 68 | B11: =L11 -> Asztalos | C11: Fa- és bútoripar | D11: 4 | E11: 722 | F11: 8 | G11: 1 | H11: =IF(E11<1000,"0"&E11,E11) -> 0722 | I11: =IF(F11<10,"0"&F11,F11) -> 08 | J11: =IF(G11<10,"0"&G11,G11) -> 01 | K11: =D11&" "&H11&" "&I11&" "&J11 -> 4 0722 08 01 | L11: Asztalos | M11: 3 | N11: 2 | O11: 4 | P11: =IF(D11=4,VLOOKUP(C11,Szakmaszorzók!$B$2:$D$25,2,0),VLOOKUP(C11,Szakmaszorzók!$B$2:$D$25,3,0)) -> 2.42 | Q11: ='Támogatás szorzat tényezői'!$C$2*'Támogatás szorzat tényezői'!$C$3*N11*P11 -> 871200 | R11: ='Támogatás szorzat tényezői'!$C$2*'Támogatás szorzat tényezői'!$C$3*P11 -> 435600
A12: 137 | B12: =L12 -> Autógyártó | C12: Specializált gép- és járműgyártás | D12: 4 | E12: 716 | F12: 19 | G12: 2 | H12: =IF(E12<1000,"0"&E12,E12) -> 0716 | I12: =IF(F12<10,"0"&F12,F12) -> 19 | J12: =IF(G12<10,"0"&G12,G12) -> 02 | K12: =D12&" "&H12&" "&I12&" "&J12 -> 4 0716 19 02 | L12: Autógyártó | M12: 3 | N12: 2 | O12: 4 | P12: =IF(D12=4,VLOOKUP(C12,Szakmaszorzók!$B$2:$D$25,2,0),VLOOKUP(C12,Szakmaszorzók!$B$2:$D$25,3,0)) -> 2.85 | Q12: ='Támogatás szorzat tényezői'!$C$2*'Támogatás szorzat tényezői'!$C$3*N12*P12 -> 1026000 | R12: ='Támogatás szorzat tényezői'!$C$2*'Támogatás szorzat tényezői'!$C$3*P12 -> 513000
A13: 23 | B13: =L13 -> Automatikai technikus | C13: Elektronika és elektrotechnika | D13: 5 | E13: 714 | F13: 4 | G13: 1 | H13: =IF(E13<1000,"0"&E13,E13) -> 0714 | I13: =IF(F13<10,"0"&F13,F13) -> 04 | J13: =IF(G13<10,"0"&G13,G13) -> 01 | K13: =D13&" "&H13&" "&I13&" "&J13 -> 5 0714 04 01 | L13: Automatikai technikus | M13: 5 | N13: 2 | O13: 7 | P13: =IF(D13=4,VLOOKUP(C13,Szakmaszorzók!$B$2:$D$25,2,0),VLOOKUP(C13,Szakmaszorzók!$B$2:$D$25,3,0)) -> 2.85 | Q13: ='Támogatás szorzat tényezői'!$C$2*'Támogatás szorzat tényezői'!$C$3*N13*P13 -> 1026000 | R13: ='Támogatás szorzat tényezői'!$C$2*'Támogatás szorzat tényezői'!$C$3*P13 -> 513000
A14: 49 | B14: =L14 -> Bádogos | C14: Építőipar | D14: 4 | E14: 732 | F14: 6 | G14: 2 | H14: =IF(E14<1000,"0"&E14,E14) -> 0732 | I14: =IF(F14<10,"0"&F14,F14) -> 06 | J14: =IF(G14<10,"0"&G14,G14) -> 02 | K14: =D14&" "&H14&" "&I14&" "&J14 -> 4 0732 06 02 | L14: Bádogos | M14: 3 | N14: 2 | O14: 4 | P14: =IF(D14=4,VLOOKUP(C14,Szakmaszorzók!$B$2:$D$25,2,0),VLOOKUP(C14,Szakmaszorzók!$B$2:$D$25,3,0)) -> 2.42 | Q14: ='Támogatás szorzat tényezői'!$C$2*'Támogatás szorzat tényezői'!$C$3*N14*P14 -> 871200 | R14: ='Támogatás szorzat tényezői'!$C$2*'Támogatás szorzat tényezői'!$C$3*P14 -> 435600
A15: 3 | B15: =L15 -> Bányaipari technikus | C15: Bányászat és kohászat | D15: 5 | E15: 724 | F15: 1 | G15: 1 | H15: =IF(E15<1000,"0"&E15,E15) -> 0724 | I15: =IF(F15<10,"0"&F15,F15) -> 01 | J15: =IF(G15<10,"0"&G15,G15) -> 01 | K15: =D15&" "&H15&" "&I15&" "&J15 -> 5 0724 01 01 | L15: Bányaipari technikus | M15: 5 | N15: 2 | O15: 6 | P15: =IF(D15=4,VLOOKUP(C15,Szakmaszorzók!$B$2:$D$25,2,0),VLOOKUP(C15,Szakmaszorzók!$B$2:$D$25,3,0)) -> 2.42 | Q15: ='Támogatás szorzat tényezői'!$C$2*'Támogatás szorzat tényezői'!$C$3*N15*P15 -> 871200 | R15: ='Támogatás szorzat tényezői'!$C$2*'Támogatás szorzat tényezői'!$C$3*P15 -> 435600
A16: 4 | B16: =L16 -> Bányaművelő | C16: Bányászat és kohászat | D16: 4 | E16: 724 | F16: 1 | G16: 2 | H16: =IF(E16<1000,"0"&E16,E16) -> 0724 | I16: =IF(F16<10,"0"&F16,F16) -> 01 | J16: =IF(G16<10,"0"&G16,G16) -> 02 | K16: =D16&" "&H16&" "&I16&" "&J16 -> 4 0724 01 02 | L16: Bányaművelő | M16: 3 | N16: 2 | O16: 5 | P16: =IF(D16=4,VLOOKUP(C16,Szakmaszorzók!$B$2:$D$25,2,0),VLOOKUP(C16,Szakmaszorzók!$B$2:$D$25,3,0)) -> 2.42 | Q16: ='Támogatás szorzat tényezői'!$C$2*'Támogatás szorzat tényezői'!$C$3*N16*P16 -> 871200 | R16: ='Támogatás szorzat tényezői'!$C$2*'Támogatás szorzat tényezői'!$C$3*P16 -> 435600
A17: 30 | B17: =L17 -> Bor- és pezsgőgyártó technikus | C17: Élelmiszeripar | D17: 5 | E17: 721 | F17: 5 | G17: 1 | H17: =IF(E17<1000,"0"&E17,E17) -> 0721 | I17: =IF(F17<10,"0"&F17,F17) -> 05 | J17: =IF(G17<10,"0"&G17,G17) -> 01 | K17: =D17&" "&H17&" "&I17&" "&J17 -> 5 0721 05 01 | L17: Bor- és pezsgőgyártó technikus | M17: 5 | N17: 2 | O17: 6 | P17: =IF(D17=4,VLOOKUP(C17,Szakmaszorzók!$B$2:$D$25,2,0),VLOOKUP(C17,Szakmaszorzók!$B$2:$D$25,3,0)) -> 2.2 | Q17: ='Támogatás szorzat tényezői'!$C$2*'Támogatás szorzat tényezői'!$C$3*N17*P17 -> 792000 | R17: ='Támogatás szorzat tényezői'!$C$2*'Támogatás szorzat tényezői'!$C$3*P17 -> 396000
A18: 110 | B18: =L18 -> Bőrtermékkészítő | C18: Kreatív | D18: 4 | E18: 723 | F18: 16 | G18: 1 | H18: =IF(E18<1000,"0"&E18,E18) -> 0723 | I18: =IF(F18<10,"0"&F18,F18) -> 16 | J18: =IF(G18<10,"0"&G18,G18) -> 01 | K18: =D18&" "&H18&" "&I18&" "&J18 -> 4 0723 16 01 | L18: Bőrtermékkészítő | M18: 3 | N18: 2 | O18: 4 | P18: =IF(D18=4,VLOOKUP(C18,Szakmaszorzók!$B$2:$D$25,2,0),VLOOKUP(C18,Szakmaszorzók!$B$2:$D$25,3,0)) -> 2.42 | Q18: ='Támogatás szorzat tényezői'!$C$2*'Támogatás szorzat tényezői'!$C$3*N18*P18 -> 871200 | R18: ='Támogatás szorzat tényezői'!$C$2*'Támogatás szorzat tényezői'!$C$3*P18 -> 435600
... A54: 151 | B54: =L54 -> Fodrász | C54: Szépészet | D54: 5 | E54: 1012 | F54: 21 | G54: 1 | H54: =IF(E54<1000,"0"&E54,E54) -> 1012 | I54: =IF(F54<10,"0"&F54,F54) -> 21 | J54: =IF(G54<10,"0"&G54,G54) -> 01 | K54: =D54&" "&H54&" "&I54&" "&J54 -> 5 1012 21 01 | L54: Fodrász | M54: 5 | N54: 2 | O54: 6 | P54: =IF(D54=4,VLOOKUP(C54,Szakmaszorzók!$B$2:$D$25,2,0),VLOOKUP(C54,Szakmaszorzók!$B$2:$D$25,3,0)) -> 2.42 | Q54: ='Támogatás szorzat tényezői'!$C$2*'Támogatás szorzat tényezői'!$C$3*N54*P54 -> 871200 | R54: ='Támogatás szorzat tényezői'!$C$2*'Támogatás szorzat tényezői'!$C$3*P54 -> 435600
A55: 10 | B55: =L55 -> Fogtechnikus | C55: Egészségügyi technika | D55: 5 | E55: 911 | F55: 2 | G55: 1 | H55: =IF(E55<1000,"0"&E55,E55) -> 0911 | I55: =IF(F55<10,"0"&F55,F55) -> 02 | J55: =IF(G55<10,"0"&G55,G55) -> 01 | K55: =D55&" "&H55&" "&I55&" "&J55 -> 5 0911 02 01 | L55: Fogtechnikus | M55: - | N55: 3 | O55: 7 | P55: =IF(D55=4,VLOOKUP(C55,Szakmaszorzók!$B$2:$D$25,2,0),VLOOKUP(C55,Szakmaszorzók!$B$2:$D$25,3,0)) -> 2.85 | Q55: ='Támogatás szorzat tényezői'!$C$2*'Támogatás szorzat tényezői'!$C$3*N55*P55 -> 1539000 | R55: ='Támogatás szorzat tényezői'!$C$2*'Támogatás szorzat tényezői'!$C$3*P55 -> 513000
A56: 117 | B56: =L56 -> Fotográfus | C56: Kreatív | D56: 5 | E56: 213 | F56: 16 | G56: 8 | H56: =IF(E56<1000,"0"&E56,E56) -> 0213 | I56: =IF(F56<10,"0"&F56,F56) -> 16 | J56: =IF(G56<10,"0"&G56,G56) -> 08 | K56: =D56&" "&H56&" "&I56&" "&J56 -> 5 0213 16 08 | L56: Fotográfus | M56: 5 | N56: 2 | O56: 6 | P56: =IF(D56=4,VLOOKUP(C56,Szakmaszorzók!$B$2:$D$25,2,0),VLOOKUP(C56,Szakmaszorzók!$B$2:$D$25,3,0)) -> 2.42 | Q56: ='Támogatás szorzat tényezői'!$C$2*'Támogatás szorzat tényezői'!$C$3*N56*P56 -> 871200 | R56: ='Támogatás szorzat tényezői'!$C$2*'Támogatás szorzat tényezői'!$C$3*P56 -> 435600
A57: 126 | B57: =L57 -> Földmérő, földügyi és térinformatikai technikus | C57: Mezőgazdaság és erdészet | D57: 5 | E57: 810 | F57: 17 | G57: 3 | H57: =IF(E57<1000,"0"&E57,E57) -> 0810 | I57: =IF(F57<10,"0"&F57,F57) -> 17 | J57: =IF(G57<10,"0"&G57,G57) -> 03 | K57: =D57&" "&H57&" "&I57&" "&J57 -> 5 0810 17 03 | L57: Földmérő, földügyi és térinformatikai technikus | M57: 5 | N57: 2 | O57: 5 | P57: =IF(D57=4,VLOOKUP(C57,Szakmaszorzók!$B$2:$D$25,2,0),VLOOKUP(C57,Szakmaszorzók!$B$2:$D$25,3,0)) -> 2.85 | Q57: ='Támogatás szorzat tényezői'!$C$2*'Támogatás szorzat tényezői'!$C$3*N57*P57 -> 1026000 | R57: ='Támogatás szorzat tényezői'!$C$2*'Támogatás szorzat tényezői'!$C$3*P57 -> 513000
A58: 127 | B58: =L58 -> Gazda | C58: Mezőgazdaság és erdészet | D58: 4 | E58: 811 | F58: 17 | G58: 4 | H58: =IF(E58<1000,"0"&E58,E58) -> 0811 | I58: =IF(F58<10,"0"&F58,F58) -> 17 | J58: =IF(G58<10,"0"&G58,G58) -> 04 | K58: =D58&" "&H58&" "&I58&" "&J58 -> 4 0811 17 04 | L58: Gazda | M58: 3 | N58: 2 | O58: 4 | P58: =IF(D58=4,VLOOKUP(C58,Szakmaszorzók!$B$2:$D$25,2,0),VLOOKUP(C58,Szakmaszorzók!$B$2:$D$25,3,0)) -> 2.42 | Q58: ='Támogatás szorzat tényezői'!$C$2*'Támogatás szorzat tényezői'!$C$3*N58*P58 -> 871200 | R58: ='Támogatás szorzat tényezői'!$C$2*'Támogatás szorzat tényezői'!$C$3*P58 -> 435600
A59: 77 | B59: =L59 -> Gépész technikus | C59: Gépészet | D59: 5 | E59: 715 | F59: 10 | G59: 5 | H59: =IF(E59<1000,"0"&E59,E59) -> 0715 | I59: =IF(F59<10,"0"&F59,F59) -> 10 | J59: =IF(G59<10,"0"&G59,G59) -> 05 | K59: =D59&" "&H59&" "&I59&" "&J59 -> 5 0715 10 05 | L59: Gépész technikus | M59: 5 | N59: 2 | O59: 6 | P59: =IF(D59=4,VLOOKUP(C59,Szakmaszorzók!$B$2:$D$25,2,0),VLOOKUP(C59,Szakmaszorzók!$B$2:$D$25,3,0)) -> 2.85 | Q59: ='Támogatás szorzat tényezői'!$C$2*'Támogatás szorzat tényezői'!$C$3*N59*P59 -> 1026000 | R59: ='Támogatás szorzat tényezői'!$C$2*'Támogatás szorzat tényezői'!$C$3*P59 -> 513000
A60: 78 | B60: =L60 -> Gépgyártás-technológiai technikus | C60: Gépészet | D60: 5 | E60: 715 | F60: 10 | G60: 6 | H60: =IF(E60<1000,"0"&E60,E60) -> 0715 | I60: =IF(F60<10,"0"&F60,F60) -> 10 | J60: =IF(G60<10,"0"&G60,G60) -> 06 | K60: =D60&" "&H60&" "&I60&" "&J60 -> 5 0715 10 06 | L60: Gépgyártás-technológiai technikus | M60: 5 | N60: 2 | O60: 6 | P60: =IF(D60=4,VLOOKUP(C60,Szakmaszorzók!$B$2:$D$25,2,0),VLOOKUP(C60,Szakmaszorzók!$B$2:$D$25,3,0)) -> 2.85 | Q60: ='Támogatás szorzat tényezői'!$C$2*'Támogatás szorzat tényezői'!$C$3*N60*P60 -> 1026000 | R60: ='Támogatás szorzat tényezői'!$C$2*'Támogatás szorzat tényezői'!$C$3*P60 -> 513000
A61: 79 | B61: =L61 -> Gépi és CNC forgácsoló | C61: Gépészet | D61: 4 | E61: 715 | F61: 10 | G61: 7 | H61: =IF(E61<1000,"0"&E61,E61) -> 0715 | I61: =IF(F61<10,"0"&F61,F61) -> 10 | J61: =IF(G61<10,"0"&G61,G61) -> 07 | K61: =D61&" "&H61&" "&I61&" "&J61 -> 4 0715 10 07 | L61: Gépi és CNC forgácsoló | M61: 3 | N61: 2 | O61: 5 | P61: =IF(D61=4,VLOOKUP(C61,Szakmaszorzók!$B$2:$D$25,2,0),VLOOKUP(C61,Szakmaszorzók!$B$2:$D$25,3,0)) -> 2.42 | Q61: ='Támogatás szorzat tényezői'!$C$2*'Támogatás szorzat tényezői'!$C$3*N61*P61 -> 871200 | R61: ='Támogatás szorzat tényezői'!$C$2*'Támogatás szorzat tényezői'!$C$3*P61 -> 435600
A62: 140 | B62: =L62 -> Gépjármű mechatronikus | C62: Specializált gép- és járműgyártás | D62: 4 | E62: 716 | F62: 19 | G62: 5 | H62: =IF(E62<1000,"0"&E62,E62) -> 0716 | I62: =IF(F62<10,"0"&F62,F62) -> 19 | J62: =IF(G62<10,"0"&G62,G62) -> 05 | K62: =D62&" "&H62&" "&I62&" "&J62 -> 4 0716 19 05 | L62: Gépjármű mechatronikus | M62: 3 | N62: 2 | O62: 5 | P62: =IF(D62=4,VLOOKUP(C62,Szakmaszorzók!$B$2:$D$25,2,0),VLOOKUP(C62,Szakmaszorzók!$B$2:$D$25,3,0)) -> 2.85 | Q62: ='Támogatás szorzat tényezői'!$C$2*'Támogatás szorzat tényezői'!$C$3*N62*P62 -> 1026000 | R62: ='Támogatás szorzat tényezői'!$C$2*'Támogatás szorzat tényezői'!$C$3*P62 -> 513000
A63: 139 | B63: =L63 -> Gépjármű-mechatronikai technikus | C63: Specializált gép- és járműgyártás | D63: 5 | E63: 716 | F63: 19 | G63: 4 | H63: =IF(E63<1000,"0"&E63,E63) -> 0716 | I63: =IF(F63<10,"0"&F63,F63) -> 19 | J63: =IF(G63<10,"0"&G63,G63) -> 04 | K63: =D63&" "&H63&" "&I63&" "&J63 -> 5 0716 19 04 | L63: Gépjármű-mechatronikai technikus | M63: 5 | N63: 2 | O63: 6 | P63: =IF(D63=4,VLOOKUP(C63,Szakmaszorzók!$B$2:$D$25,2,0),VLOOKUP(C63,Szakmaszorzók!$B$2:$D$25,3,0)) -> 2.85 | Q63: ='Támogatás szorzat tényezői'!$C$2*'Támogatás szorzat tényezői'!$C$3*N63*P63 -> 1026000 | R63: ='Támogatás szorzat tényezői'!$C$2*'Támogatás szorzat tényezői'!$C$3*P63 -> 513000
A64: 118 | B64: =L64 -> Grafikus | C64: Kreatív | D64: 5 | E64: 213 | F64: 16 | G64: 9 | H64: =IF(E64<1000,"0"&E64,E64) -> 0213 | I64: =IF(F64<10,"0"&F64,F64) -> 16 | J64: =IF(G64<10,"0"&G64,G64) -> 09 | K64: =D64&" "&H64&" "&I64&" "&J64 -> 5 0213 16 09 | L64: Grafikus | M64: 5 | N64: 2 | O64: 5 | P64: =IF(D64=4,VLOOKUP(C64,Szakmaszorzók!$B$2:$D$25,2,0),VLOOKUP(C64,Szakmaszorzók!$B$2:$D$25,3,0)) -> 2.42 | Q64: ='Támogatás szorzat tényezői'!$C$2*'Támogatás szorzat tényezői'!$C$3*N64*P64 -> 871200 | R64: ='Támogatás szorzat tényezői'!$C$2*'Támogatás szorzat tényezői'!$C$3*P64 -> 435600
A65: 169 | B65: =L65 -> Gumiipari technikus | C65: Vegyipar | D65: 5 | E65: 722 | F65: 24 | G65: 2 | H65: =IF(E65<1000,"0"&E65,E65) -> 0722 | I65: =IF(F65<10,"0"&F65,F65) -> 24 | J65: =IF(G65<10,"0"&G65,G65) -> 02 | K65: =D65&" "&H65&" "&I65&" "&J65 -> 5 0722 24 02 | L65: Gumiipari technikus | M65: 5 | N65: 2 | O65: 6 | P65: =IF(D65=4,VLOOKUP(C65,Szakmaszorzók!$B$2:$D$25,2,0),VLOOKUP(C65,Szakmaszorzók!$B$2:$D$25,3,0)) -> 2.85 | Q65: ='Támogatás szorzat tényezői'!$C$2*'Támogatás szorzat tényezői'!$C$3*N65*P65 -> 1026000 | R65: ='Támogatás szorzat tényezői'!$C$2*'Támogatás szorzat tényezői'!$C$3*P65 -> 513000
A66: 16 | B66: =L66 -> Gyakorló ápoló | C66: Egészségügy | D66: 5 | E66: 913 | F66: 3 | G66: 4 | H66: =IF(E66<1000,"0"&E66,E66) -> 0913 | I66: =IF(F66<10,"0"&F66,F66) -> 03 | J66: =IF(G66<10,"0"&G66,G66) -> 04 | K66: =D66&" "&H66&" "&I66&" "&J66 -> 5 0913 03 04 | L66: Gyakorló ápoló | M66: 5 | N66: 2 | O66: 5 | P66: =IF(D66=4,VLOOKUP(C66,Szakmaszorzók!$B$2:$D$25,2,0),VLOOKUP(C66,Szakmaszorzók!$B$2:$D$25,3,0)) -> 2.2 | Q66: ='Támogatás szorzat tényezői'!$C$2*'Támogatás szorzat tényezői'!$C$3*N66*P66 -> 792000 | R66: ='Támogatás szorzat tényezői'!$C$2*'Támogatás szorzat tényezői'!$C$3*P66 -> 396000
A67: 141 | B67: =L67 -> Gyártósori gépbeállító | C67: Specializált gép- és járműgyártás | D67: 4 | E67: 715 | F67: 19 | G67: 6 | H67: =IF(E67<1000,"0"&E67,E67) -> 0715 | I67: =IF(F67<10,"0"&F67,F67) -> 19 | J67: =IF(G67<10,"0"&G67,G67) -> 06 | K67: =D67&" "&H67&" "&I67&" "&J67 -> 4 0715 19 06 | L67: Gyártósori gépbeállító | M67: 3 | N67: 2 | O67: 4 | P67: =IF(D67=4,VLOOKUP(C67,Szakmaszorzók!$B$2:$D$25,2,0),VLOOKUP(C67,Szakmaszorzók!$B$2:$D$25,3,0)) -> 2.85 | Q67: ='Támogatás szorzat tényezői'!$C$2*'Támogatás szorzat tényezői'!$C$3*N67*P67 -> 1026000 | R67: ='Támogatás szorzat tényezői'!$C$2*'Támogatás szorzat tényezői'!$C$3*P67 -> 513000
... A74: 53 | B74: =L74 -> Hídépítő és -fenntartó technikus | C74: Építőipar | D74: 5 | E74: 732 | F74: 6 | G74: 6 | H74: =IF(E74<1000,"0"&E74,E74) -> 0732 | I74: =IF(F74<10,"0"&F74,F74) -> 06 | J74: =IF(G74<10,"0"&G74,G74) -> 06 | K74: =D74&" "&H74&" "&I74&" "&J74 -> 5 0732 06 06 | L74: Hídépítő és -fenntartó technikus | M74: 5 | N74: 2 | O74: 5 | P74: =IF(D74=4,VLOOKUP(C74,Szakmaszorzók!$B$2:$D$25,2,0),VLOOKUP(C74,Szakmaszorzók!$B$2:$D$25,3,0)) -> 2.42 | Q74: ='Támogatás szorzat tényezői'!$C$2*'Támogatás szorzat tényezői'!$C$3*N74*P74 -> 871200 | R74: ='Támogatás szorzat tényezői'!$C$2*'Támogatás szorzat tényezői'!$C$3*P74 -> 435600
A75: 89 | B75: =L75 -> Honvéd altiszt | C75: Honvédelem | D75: 5 | E75: 1031 | F75: 11 | G75: 4 | H75: =IF(E75<1000,"0"&E75,E75) -> 1031 | I75: =IF(F75<10,"0"&F75,F75) -> 11 | J75: =IF(G75<10,"0"&G75,G75) -> 04 | K75: =D75&" "&H75&" "&I75&" "&J75 -> 5 1031 11 04 | L75: Honvéd altiszt | M75: - | N75: 2 | O75: 6 | P75: =IF(D75=4,VLOOKUP(C75,Szakmaszorzók!$B$2:$D$25,2,0),VLOOKUP(C75,Szakmaszorzók!$B$2:$D$25,3,0)) -> 2.85 | Q75: ='Támogatás szorzat tényezői'!$C$2*'Támogatás szorzat tényezői'!$C$3*N75*P75 -> 1026000 | R75: ='Támogatás szorzat tényezői'!$C$2*'Támogatás szorzat tényezői'!$C$3*P75 -> 513000
A76: 90 | B76: =L76 -> Honvéd kadét | C76: Honvédelem | D76: 5 | E76: 1031 | F76: 11 | G76: 5 | H76: =IF(E76<1000,"0"&E76,E76) -> 1031 | I76: =IF(F76<10,"0"&F76,F76) -> 11 | J76: =IF(G76<10,"0"&G76,G76) -> 05 | K76: =D76&" "&H76&" "&I76&" "&J76 -> 5 1031 11 05 | L76: Honvéd kadét | M76: 5 | N76: 2 | O76: 7 | P76: =IF(D76=4,VLOOKUP(C76,Szakmaszorzók!$B$2:$D$25,2,0),VLOOKUP(C76,Szakmaszorzók!$B$2:$D$25,3,0)) -> 2.85 | Q76: ='Támogatás szorzat tényezői'!$C$2*'Támogatás szorzat tényezői'!$C$3*N76*P76 -> 1026000 | R76: ='Támogatás szorzat tényezői'!$C$2*'Támogatás szorzat tényezői'!$C$3*P76 -> 513000
A77: 98 | B77: =L77 -> Hulladék-feldolgozó munkatárs | C77: Környezetvédelem és vízügy | D77: 4 | E77: 712 | F77: 14 | G77: 1 | H77: =IF(E77<1000,"0"&E77,E77) -> 0712 | I77: =IF(F77<10,"0"&F77,F77) -> 14 | J77: =IF(G77<10,"0"&G77,G77) -> 01 | K77: =D77&" "&H77&" "&I77&" "&J77 -> 4 0712 14 01 | L77: Hulladék-feldolgozó munkatárs | M77: 3 | N77: 2 | O77: 4 | P77: =IF(D77=4,VLOOKUP(C77,Szakmaszorzók!$B$2:$D$25,2,0),VLOOKUP(C77,Szakmaszorzók!$B$2:$D$25,3,0)) -> 2.42 | Q77: ='Támogatás szorzat tényezői'!$C$2*'Támogatás szorzat tényezői'!$C$3*N77*P77 -> 871200 | R77: ='Támogatás szorzat tényezői'!$C$2*'Támogatás szorzat tényezői'!$C$3*P77 -> 435600
A78: 38 | B78: =L78 -> Húsipari technikus | C78: Élelmiszeripar | D78: 5 | E78: 721 | F78: 5 | G78: 9 | H78: =IF(E78<1000,"0"&E78,E78) -> 0721 | I78: =IF(F78<10,"0"&F78,F78) -> 05 | J78: =IF(G78<10,"0"&G78,G78) -> 09 | K78: =D78&" "&H78&" "&I78&" "&J78 -> 5 0721 05 09 | L78: Húsipari technikus | M78: 5 | N78: 2 | O78: 6 | P78: =IF(D78=4,VLOOKUP(C78,Szakmaszorzók!$B$2:$D$25,2,0),VLOOKUP(C78,Szakmaszorzók!$B$2:$D$25,3,0)) -> 2.2 | Q78: ='Támogatás szorzat tényezői'!$C$2*'Támogatás szorzat tényezői'!$C$3*N78*P78 -> 792000 | R78: ='Támogatás szorzat tényezői'!$C$2*'Támogatás szorzat tényezői'!$C$3*P78 -> 396000
A79: 65 | B79: =L79 -> Hűtő- és szellőzésrendszer-szerelő | C79: Épületgépészet | D79: 4 | E79: 732 | F79: 7 | G79: 2 | H79: =IF(E79<1000,"0"&E79,E79) -> 0732 | I79: =IF(F79<10,"0"&F79,F79) -> 07 | J79: =IF(G79<10,"0"&G79,G79) -> 02 | K79: =D79&" "&H79&" "&I79&" "&J79 -> 4 0732 07 02 | L79: Hűtő- és szellőzésrendszer-szerelő | M79: 3 | N79: 2 | O79: 5 | P79: =IF(D79=4,VLOOKUP(C79,Szakmaszorzók!$B$2:$D$25,2,0),VLOOKUP(C79,Szakmaszorzók!$B$2:$D$25,3,0)) -> 2.42 | Q79: ='Támogatás szorzat tényezői'!$C$2*'Támogatás szorzat tényezői'!$C$3*N79*P79 -> 871200 | R79: ='Támogatás szorzat tényezői'!$C$2*'Támogatás szorzat tényezői'!$C$3*P79 -> 435600
A80: 95 | B80: =L80 -> Idegen nyelvű ipari és kereskedelmi technikus | C80: Kereskedelem | D80: 5 | E80: 417 | F80: 13 | G80: 1 | H80: =IF(E80<1000,"0"&E80,E80) -> 0417 | I80: =IF(F80<10,"0"&F80,F80) -> 13 | J80: =IF(G80<10,"0"&G80,G80) -> 01 | K80: =D80&" "&H80&" "&I80&" "&J80 -> 5 0417 13 01 | L80: Idegen nyelvű ipari és kereskedelmi technikus | M80: 5 | N80: 2 | O80: 6 | P80: =IF(D80=4,VLOOKUP(C80,Szakmaszorzók!$B$2:$D$25,2,0),VLOOKUP(C80,Szakmaszorzók!$B$2:$D$25,3,0)) -> 2.2 | Q80: ='Támogatás szorzat tényezői'!$C$2*'Támogatás szorzat tényezői'!$C$3*N80*P80 -> 792000 | R80: ='Támogatás szorzat tényezői'!$C$2*'Támogatás szorzat tényezői'!$C$3*P80 -> 396000
A81: 91 | B81: =L81 -> Infokommunikációs hálózatépítő és -üzemeltető technikus | C81: Informatika és távközlés | D81: 5 | E81: 612 | F81: 12 | G81: 1 | H81: =IF(E81<1000,"0"&E81,E81) -> 0612 | I81: =IF(F81<10,"0"&F81,F81) -> 12 | J81: =IF(G81<10,"0"&G81,G81) -> 01 | K81: =D81&" "&H81&" "&I81&" "&J81 -> 5 0612 12 01 | L81: Infokommunikációs hálózatépítő és -üzemeltető technikus | M81: 5 | N81: 2 | O81: 8 | P81: =IF(D81=4,VLOOKUP(C81,Szakmaszorzók!$B$2:$D$25,2,0),VLOOKUP(C81,Szakmaszorzók!$B$2:$D$25,3,0)) -> 2.2 | Q81: ='Támogatás szorzat tényezői'!$C$2*'Támogatás szorzat tényezői'!$C$3*N81*P81 -> 792000 | R81: ='Támogatás szorzat tényezői'!$C$2*'Támogatás szorzat tényezői'!$C$3*P81 -> 396000
A82: 92 | B82: =L82 -> Informatikai rendszer- és alkalmazás-üzemeltető technikus | C82: Informatika és távközlés | D82: 5 | E82: 612 | F82: 12 | G82: 2 | H82: =IF(E82<1000,"0"&E82,E82) -> 0612 | I82: =IF(F82<10,"0"&F82,F82) -> 12 | J82: =IF(G82<10,"0"&G82,G82) -> 02 | K82: =D82&" "&H82&" "&I82&" "&J82 -> 5 0612 12 02 | L82: Informatikai rendszer- és alkalmazás-üzemeltető technikus | M82: 5 | N82: 2 | O82: 8 | P82: =IF(D82=4,VLOOKUP(C82,Szakmaszorzók!$B$2:$D$25,2,0),VLOOKUP(C82,Szakmaszorzók!$B$2:$D$25,3,0)) -> 2.2 | Q82: ='Támogatás szorzat tényezői'!$C$2*'Támogatás szorzat tényezői'!$C$3*N82*P82 -> 792000 | R82: ='Támogatás szorzat tényezői'!$C$2*'Támogatás szorzat tényezői'!$C$3*P82 -> 396000
A83: 81 | B83: =L83 -> Ipari gépész | C83: Gépészet | D83: 4 | E83: 715 | F83: 10 | G83: 9 | H83: =IF(E83<1000,"0"&E83,E83) -> 0715 | I83: =IF(F83<10,"0"&F83,F83) -> 10 | J83: =IF(G83<10,"0"&G83,G83) -> 09 | K83: =D83&" "&H83&" "&I83&" "&J83 -> 4 0715 10 09 | L83: Ipari gépész | M83: 3 | N83: 2 | O83: 5 | P83: =IF(D83=4,VLOOKUP(C83,Szakmaszorzók!$B$2:$D$25,2,0),VLOOKUP(C83,Szakmaszorzók!$B$2:$D$25,3,0)) -> 2.42 | Q83: ='Támogatás szorzat tényezői'!$C$2*'Támogatás szorzat tényezői'!$C$3*N83*P83 -> 871200 | R83: ='Támogatás szorzat tényezői'!$C$2*'Támogatás szorzat tényezői'!$C$3*P83 -> 435600
A84: 27 | B84: =L84 -> Ipari informatikai technikus | C84: Elektronika és elektrotechnika | D84: 5 | E84: 714 | F84: 4 | G84: 5 | H84: =IF(E84<1000,"0"&E84,E84) -> 0714 | I84: =IF(F84<10,"0"&F84,F84) -> 04 | J84: =IF(G84<10,"0"&G84,G84) -> 05 | K84: =D84&" "&H84&" "&I84&" "&J84 -> 5 0714 04 05 | L84: Ipari informatikai technikus | M84: 5 | N84: 2 | O84: 7 | P84: =IF(D84=4,VLOOKUP(C84,Szakmaszorzók!$B$2:$D$25,2,0),VLOOKUP(C84,Szakmaszorzók!$B$2:$D$25,3,0)) -> 2.85 | Q84: ='Támogatás szorzat tényezői'!$C$2*'Támogatás szorzat tényezői'!$C$3*N84*P84 -> 1026000 | R84: ='Támogatás szorzat tényezői'!$C$2*'Támogatás szorzat tényezői'!$C$3*P84 -> 513000
A85: 142 | B85: =L85 -> Ipari szerviztechnikus | C85: Specializált gép- és járműgyártás | D85: 5 | E85: 715 | F85: 19 | G85: 7 | H85: =IF(E85<1000,"0"&E85,E85) -> 0715 | I85: =IF(F85<10,"0"&F85,F85) -> 19 | J85: =IF(G85<10,"0"&G85,G85) -> 07 | K85: =D85&" "&H85&" "&I85&" "&J85 -> 5 0715 19 07 | L85: Ipari szerviztechnikus | M85: 5 | N85: 2 | O85: 7 | P85: =IF(D85=4,VLOOKUP(C85,Szakmaszorzók!$B$2:$D$25,2,0),VLOOKUP(C85,Szakmaszorzók!$B$2:$D$25,3,0)) -> 2.85 | Q85: ='Támogatás szorzat tényezői'!$C$2*'Támogatás szorzat tényezői'!$C$3*N85*P85 -> 1026000 | R85: ='Támogatás szorzat tényezői'!$C$2*'Támogatás szorzat tényezői'!$C$3*P85 -> 513000
A86: 143 | B86: =L86 -> Járműfényező | C86: Specializált gép- és járműgyártás | D86: 4 | E86: 716 | F86: 19 | G86: 8 | H86: =IF(E86<1000,"0"&E86,E86) -> 0716 | I86: =IF(F86<10,"0"&F86,F86) -> 19 | J86: =IF(G86<10,"0"&G86,G86) -> 08 | K86: =D86&" "&H86&" "&I86&" "&J86 -> 4 0716 19 08 | L86: Járműfényező | M86: 3 | N86: 2 | O86: 4 | P86: =IF(D86=4,VLOOKUP(C86,Szakmaszorzók!$B$2:$D$25,2,0),VLOOKUP(C86,Szakmaszorzók!$B$2:$D$25,3,0)) -> 2.85 | Q86: ='Támogatás szorzat tényezői'!$C$2*'Támogatás szorzat tényezői'!$C$3*N86*P86 -> 1026000 | R86: ='Támogatás szorzat tényezői'!$C$2*'Támogatás szorzat tényezői'!$C$3*P86 -> 513000
A87: 144 | B87: =L87 -> Járműipari karbantartó technikus | C87: Specializált gép- és járműgyártás | D87: 5 | E87: 714 | F87: 19 | G87: 9 | H87: =IF(E87<1000,"0"&E87,E87) -> 0714 | I87: =IF(F87<10,"0"&F87,F87) -> 19 | J87: =IF(G87<10,"0"&G87,G87) -> 09 | K87: =D87&" "&H87&" "&I87&" "&J87 -> 5 0714 19 09 | L87: Járműipari karbantartó technikus | M87: 6 | N87: 3 | O87: 7 | P87: =IF(D87=4,VLOOKUP(C87,Szakmaszorzók!$B$2:$D$25,2,0),VLOOKUP(C87,Szakmaszorzók!$B$2:$D$25,3,0)) -> 2.85 | Q87: ='Támogatás szorzat tényezői'!$C$2*'Támogatás szorzat tényezői'!$C$3*N87*P87 -> 1539000 | R87: ='Támogatás szorzat tényezői'!$C$2*'Támogatás szorzat tényezői'!$C$3*P87 -> 513000
... A119: 57 | B119: =L119 -> Mélyépítő technikus | C119: Építőipar | D119: 5 | E119: 732 | F119: 6 | G119: 10 | H119: =IF(E119<1000,"0"&E119,E119) -> 0732 | I119: =IF(F119<10,"0"&F119,F119) -> 06 | J119: =IF(G119<10,"0"&G119,G119) -> 10 | K119: =D119&" "&H119&" "&I119&" "&J119 -> 5 0732 06 10 | L119: Mélyépítő technikus | M119: 5 | N119: 2 | O119: 5 | P119: =IF(D119=4,VLOOKUP(C119,Szakmaszorzók!$B$2:$D$25,2,0),VLOOKUP(C119,Szakmaszorzók!$B$2:$D$25,3,0)) -> 2.42 | Q119: ='Támogatás szorzat tényezői'!$C$2*'Támogatás szorzat tényezői'!$C$3*N119*P119 -> 871200 | R119: ='Támogatás szorzat tényezői'!$C$2*'Támogatás szorzat tényezői'!$C$3*P119 -> 435600
A120: 22a | B120: =L120 -> Mentőápoló | C120: Egészségügy | D120: 5 | E120: 913 | F120: 3 | G120: 11 | H120: =IF(E120<1000,"0"&E120,E120) -> 0913 | I120: =IF(F120<10,"0"&F120,F120) -> 03 | J120: =IF(G120<10,"0"&G120,G120) -> 11 | K120: =D120&" "&H120&" "&I120&" "&J120 -> 5 0913 03 11 | L120: Mentőápoló | M120: 5 | N120: 2 | O120: 5 | P120: =IF(D120=4,VLOOKUP(C120,Szakmaszorzók!$B$2:$D$25,2,0),VLOOKUP(C120,Szakmaszorzók!$B$2:$D$25,3,0)) -> 2.2 | Q120: ='Támogatás szorzat tényezői'!$C$2*'Támogatás szorzat tényezői'!$C$3*N120*P120 -> 792000 | R120: ='Támogatás szorzat tényezői'!$C$2*'Támogatás szorzat tényezői'!$C$3*P120 -> 396000
A121: 130 | B121: =L121 -> Mezőgazdasági gépész | C121: Mezőgazdaság és erdészet | D121: 4 | E121: 810 | F121: 17 | G121: 7 | H121: =IF(E121<1000,"0"&E121,E121) -> 0810 | I121: =IF(F121<10,"0"&F121,F121) -> 17 | J121: =IF(G121<10,"0"&G121,G121) -> 07 | K121: =D121&" "&H121&" "&I121&" "&J121 -> 4 0810 17 07 | L121: Mezőgazdasági gépész | M121: 3 | N121: 2 | O121: 4 | P121: =IF(D121=4,VLOOKUP(C121,Szakmaszorzók!$B$2:$D$25,2,0),VLOOKUP(C121,Szakmaszorzók!$B$2:$D$25,3,0)) -> 2.42 | Q121: ='Támogatás szorzat tényezői'!$C$2*'Támogatás szorzat tényezői'!$C$3*N121*P121 -> 871200 | R121: ='Támogatás szorzat tényezői'!$C$2*'Támogatás szorzat tényezői'!$C$3*P121 -> 435600
A122: 131 | B122: =L122 -> Mezőgazdasági gépésztechnikus | C122: Mezőgazdaság és erdészet | D122: 5 | E122: 810 | F122: 17 | G122: 8 | H122: =IF(E122<1000,"0"&E122,E122) -> 0810 | I122: =IF(F122<10,"0"&F122,F122) -> 17 | J122: =IF(G122<10,"0"&G122,G122) -> 08 | K122: =D122&" "&H122&" "&I122&" "&J122 -> 5 0810 17 08 | L122: Mezőgazdasági gépésztechnikus | M122: 5 | N122: 2 | O122: 5 | P122: =IF(D122=4,VLOOKUP(C122,Szakmaszorzók!$B$2:$D$25,2,0),VLOOKUP(C122,Szakmaszorzók!$B$2:$D$25,3,0)) -> 2.85 | Q122: ='Támogatás szorzat tényezői'!$C$2*'Támogatás szorzat tényezői'!$C$3*N122*P122 -> 1026000 | R122: ='Támogatás szorzat tényezői'!$C$2*'Támogatás szorzat tényezői'!$C$3*P122 -> 513000
A123: 132 | B123: =L123 -> Mezőgazdasági technikus | C123: Mezőgazdaság és erdészet | D123: 5 | E123: 811 | F123: 17 | G123: 9 | H123: =IF(E123<1000,"0"&E123,E123) -> 0811 | I123: =IF(F123<10,"0"&F123,F123) -> 17 | J123: =IF(G123<10,"0"&G123,G123) -> 09 | K123: =D123&" "&H123&" "&I123&" "&J123 -> 5 0811 17 09 | L123: Mezőgazdasági technikus | M123: 5 | N123: 2 | O123: 5 | P123: =IF(D123=4,VLOOKUP(C123,Szakmaszorzók!$B$2:$D$25,2,0),VLOOKUP(C123,Szakmaszorzók!$B$2:$D$25,3,0)) -> 2.85 | Q123: ='Támogatás szorzat tényezői'!$C$2*'Támogatás szorzat tényezői'!$C$3*N123*P123 -> 1026000 | R123: ='Támogatás szorzat tényezői'!$C$2*'Támogatás szorzat tényezői'!$C$3*P123 -> 513000
A124: 119 | B124: =L124 -> Mozgókép- és animációkészítő | C124: Kreatív | D124: 5 | E124: 211 | F124: 16 | G124: 10 | H124: =IF(E124<1000,"0"&E124,E124) -> 0211 | I124: =IF(F124<10,"0"&F124,F124) -> 16 | J124: =IF(G124<10,"0"&G124,G124) -> 10 | K124: =D124&" "&H124&" "&I124&" "&J124 -> 5 0211 16 10 | L124: Mozgókép- és animációkészítő | M124: 5 | N124: 2 | O124: 5 | P124: =IF(D124=4,VLOOKUP(C124,Szakmaszorzók!$B$2:$D$25,2,0),VLOOKUP(C124,Szakmaszorzók!$B$2:$D$25,3,0)) -> 2.42 | Q124: ='Támogatás szorzat tényezői'!$C$2*'Támogatás szorzat tényezői'!$C$3*N124*P124 -> 871200 | R124: ='Támogatás szorzat tényezői'!$C$2*'Támogatás szorzat tényezői'!$C$3*P124 -> 435600
A125: 171 | B125: =L125 -> Műanyag-feldolgozó | C125: Vegyipar | D125: 4 | E125: 722 | F125: 24 | G125: 4 | H125: =IF(E125<1000,"0"&E125,E125) -> 0722 | I125: =IF(F125<10,"0"&F125,F125) -> 24 | J125: =IF(G125<10,"0"&G125,G125) -> 04 | K125: =D125&" "&H125&" "&I125&" "&J125 -> 4 0722 24 04 | L125: Műanyag-feldolgozó | M125: 3 | N125: 2 | O125: 4 | P125: =IF(D125=4,VLOOKUP(C125,Szakmaszorzók!$B$2:$D$25,2,0),VLOOKUP(C125,Szakmaszorzók!$B$2:$D$25,3,0)) -> 2.42 | Q125: ='Támogatás szorzat tényezői'!$C$2*'Támogatás szorzat tényezői'!$C$3*N125*P125 -> 871200 | R125: ='Támogatás szorzat tényezői'!$C$2*'Támogatás szorzat tényezői'!$C$3*P125 -> 435600
A126: 172 | B126: =L126 -> Műanyag-feldolgozó technikus | C126: Vegyipar | D126: 5 | E126: 722 | F126: 24 | G126: 5 | H126: =IF(E126<1000,"0"&E126,E126) -> 0722 | I126: =IF(F126<10,"0"&F126,F126) -> 24 | J126: =IF(G126<10,"0"&G126,G126) -> 05 | K126: =D126&" "&H126&" "&I126&" "&J126 -> 5 0722 24 05 | L126: Műanyag-feldolgozó technikus | M126: 5 | N126: 2 | O126: 5 | P126: =IF(D126=4,VLOOKUP(C126,Szakmaszorzók!$B$2:$D$25,2,0),VLOOKUP(C126,Szakmaszorzók!$B$2:$D$25,3,0)) -> 2.85 | Q126: ='Támogatás szorzat tényezői'!$C$2*'Támogatás szorzat tényezői'!$C$3*N126*P126 -> 1026000 | R126: ='Támogatás szorzat tényezői'!$C$2*'Támogatás szorzat tényezői'!$C$3*P126 -> 513000
A127: 120 | B127: =L127 -> Nyomdaipari technikus | C127: Kreatív | D127: 5 | E127: 211 | F127: 16 | G127: 11 | H127: =IF(E127<1000,"0"&E127,E127) -> 0211 | I127: =IF(F127<10,"0"&F127,F127) -> 16 | J127: =IF(G127<10,"0"&G127,G127) -> 11 | K127: =D127&" "&H127&" "&I127&" "&J127 -> 5 0211 16 11 | L127: Nyomdaipari technikus | M127: 5 | N127: 2 | O127: 5 | P127: =IF(D127=4,VLOOKUP(C127,Szakmaszorzók!$B$2:$D$25,2,0),VLOOKUP(C127,Szakmaszorzók!$B$2:$D$25,3,0)) -> 2.42 | Q127: ='Támogatás szorzat tényezői'!$C$2*'Támogatás szorzat tényezői'!$C$3*N127*P127 -> 871200 | R127: ='Támogatás szorzat tényezői'!$C$2*'Támogatás szorzat tényezői'!$C$3*P127 -> 435600
A128: 121 | B128: =L128 -> Nyomdász | C128: Kreatív | D128: 4 | E128: 211 | F128: 16 | G128: 12 | H128: =IF(E128<1000,"0"&E128,E128) -> 0211 | I128: =IF(F128<10,"0"&F128,F128) -> 16 | J128: =IF(G128<10,"0"&G128,G128) -> 12 | K128: =D128&" "&H128&" "&I128&" "&J128 -> 4 0211 16 12 | L128: Nyomdász | M128: 3 | N128: 2 | O128: 4 | P128: =IF(D128=4,VLOOKUP(C128,Szakmaszorzók!$B$2:$D$25,2,0),VLOOKUP(C128,Szakmaszorzók!$B$2:$D$25,3,0)) -> 2.42 | Q128: ='Támogatás szorzat tényezői'!$C$2*'Támogatás szorzat tényezői'!$C$3*N128*P128 -> 871200 | R128: ='Támogatás szorzat tényezői'!$C$2*'Támogatás szorzat tényezői'!$C$3*P128 -> 435600
A129: 11 | B129: =L129 -> Optikaitermék-készítő | C129: Egészségügyi technika | D129: 4 | E129: 914 | F129: 2 | G129: 2 | H129: =IF(E129<1000,"0"&E129,E129) -> 0914 | I129: =IF(F129<10,"0"&F129,F129) -> 02 | J129: =IF(G129<10,"0"&G129,G129) -> 02 | K129: =D129&" "&H129&" "&I129&" "&J129 -> 4 0914 02 02 | L129: Optikaitermék-készítő | M129: 3 | N129: 2 | O129: 5 | P129: =IF(D129=4,VLOOKUP(C129,Szakmaszorzók!$B$2:$D$25,2,0),VLOOKUP(C129,Szakmaszorzók!$B$2:$D$25,3,0)) -> 2.85 | Q129: ='Támogatás szorzat tényezői'!$C$2*'Támogatás szorzat tényezői'!$C$3*N129*P129 -> 1026000 | R129: ='Támogatás szorzat tényezői'!$C$2*'Támogatás szorzat tényezői'!$C$3*P129 -> 513000
A130: 12 | B130: =L130 -> Optikus | C130: Egészségügyi technika | D130: 5 | E130: 914 | F130: 2 | G130: 3 | H130: =IF(E130<1000,"0"&E130,E130) -> 0914 | I130: =IF(F130<10,"0"&F130,F130) -> 02 | J130: =IF(G130<10,"0"&G130,G130) -> 03 | K130: =D130&" "&H130&" "&I130&" "&J130 -> 5 0914 02 03 | L130: Optikus | M130: - | N130: 2 | O130: 6 | P130: =IF(D130=4,VLOOKUP(C130,Szakmaszorzók!$B$2:$D$25,2,0),VLOOKUP(C130,Szakmaszorzók!$B$2:$D$25,3,0)) -> 2.85 | Q130: ='Támogatás szorzat tényezői'!$C$2*'Támogatás szorzat tényezői'!$C$3*N130*P130 -> 1026000 | R130: ='Támogatás szorzat tényezői'!$C$2*'Támogatás szorzat tényezői'!$C$3*P130 -> 513000
A131: 18 | B131: =L131 -> Ortopédiai műszerész | C131: Egészségügy | D131: 5 | E131: 915 | F131: 3 | G131: 6 | H131: =IF(E131<1000,"0"&E131,E131) -> 0915 | I131: =IF(F131<10,"0"&F131,F131) -> 03 | J131: =IF(G131<10,"0"&G131,G131) -> 06 | K131: =D131&" "&H131&" "&I131&" "&J131 -> 5 0915 03 06 | L131: Ortopédiai műszerész | N131: 2 | O131: 5 | P131: =IF(D131=4,VLOOKUP(C131,Szakmaszorzók!$B$2:$D$25,2,0),VLOOKUP(C131,Szakmaszorzók!$B$2:$D$25,3,0)) -> 2.2 | Q131: ='Támogatás szorzat tényezői'!$C$2*'Támogatás szorzat tényezői'!$C$3*N131*P131 -> 792000 | R131: ='Támogatás szorzat tényezői'!$C$2*'Támogatás szorzat tényezői'!$C$3*P131 -> 396000
A132: 9 | B132: =L132 -> Öntvénykészítő | C132: Bányászat és kohászat | D132: 4 | E132: 715 | F132: 1 | G132: 7 | H132: =IF(E132<1000,"0"&E132,E132) -> 0715 | I132: =IF(F132<10,"0"&F132,F132) -> 01 | J132: =IF(G132<10,"0"&G132,G132) -> 07 | K132: =D132&" "&H132&" "&I132&" "&J132 -> 4 0715 01 07 | L132: Öntvénykészítő | M132: 3 | N132: 2 | O132: 5 | P132: =IF(D132=4,VLOOKUP(C132,Szakmaszorzók!$B$2:$D$25,2,0),VLOOKUP(C132,Szakmaszorzók!$B$2:$D$25,3,0)) -> 2.42 | Q132: ='Támogatás szorzat tényezői'!$C$2*'Támogatás szorzat tényezői'!$C$3*N132*P132 -> 871200 | R132: ='Támogatás szorzat tényezői'!$C$2*'Támogatás szorzat tényezői'!$C$3*P132 -> 435600
A133: 162 | B133: =L133 -> Panziós-fogadós | C133: Turizmus-vendéglátás | D133: 4 | E133: 1013 | F133: 23 | G133: 3 | H133: =IF(E133<1000,"0"&E133,E133) -> 1013 | I133: =IF(F133<10,"0"&F133,F133) -> 23 | J133: =IF(G133<10,"0"&G133,G133) -> 03 | K133: =D133&" "&H133&" "&I133&" "&J133 -> 4 1013 23 03 | L133: Panziós-fogadós | M133: 3 | N133: 2 | O133: 6 | P133: =IF(D133=4,VLOOKUP(C133,Szakmaszorzók!$B$2:$D$25,2,0),VLOOKUP(C133,Szakmaszorzók!$B$2:$D$25,3,0)) -> 2.2 | Q133: ='Támogatás szorzat tényezői'!$C$2*'Támogatás szorzat tényezői'!$C$3*N133*P133 -> 792000 | R133: ='Támogatás szorzat tényezői'!$C$2*'Támogatás szorzat tényezői'!$C$3*P133 -> 396000
A134: 173 | B134: =L134 -> Papírgyártó és -feldolgozó, csomagolószer-gyártó | C134: Vegyipar | D134: 4 | E134: 722 | F134: 24 | G134: 6 | H134: =IF(E134<1000,"0"&E134,E134) -> 0722 | I134: =IF(F134<10,"0"&F134,F134) -> 24 | J134: =IF(G134<10,"0"&G134,G134) -> 06 | K134: =D134&" "&H134&" "&I134&" "&J134 -> 4 0722 24 06 | L134: Papírgyártó és -feldolgozó, csomagolószer-gyártó | M134: 3 | N134: 2 | O134: 5 | P134: =IF(D134=4,VLOOKUP(C134,Szakmaszorzók!$B$2:$D$25,2,0),VLOOKUP(C134,Szakmaszorzók!$B$2:$D$25,3,0)) -> 2.42 | Q134: ='Támogatás szorzat tényezői'!$C$2*'Támogatás szorzat tényezői'!$C$3*N134*P134 -> 871200 | R134: ='Támogatás szorzat tényezői'!$C$2*'Támogatás szorzat tényezői'!$C$3*P134 -> 435600
A135: 174 | B135: =L135 -> Papírgyártó és -feldolgozó, csomagolószer-gyártó technikus | C135: Vegyipar | D135: 5 | E135: 722 | F135: 24 | G135: 7 | H135: =IF(E135<1000,"0"&E135,E135) -> 0722 | I135: =IF(F135<10,"0"&F135,F135) -> 24 | J135: =IF(G135<10,"0"&G135,G135) -> 07 | K135: =D135&" "&H135&" "&I135&" "&J135 -> 5 0722 24 07 | L135: Papírgyártó és -feldolgozó, csomagolószer-gyártó technikus | M135: 5 | N135: 2 | O135: 6 | P135: =IF(D135=4,VLOOKUP(C135,Szakmaszorzók!$B$2:$D$25,2,0),VLOOKUP(C135,Szakmaszorzók!$B$2:$D$25,3,0)) -> 2.85 | Q135: ='Támogatás szorzat tényezői'!$C$2*'Támogatás szorzat tényezői'!$C$3*N135*P135 -> 1026000 | R135: ='Támogatás szorzat tényezői'!$C$2*'Támogatás szorzat tényezői'!$C$3*P135 -> 513000
A136: 40 | B136: =L136 -> Pék | C136: Élelmiszeripar | D136: 4 | E136: 721 | F136: 5 | G136: 11 | H136: =IF(E136<1000,"0"&E136,E136) -> 0721 | I136: =IF(F136<10,"0"&F136,F136) -> 05 | J136: =IF(G136<10,"0"&G136,G136) -> 11 | K136: =D136&" "&H136&" "&I136&" "&J136 -> 4 0721 05 11 | L136: Pék | M136: 3 | N136: 2 | O136: 4 | P136: =IF(D136=4,VLOOKUP(C136,Szakmaszorzók!$B$2:$D$25,2,0),VLOOKUP(C136,Szakmaszorzók!$B$2:$D$25,3,0)) -> 2.2 | Q136: ='Támogatás szorzat tényezői'!$C$2*'Támogatás szorzat tényezői'!$C$3*N136*P136 -> 792000 | R136: ='Támogatás szorzat tényezői'!$C$2*'Támogatás szorzat tényezői'!$C$3*P136 -> 396000
A137: 41 | B137: =L137 -> Pék-cukrász | C137: Élelmiszeripar | D137: 4 | E137: 721 | F137: 5 | G137: 12 | H137: =IF(E137<1000,"0"&E137,E137) -> 0721 | I137: =IF(F137<10,"0"&F137,F137) -> 05 | J137: =IF(G137<10,"0"&G137,G137) -> 12 | K137: =D137&" "&H137&" "&I137&" "&J137 -> 4 0721 05 12 | L137: Pék-cukrász | M137: 3 | N137: 2 | O137: 4 | P137: =IF(D137=4,VLOOKUP(C137,Szakmaszorzók!$B$2:$D$25,2,0),VLOOKUP(C137,Szakmaszorzók!$B$2:$D$25,3,0)) -> 2.2 | Q137: ='Támogatás szorzat tényezői'!$C$2*'Támogatás szorzat tényezői'!$C$3*N137*P137 -> 792000 | R137: ='Támogatás szorzat tényezői'!$C$2*'Támogatás szorzat tényezői'!$C$3*P137 -> 396000
A138: 71 | B138: =L138 -> Pénzügyi-számviteli ügyintéző | C138: Gazdálkodás és menedzsment | D138: 5 | E138: 411 | F138: 9 | G138: 1 | H138: =IF(E138<1000,"0"&E138,E138) -> 0411 | I138: =IF(F138<10,"0"&F138,F138) -> 09 | J138: =IF(G138<10,"0"&G138,G138) -> 01 | K138: =D138&" "&H138&" "&I138&" "&J138 -> 5 0411 09 01 | L138: Pénzügyi-számviteli ügyintéző | M138: 5 | N138: 2 | O138: 6 | P138: =IF(D138=4,VLOOKUP(C138,Szakmaszorzók!$B$2:$D$25,2,0),VLOOKUP(C138,Szakmaszorzók!$B$2:$D$25,3,0)) -> 2.2 | Q138: ='Támogatás szorzat tényezői'!$C$2*'Támogatás szorzat tényezői'!$C$3*N138*P138 -> 792000 | R138: ='Támogatás szorzat tényezői'!$C$2*'Támogatás szorzat tényezői'!$C$3*P138 -> 396000
A139: 19 | B139: =L139 -> Perioperatív szakasszisztens | C139: Egészségügy | D139: 5 | E139: 910 | F139: 3 | G139: 7 | H139: =IF(E139<1000,"0"&E139,E139) -> 0910 | I139: =IF(F139<10,"0"&F139,F139) -> 03 | J139: =IF(G139<10,"0"&G139,G139) -> 07 | K139: =D139&" "&H139&" "&I139&" "&J139 -> 5 0910 03 07 | L139: Perioperatív szakasszisztens | M139: 6 | N139: 3 | O139: 5 | P139: =IF(D139=4,VLOOKUP(C139,Szakmaszorzók!$B$2:$D$25,2,0),VLOOKUP(C139,Szakmaszorzók!$B$2:$D$25,3,0)) -> 2.2 | Q139: ='Támogatás szorzat tényezői'!$C$2*'Támogatás szorzat tényezői'!$C$3*N139*P139 -> 1188000 | R139: ='Támogatás szorzat tényezői'!$C$2*'Támogatás szorzat tényezői'!$C$3*P139 -> 396000
A140: 163 | B140: =L140 -> Pincér - vendégtéri szakember | C140: Turizmus-vendéglátás | D140: 4 | E140: 1013 | F140: 23 | G140: 4 | H140: =IF(E140<1000,"0"&E140,E140) -> 1013 | I140: =IF(F140<10,"0"&F140,F140) -> 23 | J140: =IF(G140<10,"0"&G140,G140) -> 04 | K140: =D140&" "&H140&" "&I140&" "&J140 -> 4 1013 23 04 | L140: Pincér - vendégtéri szakember | M140: 3 | N140: 2 | O140: 5 | P140: =IF(D140=4,VLOOKUP(C140,Szakmaszorzók!$B$2:$D$25,2,0),VLOOKUP(C140,Szakmaszorzók!$B$2:$D$25,3,0)) -> 2.2 | Q140: ='Támogatás szorzat tényezői'!$C$2*'Támogatás szorzat tényezői'!$C$3*N140*P140 -> 792000 | R140: ='Támogatás szorzat tényezői'!$C$2*'Támogatás szorzat tényezői'!$C$3*P140 -> 396000
A141: 108 | B141: =L141 -> Postai üzleti ügyintéző | C141: Közlekedés és szállítmányozás | D141: 5 | E141: 1041 | F141: 15 | G141: 7 | H141: =IF(E141<1000,"0"&E141,E141) -> 1041 | I141: =IF(F141<10,"0"&F141,F141) -> 15 | J141: =IF(G141<10,"0"&G141,G141) -> 07 | K141: =D141&" "&H141&" "&I141&" "&J141 -> 5 1041 15 07 | L141: Postai üzleti ügyintéző | M141: 5 | N141: 2 | O141: 5 | P141: =IF(D141=4,VLOOKUP(C141,Szakmaszorzók!$B$2:$D$25,2,0),VLOOKUP(C141,Szakmaszorzók!$B$2:$D$25,3,0)) -> 2.2 | Q141: ='Támogatás szorzat tényezői'!$C$2*'Támogatás szorzat tényezői'!$C$3*N141*P141 -> 792000 | R141: ='Támogatás szorzat tényezői'!$C$2*'Támogatás szorzat tényezői'!$C$3*P141 -> 396000
A142: 20 | B142: =L142 -> Radiográfiai szakasszisztens | C142: Egészségügy | D142: 5 | E142: 914 | F142: 3 | G142: 8 | H142: =IF(E142<1000,"0"&E142,E142) -> 0914 | I142: =IF(F142<10,"0"&F142,F142) -> 03 | J142: =IF(G142<10,"0"&G142,G142) -> 08 | K142: =D142&" "&H142&" "&I142&" "&J142 -> 5 0914 03 08 | L142: Radiográfiai szakasszisztens | M142: 6 | N142: 3 | O142: 6 | P142: =IF(D142=4,VLOOKUP(C142,Szakmaszorzók!$B$2:$D$25,2,0),VLOOKUP(C142,Szakmaszorzók!$B$2:$D$25,3,0)) -> 2.2 | Q142: ='Támogatás szorzat tényezői'!$C$2*'Támogatás szorzat tényezői'!$C$3*N142*P142 -> 1188000 | R142: ='Támogatás szorzat tényezői'!$C$2*'Támogatás szorzat tényezői'!$C$3*P142 -> 396000
